Workbook
Name _GoBack: '10'!$C$7
Name _GoBack: '17'!$C$8

Sheet Záměry, garanti, finance 
A1: Stav k 20.2.2015 | E1: OPZ | I1: IROP
A2: Číslo a název projektového záměru | B2: Garant | D2: 2015 | E2: 2016 | F2: 2017-2020 | H2: 2015 | I2: 2016 | J2: 2017-2020
A3: 1) Úplné elektronické podání | B3: ředitel OeG | D3: ='01 '!H17 -> 7.5 | E3: ='01 '!I17 -> 12.5 | F3: ='01 '!J17 -> 2 | H3: ='01 '!H19 -> 0 | I3: ='01 '!I19 -> 80 | J3: ='01 '!J19 -> 180.5
A4: 2) Elektronizace podpůrných procesů | B4: ředitel OPRE | D4: ='02 '!H15 -> 0 | E4: ='02 '!I15 -> 0 | F4: ='02 '!J15 -> 0 | H4: ='02 '!H17 -> 2 | I4: ='02 '!I17 -> 4 | J4: ='02 '!J17 -> 2828
A5: 3) Elektronizace odvětví | B5: ředitel LG
A6: 4) Zpřístupnění obsahu, transparentnost, opendata | B6: ředitel OHA | D6: ='04'!H14 -> 0.5 | E6: ='04'!I14 -> 181 | F6: ='04'!J14 -> 3.5 | H6: ='04'!H16 -> 0 | I6: ='04'!I16 -> 15 | J6: ='04'!J16 -> 0
A7: 5) Digitalizace obsahu | B7: ředitel OAS
A8: 6) Archivace | B8: ředitel OAS
A9: 7) Kontaktní místa | B9: ředitel OKAP | D9: ='07'!H12 -> 0 | E9: ='07'!I12 -> 0 | F9: ='07'!J12 -> 0 | H9: ='07'!H14 -> 0 | I9: ='07'!I14 -> 0 | J9: ='07'!J10 -> 0
A10: 8) Centrální sdílené služby | B10: ředitel OeG | D10: ='08 '!H10 -> 0 | E10: ='08 '!I10 -> 0 | F10: ='08 '!J10 -> 0 | H10: ='08 '!H12 -> 5 | I10: ='08 '!I12 -> 0 | J10: ='08 '!J12 -> 35
A11: 9) Elektronická identita | B11: ředitel OHA | D11: ='09'!H9 -> 0 | E11: ='09'!I9 -> 0 | F11: ='09'!J9 -> 0 | H11: ='09'!H11 -> 0 | I11: ='09'!I11 -> 0 | J11: ='09'!J11 -> 0
A12: 10) Elektronické doručování a ekvivalence dokumentů | B12: ředitel OeG | D12: ='10'!H12 -> 11.5 | E12: ='10'!I12 -> 159 | F12: ='10'!J12 -> 67.5 | H12: ='10'!H14 -> 0 | I12: ='10'!I14 -> 0 | J12: ='10'!J14 -> 0
A13: 11) Kybernetická bezpečnost | B13: ředitel OKB | D13: ='11'!H13 -> 2.5 | E13: ='11'!I13 -> 4.5 | F13: ='11'!J13 -> 0 | H13: ='11'!H15 -> 50 | I13: ='11'!I15 -> 75 | J13: ='11'!J15 -> 15
A14: 12) Bezpečnost a krizové řízení | B14: 1. NMV | D14: ='12'!H15 -> 0 | E14: ='12'!I15 -> 5 | F14: ='12'!J15 -> 0 | H14: ='12'!H17 -> 0 | I14: ='12'!I17 -> 0 | J14: ='12'!J17 -> 100
A15: 13) Prostorová data a služby | B15: ředitel OeG | D15: ='13'!H16 -> 8 | E15: ='13'!I16 -> 14 | F15: ='13'!J16 -> 0 | H15: ='13'!H18 -> 0 | I15: ='13'!I18 -> 45 | J15: ='13'!J18 -> 280
A16: 14) Technologická a komunikační infrastruktura | B16: ředitel SIK | D16: ='14'!H13 -> 0 | E16: ='14'!I13 -> 0 | F16: ='14'!J13 -> 0 | H16: ='14'!H15 -> 0 | I16: ='14'!I15 -> 1210 | J16: ='14'!J15 -> 2410
A17: 15) Informační a ICT gramotnost a systémy pro vzdělávání | B17: ???
A18: 16) Rozšíření, propojení a konsolidace datového fondu veřejné správy a jeho efektivní a bezpečné využívání dle jednotlivých agend | B18: ředitel SZR | D18: ='16'!H14 -> 0 | E18: ='16'!I14 -> 0 | F18: ='16'!J14 -> 0 | H18: ='16'!H16 -> 10 | I18: ='16'!I16 -> 40 | J18: ='16'!J16 -> 50
A19: 17) Správa, řízení eGovernmentu a systémy pro řízení | B19: ředitel OHA | D19: ='17'!H12 -> 0 | E19: ='17'!I12 -> 0 | F19: ='17'!J12 -> 0 | H19: ='17'!H14 -> 0 | I19: ='17'!I14 -> 0 | J19: ='19'!J14 -> 0.7
A20: 18) Modernizace veřejné správy | B20: NMV pro VS | D20: ='18'!H9 -> 2.3 | E20: ='18'!I9 -> 5.6 | F20: ='18'!J9 -> 12.6 | H20: ='18'!H11 -> 0 | I20: ='18'!I11 -> 0 | J20: ='18'!J11 -> 0
A21: 19) Revize a optimalizace výkonu veřejné správy v území | B21: NMV pro VS | D21: ='19'!H12 -> 11.1 | E21: ='19'!I12 -> 60 | F21: ='19'!I12 -> 60 | H21: ='19'!H14 -> 0 | I21: ='19'!I14 -> 0 | J21: ='19'!I14 -> 0
A22: 20) Profesionalizace a rozvoj lidských zdrojů ve veřejné správě | B22: NMV pro SS | D22: ='20'!H15 -> 37 | E22: ='20'!I15 -> 209 | F22: ='20'!J15 -> 290 | H22: ='20'!H17 -> 12 | I22: ='20'!I17 -> 53 | J22: ='20'!J17 -> 97
A23: 21) Virtualizace | B23: ???
A25: Celkem součet za období a program | D25: =SUM(D3:D24) -> 80.4 | E25: =SUM(E3:E24) -> 650.6 | F25: =SUM(F3:F24) -> 435.6 | H25: =SUM(H3:H24) -> 79 | I25: =SUM(I3:I24) -> 1522 | J25: =SUM(J3:J24) -> 5996.2

Sheet 01 
H1: Příloha projektové karty 01
A3: Projektový záměr č: 01 | C3: Úplné elektronické podání | H3: Garant: | I3: ředitel OeG
A5: č. | B5: Název projektu | C5: Popis projektu | D5: Vazba na strategie/cíle | E5: Typ projektu | F5: Segment | G5: Zdroj | H5: 2015 v mil.Kč | I5: 2016 v mil.Kč | J5: 2017-20 v mil.Kč
A6: 1 | B6: Vytvoření podpůrných služeb pro úplné elektronické podání na úrovni ústředních správních úřadů | C6: Definice propojených datových zdrojů referenčních i nereferenčních údajů pro předvyplňování podání vůči veřejné správě a vytvoření podpůrných služeb, které na úrovni ústředních správních úřadů umožní realizaci úplného elektronického podání. Jedná se o takové služby, které umožní příjem, předvyplnění a zpracování úplného elektronického podání, včetně notifikací a předávání informací o stavu zpracování a vytvoření výsledného rozhodnutí, včetně doručení. | D6: IP SC 3.1 Dobudování funkčního rámce eGovernmentu 10. Zajištění úplného elektronického podání vybraných agend | E6: Typový | G6: OPZ | H6: 2.5 | I6: 7.5 | J6: 0
A7: 2 | B7: Vytvoření úplného elektronického podání u plně automatizovaného úkonu agendy nebo agendy | C7: Realizace úplného elektronického podání u takových úkonů nebo agend, které jsou (již v současnosti) plně automatizovány. Jedná se například o jednodušší úkony typu žádost o údaje či výpisy z informačních systémů veřejné správy nebo o úkony prvoinstančního elektronického podání bez nutnosti dokládání dalších údajů s asynchronním principem vyřízení úkonu (zejm. s využitím službyCzechPOINT@home), např. potvrzení o bezdlužnosti atp. | D7: IP SC 3.1 Dobudování funkčního rámce eGovernmentu 10. Zajištění úplného elektronického podání vybraných agend | E7: Typový | G7: IROP | H7: 1.5 | I7: 5 | J7: 5
A8: 3 | B8: Vytvoření úplného elektronického podání v souladu se standardem agendy | C8: Realizace úplného elektronického podání u takových úkonů nebo agend, které jsou standardizovány v souladu s metodikou Procesního modelování agend. Jedná se o složitější agendy, u kterých se předpokládá vícenásobná interakce s úřadem, který výkon agendy zajišťuje. | D8: IP SC 3.1 Dobudování funkčního rámce eGovernmentu 10. Zajištění úplného elektronického podání vybraných agend | E8: Typový | G8: IROP | H8: 0 | I8: 10 | J8: 30
A9: 4 | B9: Vytvoření metodického rámce pro úplné elektronické podání | C9: Definice standardů dokumentového i strukturovaného ztvárnění elektronického podání subjektem práva vůči veřejné správě. Definice standardů pro příjem a zpracování úplného elektronického podání včetně definice mechanismů pro podporu tvorby rozhodnutí ve správních a podobných řízeních a jejich elektronické či hybridního doručení. Definice mechanismu podporující informovanost subjektu práva o stavu jednotlivých podání a on-line sledování podání. Výběr vhodných agend pro realizaci úplného elektronického podání. Definice požadavků na Centrální informační systémy z hlediska zajištění kompatibility s úplným elektronickým podáním. | D9: IP SC 3.1 Dobudování funkčního rámce eGovernmentu 10. Zajištění úplného elektronického podání vybraných agend | E9: Indivivuální | G9: OPZ | H9: 3.5 | I9: 5 | J9: 2
A10: 9 | B10: ISDS / PVS a podpora mobilních technologií | C10: V souvislosti s předpokládaným rozvojem mobilních technologií bude nutné implementovat plnou podporu přístupu k centrálnímu samoobslužnému místu vč. datové schránky z mobilních zařízení. | D10: IP SC 3.1: 10.Zajištění úplného elektronického podání vybraných agend | E10: Indivivuální | G10: IROP | H10: 0 | I10: 0 | J10: 25 | K10: Nevíme jak investovat do ISDS za současné smlouvy
A11: 4 | B11: Rozšíření funkcionality PVS (moje data, moje formuláře, územní působnost úřadů) - Vytvoření centrálního samoobslužného místa | C11: Shrnutí všech potřebných roozšíření a evidencí v rámci PVS jako je registr životních situací, elektronických služeb atd. | D11: IP SC 3.1: 10.Zajištění úplného elektronického podání vybraných agend | E11: Indivivuální | G11: IROP | H11: 0 | I11: 0 | J11: 50
A12: 5 | B12: Registr životních situací | C12: zajištění výroby formulářů, rozumný způsob získávání podkladů od úřadů | D12: IP SC 3.1: 10.Zajištění úplného elektronického podání vybraných agend | E12: Indivivuální | G12: IROP | H12: 0 | I12: 0 | J12: 30
A13: 6 | B13: Úložiště formulářů pro úplné ePodání | C13: Půjde o rozvoj systému ZR RPP, tak, aby byl AIS Působnostní alternativním zdrojem smart formulářů (vedle PVS) pro konkrétní agendy a konkrétní OVM | D13: IP SC 3.1 Dobudování funkčního rámce eGovernmentu 10. Zajištění úplného elektronického podání vybraných agend | E13: Indivivuální | G13: IROP | H13: 0 | I13: 10 | J13: 40
A14: 7 | B14: Mandátní registr | C14: Rozšíření RPP o přístup všech subjektů ke všem údajům, které o nich vede veřejná moc. Ověřit, zda není duplicita s CzP, PVS? | D14: IP SC 3.1 Dobudování funkčního rámce eGovernmentu 10. Zajištění úplného elektronického podání vybraných agend | E14: Indivivuální | G14: IROP | H14: 0 | I14: 50 | J14: 50
A15: 8 | B15: Vytvoření katalogu služeb veřejné správy v návaznosti na projekty RPP a PMA | C15: Provedení analýzy a návazné implementace, které zajistí Vytvoření katalogu služeb veřejné správy v návaznosti na projekty RPP a PMA. Podmínkou pro provázanost s ostatními systémy eGovernmentu je obdobný postup při vytvoření katalogu sdílených služeb informační společnosti v návaznosti na služby eGSB a ISZR a katalogu on-line služeb VS v návaznosti na eIDAS vč. související infrastruktury. | D15: IP SC 1.1, 2.4 10. Zajištění úplného elektronického podání vybraných agend | E15: Individuální | G15: OPZ - 2015, dále IROP | H15: 1.5 | I15: 15 | J15: 8.5
B17: OPZ | H17: =H6+H9+H15 -> 7.5 | I17: =I6+I9 -> 12.5 | J17: =J6+J9 -> 2
B19: IROP | H19: =H10+H13+H14 -> 0 | I19: =I9+I10+I12+I13+I14+I15 -> 80 | J19: =J9+J11+J12+J13+J14+J15 -> 180.5

Sheet 02 
H1: Příloha projektové karty 02
A3: Projektový záměr č: 2 | C3: Elektronizace podpůrných procesů | H3: Garant: | I3: ředitel OPRE
A5: č. | B5: Název projektu | C5: Popis projektu | D5: Vazba na strategie/cíle | E5: Typ projektu | F5: Segment | G5: Zdroj | H5: 2015 v mil.Kč | I5: 2016 v mil.Kč | J5: 2017-20 v mil.Kč
A6: 1 | B6: Analýza projektu IMC EKIS | C6: Analýza pro projekt 2.2 - in-memory computing + cloud | E6: Indivivuální | F6: MV | G6: IROP | H6: 0 | I6: 2 | J6: 0
A7: 2 | B7: Technologický upgrade systému EKIS (TUPG EKIS) | C7: Realizace technologií cloudu a in-memory computing (SAP HANA) pro EKIS tak, aby byl schopen rozšíření na celou veřejnou správu | D7: Strategický rámec rozvoje veřejné správy České republiky pro období 2014–2020; Cíl: Základní příprava systému MV ČR na plnění úkolu 2.4 v oblastech: • zdokonalení technologie ICT • příprava zabezpečených prostor pro datové centrum • personální zabezpečení řízení rozvoje a provozu JEHRS VS | E7: Indivivuální | F7: MV | G7: IROP | H7: 0 | I7: 0 | J7: 528
A8: 3 | B8: Analýza projektu JEHRS VS | C8: Analýza pro projekt 2.4 - integrace veřej. správy do EKIS | E8: Indivivuální | F8: MV, ÚSU, kraje | G8: IROP | H8: 0 | I8: 0 | J8: 5
A9: 4 | B9: Jednotný ERP a HR systém VS - JEHRS VS (původní název: Rozšíření EKIS MV do SS a VS) | C9: Postupné rozšiřování systému a integrace jednotlivých OSS, (SPO) a VÚSC, realizace po etapách | D9: Strategický rámec rozvoje veřejné správy České republiky pro období 2014–2020; Cíl: Standardizace a jednotná ICT podpora řízení podpůrných procesů typu: • finance (rozpočet, účetnictví, controlling) • majetek (zásoby, movitý i nemovitý celý životní cyklus) • evidence smluv • kontrolní procesy hospodaření • lidské zdroje (personalistika, odměňování, vzdělávání), • elektronické schvalování • zajištění ICT bezpečnosti ERP a HR systémů v souladu se zákonem 181/2014 Sb. | E9: Indivivuální | F9: MV, ÚSU, kraje | G9: IROP | H9: 0 | I9: 0 | J9: 2295
A10: 5 | B10: Podpora elektronizace podpůrných procesů | C10: Podpora elektronizace podpůrných procesů na jednotlivých úrovních veřejné správy v oblasti podpůrných a řídících procesů (spisová služba, veřejné zakázky, procesní řízení, řízení kvality, kontrola, podpora uživatelů…). | D10: Strategický rámec rozvoje veřejné správy České republiky pro období 2014–2020; Cíl:Standardizace podpůrných procesů typu: • oběh a řízení dokumentů • elektronické schvalování • plánování a řízení projektů • řízení procesů • řízení kvality • strategické řízení • řízení vztahů se zákazníky (CRM) | E10: Typový | F10: MV, ÚSU, kraje, obce | G10: IROP | H10: 2 | I10: 2 | J10: 0
A13: *) v návaznosti na fázi realizace cloudu pro IS VS a rozhodnutí, jestli EKIS s technologií in-memory computing (SAP HANA) bude zvlášť nebo v rámci cloudu ISVS
B15: OPZ | H15: 0 | I15: 0 | J15: =0 -> 0
B17: IROP | H17: =H6+H7+H8+H9+H10 -> 2 | I17: =I6+I7+I8+I9+I10 -> 4 | J17: =J6+J7+J8+J9+J10 -> 2828

Sheet 03
H1: Příloha projektové karty 03
A3: Projektový záměr č: 3 | C3: Elektronizace odvětví | H3: Garant: | I3: ředitel OLG
A5: č. | B5: Název projektu | C5: Popis projektu | D5: Vazba na strategie/cíle | E5: Typ projektu | F5: Segment | G5: Zdroj | H5: 2015 v mil.Kč | I5: 2016 v mil.Kč | J5: 2017-20 v mil.Kč
A9: V současné době probíhá identifikace potřeb, předvýzkum a přípravné práce, bude doplněno ve zprávě předložené vládě v roce 2016.
B10: OPZ
B12: IROP

Sheet 04
H1: Příloha projektové karty 04
A3: Projektový záměr č: 4 | C3: Zpřístupnění obsahu, transparentnost, opendata | H3: Garant: | I3: ředitel OHA
A5: č. | B5: Název projektu | C5: Popis projektu | D5: Vazba na strategie/cíle | E5: Typ projektu | F5: Segment | G5: Zdroj | H5: 2015 v mil.Kč | I5: 2016 v mil.Kč | J5: 2017-20 v mil.Kč
A6: 1 | B6: Stanovení základních principů a standardů pro publikaci otevřených dat | C6: Definice licenčního modelu, metodika publikace otevřených dat, využití centrálního katalogu, specifikace provozních podmínek pro přístup k datům atd. | D6: Stanovení principů a způsobů publikace otevřených dat (definice licenčního modelu, metodika publikace otevřených dat) | E6: individuální | F6: MV | G6: OPLLZ | H6: 4 ,1 | I6: 0 | J6: 0
A7: 2 | B7: Podpora OVM při publikaci jejich otevřených dat | C7: Metodická podpora MV poskytovaná OVM (producentům otevřených dat) | D7: Stanovení principů a způsobů publikace otevřených dat (definice licenčního modelu, metodika publikace otevřených dat) | E7: individuální | F7: MV | G7: OPZ | H7: 0.5 | I7: 1 | J7: 3.5
A8: 3 | B8: Vytvoření Centrálního katalogu otevřených dat | C8: Vytvoření a zprovoznění centrálního datového katalogu otevřených dat na PVS | D8: Vytvoření Centrálního katalogu a propojení doménových katalogů otevřených dat | E8: individuální | F8: MV | G8: SR | H8: 0.5 | I8: 1 | J8: 0
A9: 4 | B9: Vytvoření podpůrných služeb pro publikaci centrálních datových fondů | C9: Publikace centrálních datových fondů a otevřeného rozhraní s jejich zpřístupněním do EU | D9: Podpora vybraných - klíčových - subjektů při publikaci otevřených dat | E9: typový | F9: MV, ÚSÚ | G9: OPZ/IROP | H9: 0 | I9: 150 | J9: 250
A10: 5 | B10: Vytvoření podpůrných služeb pro publikaci místních datových fondů | C10: Publikace místních datových fondů a otevřeného rozhraní | D10: Podpora vybraných - klíčových - subjektů při publikaci otevřených dat | E10: typový | F10: MV, OVM | G10: OPZ/IROP | H10: 0 | I10: 30 | J10: 50
A11: 6 | B11: Vytvoření podpůrných služeb pro publikaci smluv | C11: Publikace datového fondu a otevřeného rozhraní pro analýzu uzavřených smluv, objednávek a jejich plnění | D11: Podpora vybraných - klíčových - subjektů při publikaci otevřených dat | E11: typový | F11: MV, OVM | G11: OPZ | H11: 0
A12: 7 | B12: Publikace open dat o agendách veřejné moci do PVS | C12: Rozšíření RPP o výkonnostní metriky agend (např. počty rozhodnutí a úkonů ke změně datového fondu VS) a veřejný přístup k nim prostřednictvím PVS. Půjde o implementaci nástrojů pro prezentaci údajů o agendách orgánů veřejné moci, které umožní operativní a efektivní využití údajů o agendách uložených v RPP | E12: individuální | F12: MV | G12: IROP | I12: 15
B14: OPZ | H14: =H7+H9+H10 -> 0.5 | I14: =I7+I9+I10+I11 -> 181 | J14: =J7+J11 -> 3.5
B16: IROP | H16: =H12 -> 0 | I16: =I12 -> 15 | J16: =J12 -> 0

Sheet 05
H1: Příloha projektové karty 05
A3: Projektový záměr č: 5 | C3: Digitalizace obsahu | H3: Garant: | I3: ředitel OAS
A5: č. | B5: Název projektu | C5: Popis projektu | D5: Vazba na strategie/cíle | E5: Typ projektu | F5: Segment | G5: Zdroj | H5: 2015 v mil.Kč | I5: 2016 v mil.Kč | J5: 2017-20 v mil.Kč
A9: V současné době probíhá identifikace potřeb, předvýzkum a přípravné práce, bude doplněno ve zprávě předložené vládě v roce 2016.
B10: OPZ
B12: IROP

Sheet 06
H1: Příloha projektové karty 06
A3: Projektový záměr č: 6 | C3: Archivace | H3: Garant: | I3: ředitel OAS
A5: č. | B5: Název projektu | C5: Popis projektu | D5: Vazba na strategie/cíle | E5: Typ projektu | F5: Segment | G5: Zdroj | H5: 2015 v mil.Kč | I5: 2016 v mil.Kč | J5: 2017-20 v mil.Kč
A9: V současné době probíhá identifikace potřeb, předvýzkum a přípravné práce, bude doplněno ve zprávě předložené vládě v roce 2016.
B10: OPZ
B12: IROP

Sheet 07
H1: Příloha projektové karty 07
A3: Projektový záměr č: 7 | C3: Kontaktní místa | H3: Garant: | I3: ředitel OKAP
A5: č. | B5: Název projektu | C5: Popis projektu | D5: Vazba na strategie/cíle | E5: Typ projektu | F5: Segment | G5: Zdroj | H5: 2015 v mil.Kč | I5: 2016 v mil.Kč | J5: 2017-20 v mil.Kč
A6: 1 | B6: Nový formulář pro výdej údajů centrálních evidencí | C6: V návaznosti na nové kompozitní služby ZR budou vytvořeny nové formuláře pro přístup OVM i subjektů práva k údajů AISEO, AISCD, AISOP a RRČ. | D6: SC 3.1: 10.Zajištění úplného elektronického podání vybraných agend | E6: Individuální | F6: Centrum | H6: 2
A7: 2 | B7: Czech POINT a podpora mobilních technologií | C7: optimalizace CzP zobrazení přes mobil, tablet,…atd. | D7: SC 3.1: 10.Zajištění úplného elektronického podání vybraných agend | E7: Individuální | F7: Centrum | J7: 10
A8: 3 | B8: Redesign webových aplikací Správa dat, Aktivační portál, Czech POINT | C8: Přepracování webových aplikací s cílem usnadnit jejich ovládání, modernizovat vzhled. | D8: SC 3.1: 10.Zajištění úplného elektronického podání vybraných agend | E8: Individuální | F8: Centrum | J8: 10
A9: 4 | B9: Zavádění nových funkcí CzP | C9: jak pro KMVS, tak CzP@office, CzP@home, vytvoření CzP@pro | D9: SC 3.1: 10.Zajištění úplného elektronického podání vybraných agend | E9: Individuální | F9: Centrum | H9: 20 | I9: 20 | J9: 115
B12: OPZ
B14: IROP

Sheet 08 
H1: Příloha projektové karty 08
A3: Projektový záměr č: 08 | C3: Centrální sdílené služby | H3: Garant: | I3: ředitel OeG
A5: č. | B5: Název projektu | C5: Popis projektu | D5: Vazba na strategie/cíle | E5: Typ projektu | F5: Segment | G5: Zdroj | H5: 2015 v mil.Kč | I5: 2016 v mil.Kč | J5: 2017-20 v mil.Kč
A6: 1 | B6: Zvýšení dostupnosti ISDS/PVS a rozšíření testovací prostředí pro potřeby PVS | D6: IP SC 3.1: 1. Dobudování architektury eGovernmentu | E6: Individuální | G6: IROP | H6: 0 | I6: 0 | J6: 25
A7: 2 | B7: Propojení JIP CzP s ISSS | D7: IP SC 3.1: 1. Dobudování architektury eGovernmentu | E7: Individuální | G7: IROP | H7: 0 | I7: 0 | J7: 10
A8: 3 | B8: Centrála platných kvalifikovaných certifikátů a ověřování důvěryhodnosti el. dokumentů | C8: Aplikace, která by sloužila ověření platnosti certifikátů, ověření oproti seznamu zneplatněných certifikátů (CRL) v rámci ČR a EU. Dále by ověřovala platnost a důvěryhodnost elektronických dokumentů. | D8: IP SC 3.1: 1. Dobudování architektury eGovernmentu | E8: Individuální | G8: IROP | H8: 5 | I8: 0 | J8: 0
B10: OPZ | H10: 0 | I10: 0 | J10: 0
B12: IROP | H12: =H6+H7+H8 -> 5 | I12: =I6+I7+I8 -> 0 | J12: =J6+J7+J8 -> 35

Sheet 09
H1: Příloha projektové karty 09
A3: Projektový záměr č: 9 | C3: Elektronická identita | H3: Garant: | I3: ředitel OHA
A5: č. | B5: Název projektu | C5: Popis projektu | D5: Vazba na strategie/cíle | E5: Typ projektu | F5: Segment | G5: Zdroj | H5: 2015 v mil.Kč | I5: 2016 v mil.Kč | J5: 2017-20 v mil.Kč
A6: 1 | B6: Realizace národního systému elektronické identifikace | C6: Poskytování centrálních služeb elektronické identity | D6: Zavedení elektronické identity fyzické osoby | E6: individuální | F6: MV
A7: 2 | B7: Integrace ISVS s národním systémem elektronické identifikace a podpora důvěryhodné identity pocházející z členských států EU. | C7: Napojení ISVS / AIS na centrální služby elektronické identity. | D7: Elektronická identita je honorována pro přihlašování k AISům (agendovým informačním systémům případně i k informačním systémům veřejné správy, které nejsou AISy) | E7: typový | F7: ÚSÚ, kraje, obce
B9: OPZ
B11: IROP

Sheet 10
H1: Příloha projektové karty 10
A3: Projektový záměr č: 10 | C3: Elektronické doručování a ekvivalence dokumentů | H3: Garant: | I3: ředitel OeG
A5: č. | B5: Název projektu | C5: Popis projektu | D5: Vazba na strategie/cíle | E5: Typ projektu | F5: Segment | G5: Zdroj | H5: 2015 v mil.Kč | I5: 2016 v mil.Kč | J5: 2017-20 v mil.Kč
A6: 1 | B6: Soulad s nařízením EU 910/2014 pro kvalifikované služby elektronického doporučeného doručování. Soulad s nařízením EU 910/2014 ve smyslu právních účinků elektronických dokumentů | C6: Zajištění souladu se směrnicí a normy v Informačním systému datových schránek, primárně zajistit přihlašování do systému elektronickou identitou občana a zajistit přeshraniční výměnu s funkčními systémy (Německo a Slovensko). Součástí projektu bude pořízení licence ISDS.Zajištění souladu se směrnicí a normy na Portálu veřejné správy a kontaktních místech veřejné správy Czech POINT, primárně zajistit ověření právního účinku elektronických dokumentů soukromoprávním sektorem. | D6: 10) Elektronické doručování a ekvivalence dokumentů | E6: Individuální | G6: OPZ | H6: 0 | I6: 143 | J6: 50
A7: 2 | B7: Zajištění shody konverze dokumentů (konverzní centrály Czech POINT) s evropskou směrnicí o službách na vnitřním trhu (2006/123/ES) | C7: Zajištění shody konverze dokumentů (konverzní centrály Czech POINT) s evropskou směrnicí o službách na vnitřním trhu (2006/123/ES) | D7: IP SC 3.1: 1. Dobudování architektury eGovernmentu | E7: Individuální | G7: OPZ | H7: 10 | I7: 0 | J7: 0
A8: 3 | B8: Zabezpečená výměna elektronických spisů | C8: Metodika procesu výměny spisů a velkého objemu dat elektronickým doporučeným doručením do dočasného šifrovaného úložiště a jeho realizace v rámci výměny mezi jednotlivými OVM, případně v rámci elektronizace jednotlivých odvětví. | D8: IP SC 3.1 Dobudování funkčního rámce eGovernmentu 10. Zajištění úplného elektronického podání vybraných agend | E8: Indivivuální | G8: OPZ | H8: 0 | I8: 2.5 | J8: 7.5
A9: 4 | B9: Zabezpečená výměna elektronických faktur | C9: Metodika procesu příjmu a zpracování elektronických faktur OVM s garancí právního účinku elektronického dokladu (ISDOC) od podnikatelského sektoru. | D9: IP SC 3.1 Dobudování funkčního rámce eGovernmentu 10. Zajištění úplného elektronického podání vybraných agend | E9: Indivivuální | G9: OPZ | H9: 1.5 | I9: 3.5 | J9: 0
A10: 5 | B10: Informační kampaň vysvětlující elektronické doporučené doručení a služby právního účinku elektronických dokumentů | C10: Metodika prezenčních i distančních seminářů pro širokou veřejnost spojená s informační kampaní (řešeno v samostatném projektovém okruhu Informační a ICT gramotnost). | D10: IP SC 3.1 Dobudování funkčního rámce eGovernmentu 10. Zajištění úplného elektronického podání vybraných agend | E10: Indivivuální | G10: OPZ | H10: 0 | I10: 10 | J10: 10
B12: OPZ | H12: =H6+H7+H8+H9+H10 -> 11.5 | I12: =I6+I7+I8+I9+I10 -> 159 | J12: =J6+J7+J8+J9+J10 -> 67.5
B14: IROP | H14: 0 | I14: 0 | J14: 0

Sheet 11
H1: Příloha projektové karty 11
A3: Projektový záměr č: 11 | C3: Kybernetická bezpečnost | H3: Garant: | I3: ředitel OKB
A5: č. | B5: Název projektu | C5: Popis projektu | D5: Typ projektu | E5: Segment | F5: Vazba na strategie/cíle | G5: Zdroj | H5: 2015 v mil.Kč | I5: 2016 v mil.Kč | J5: 2017-20 v mil.Kč
A6: 1 | B6: Implementace požadavků ZoKB v rámci resortu MV | C6: Implementace požadavků a splnění požadavků ZoKB konsolidovaně a jednotně do prostředi a v prostředí celého resortu MV Cerifikace MV dle požadavků ISO 27001 | D6: individuální / typový | E6: MV Správci KIS a VIS | F6: - Strategický rámec rozvoje veřejné správy České republiky 2014+ - DOHODA O PARTNERSTVÍ PRO PROGRAMOVÉ OBDOBÍ 2014–2020 - Digitální Česko | G6: OPZ | H6: 2.5 | I6: 2
A7: 2 | B7: Školení dopadů ZoKB v prostředi resortu MV | C7: Školení příslušných zaměstnanců resortu MV - požadavky ZoKB a implementovaný systém kybernetické bezpečnosti v rámci resortu MV | D7: typový | E7: MV Správci KIS a VIS | F7: - Strategický rámec rozvoje veřejné správy České republiky 2014+ - DOHODA O PARTNERSTVÍ PRO PROGRAMOVÉ OBDOBÍ 2014–2020 - Digitální Česko | G7: OPZ | I7: 2.5
A8: 3 | B8: Sjednocení provozních dat ICT resortu MV pro realizaci kyberbezpečnosti | C8: Kompetní a komplexní popis ICT resortu MV Výběr vhodného IS pro kontinální a kompetní popis ICT resortu MV Vytvoření kompetního a komplexní popisu ICT resortu MV v rámci příslušného IS - model ICT Konzistentní integrace modelu ICT na primární IS MV | D8: individuální | E8: MV | F8: - Strategický rámec rozvoje veřejné správy České republiky 2014+ - DOHODA O PARTNERSTVÍ PRO PROGRAMOVÉ OBDOBÍ 2014–2020 - Digitální Česko | G8: IROP | H8: 50 | I8: 75 | J8: 15
A9: 4 | B9: Zajištění dostupnosti 99,9% centrály systému Czech POINT, vč. podpory webového filleru | C9: Zvýšení dostupnosti centrálny - druhá geografická lokalita. Nasazení nového typu – tzv. tenkého webového formulářového klienta, včetně přepracování stávajících formulářů využívajících tzv. tlustého formulářového klienta. | D9: Individuální | E9: Centrum | F9: SC 3.1: 6. Dobudování informačních a komunikačních systémů veřejné správy a realizace bezpečnostních opatření podle zákona o kybernetické bezpečnosti | H9: 20 | I9: 180
A10: 5 | B10: Zajištění kritérií systému ISDS a PVS z pohledu ZKB | D10: Individuální | E10: Centrum | F10: SC 3.1: 6. Dobudování informačních a komunikačních systémů veřejné správy a realizace bezpečnostních opatření podle zákona o kybernetické bezpečnosti | H10: 60
A11: 6 | B11: Kybernetická bezpečnost komunikačních a informačních systémů HZS ČR | D11: Individuální | E11: MV
B13: OPZ | H13: =H6+H7 -> 2.5 | I13: =I6+I7 -> 4.5 | J13: =J6+J7 -> 0
B15: IROP | H15: =H8 -> 50 | I15: =I8 -> 75 | J15: =J8 -> 15

Sheet 12
H1: Příloha projektové karty 12
A3: Projektový záměr č: 12 | C3: Bezpečnost a krizové řízení | H3: Garant: | I3: 1. NMV
A5: č. | B5: Název projektu | C5: Popis projektu | D5: Vazba na strategie/cíle | E5: Typ projektu | F5: Segment | G5: Zdroj | H5: 2015 v mil.Kč | I5: 2016 v mil.Kč | J5: 2017-20 v mil.Kč
A6: 1 | B6: Mapy budoucnosti II - vytvoření a ověření modelu pro predikci kriminality | C6: Vytvoření a pilotní ověření modelu pro predikci kriminality a zobrazování těchto výstupů pomocí nástrojů GIS | D6: Strategie prevence kriminality v České republice na léta 2012 - 2015, Strategie rozvoje infrastruktury pro prostorové informace v České republice do roku 2020 | E6: Individuální | F6: MV (PČR), obce | G6: OPZ či SR | I6: 5
A7: 2 | B7: Mapy budoucnosti III - rozšíření analyticko-prediktivního přístupu k prevenci a řešení kriminality | C7: Pořízení ICT nástojů (včetně propojení s prostředím GIS) pro analýzu a predikci kriminality a jejich nasazení v prostředí Policie ČR včetně proškolení k jejich užívání. Tyto nástroje by nepracovaly pouze s daty o kriminalitě, ale i s daty o dalších kriminálně rizikových faktorech (data demografická, sociální, zájmové objekty, ...) | D7: Strategie prevence kriminality v České republice na léta 2012 - 2015, Strategie rozvoje infrastruktury pro prostorové informace v České republice do roku 2020 | E7: Individuální | F7: MV (PČR) | G7: IROP | J7: 100 | K7: max. 100M (předpokláme ale různé možnosti řešení s různou finanční náročností)
A8: 3 | B8: Provoz celostátní bezplatné telefonní linky s nepřetržitým provozem pro osoby ohrožené domácím násilím a genderově podmíněným násilím | C8: financování provozu, případně rozšíření provozu z hlediska např. počtu pracovníků | D8: Národní akční plán boje proti domácímu násilí a proti genderově podmíněnému násilí na léta 2015-2018 | E8: individuální | F8: MV, NNO | J8: 5 | K8: dle financování z let 2015-2016, 5 mil Kč
A9: 4 | B9: Dostupnost okamžité pomoci pro oběti domácího násilí a genderově podmíněného násilí s využitím nových technologií | C9: financování pořízení nových signalizačních technologií a jejich provozu | D9: Národní akční plán boje proti domácímu násilí a proti genderově podmíněnému násilí na léta 2015-2018 | E9: individuální | F9: MV, NNO | I9: 2
A10: 5 | B10: Konference k problematice kyberšikany v souvislsoti s ochranou osob ohrožených genderově podmíněným násilím včetně vydání sborníku příspěvků | C10: financování konání konference, vydání sborníku | D10: Národní akční plán boje proti domácímu násilí a proti genderově podmíněnému násilí na léta 2015-2018 | E10: individuální | F10: MV | H10: 0.02
A11: 6 | B11: Snižování administrativy v trestním řízení - podpora elektornizace trestního spisu | C11: propojení a rozšiřování dalších prvků elektronizace trestního řízení sdílením informačních systémů orgánů činných v trestním řízení, využité videokonferencí, posílení kapacity datového spojení | D11: Strategie vlády v boji proti korupci, kapitola 3.10 - Podpora elektronického trestního řízení | F11: MV (PČR) | H11: 2 | I11: 5 | K11: 2 mil. Kč - pilotní propojení IS PČR a SZ | L11: 5 mil Kč - další rozvoj
A12: 7 | B12: Zavedení multimediálního videokonferenčního systému u HZS ČR
A13: 8 | B13: Zvyšování informační podpory HZS ČR při činnostech spojených s řešením mimořádných událostí
B15: OPZ | H15: 0 | I15: =I6 -> 5 | J15: 0
B17: IROP | H17: 0 | I17: 0 | J17: =J7 -> 100
B19: Pozn. č. 1: Projekty 1, 2 mohou spadat jak do okruhu č. 12, tak do okruhu č. 13.
B21: Pozn. č. 2: Výše uvedené projekty budou navazovat na již realizované projekty "Mapy budoucnosti - moderní nástroj ke zvýšení efektivity a kvality výkonu veřejné správy v oblasti prevence kriminality založený na analýze a predikci kriminality" (projekt z ESF OP LZZ; cílem je na základě vytvořené mezinárodní srovnávací studie v oblasti postupů a nástrojů pro mapování, analýzy a predikci kriminality vytvořit doporučení, jak tyto nástroje co nejvhodněji implementovat v prostředí ČR) a projekt "Geoinformatika jako nástroj pro podporu integrované činnosti bezpečnostních a záchranných složek státu" (projekt bezpečnostního výzkumu; cílem je vypracování jednotné geoinformační platformy pro bezpečnostní a záchranné složky státu, včetně definování technických a technologických standardů, za účelem dosažení interoperability, integrace a nastavení pravidel správy prostorových dat v oblasti bezpečnosti státu; součástí bude i pilotní ověření výstupů projektu při konkrétních činnostech v praxi).
B23: Pozn. č. 3: Projekty 1-2 budou mít vazbu i na připravovanou novou Strategii prevence kriminality v ČR na léta 2016 až 2020.

Sheet 13
H1: Příloha projektové karty 13
A3: Projektový záměr č: 13 | C3: Prostorová data a služby | H3: Garant: | I3: ředitel OeG
A5: č. | B5: Název projektu | C5: Popis projektu | D5: Vazba na strategie/cíle | E5: Typ projektu | F5: Segment | G5: Zdroj | H5: 2015 v mil.Kč | I5: 2016 v mil.Kč | J5: 2017-20 v mil.Kč
A6: 1 | B6: Národní geoportál | C6: Vybudování Národního geoportálu jako součást národní infrastruktury pro prostorové informace | D6: IP SC 3.1: 5. Rozšíření, propojení a konsolidace datového fondu veřejné správy a jeho efektivní a bezpečné využívání dle jednotlivých agend | E6: Individuální | G6: IROP | H6: 0 | I6: 10 | J6: 45
A7: 2 | B7: Národní integrační platforma pro prostorové informace | C7: Vybudování Národní integrační platformy pro prostorové informace jako součást národní infrastruktury pro prostorové informace | D7: IP SC 3.1: 5. Rozšíření, propojení a konsolidace datového fondu veřejné správy a jeho efektivní a bezpečné využívání dle jednotlivých agend | E7: Individuální | G7: IROP | H7: 0 | I7: 0 | J7: 35
A8: 3 | B8: Národní sada prostorových objektů | C8: Vybudování Národní sady prostorových objektů jako součásti národní infrastruktury pro prostorové informace | D8: IP SC 3.1: 5. Rozšíření, propojení a konsolidace datového fondu veřejné správy a jeho efektivní a bezpečné využívání dle jednotlivých agend | E8: Individuální | G8: IROP | H8: 0 | I8: 0 | J8: 80
A9: 4 | B9: Propojení služeb Portálu veřejné správy na služby související s prostorovými informacemi | C9: Propojení služeb Portálu veřejné správy na služby související s prostorovými informacemi | D9: IP SC 3.1: 5. Rozšíření, propojení a konsolidace datového fondu veřejné správy a jeho efektivní a bezpečné využívání dle jednotlivých agend | E9: Indivivuální | G9: IROP | H9: 0 | I9: 0 | J9: 10
A10: 5 | B10: Zkvalitňování a další rozvoj datového fondu | C10: Zkvalitňování a další rozvoj datového fondu prostorových dat pro jejich využívání veřejnou správou a celou společností | D10: IP SC 3.1: 5. Rozšíření, propojení a konsolidace datového fondu veřejné správy a jeho efektivní a bezpečné využívání dle jednotlivých agend | E10: Typový | G10: IROP | H10: 0 | I10: 20 | J10: 50
A11: 6 | B11: Rozvoj a integrace GISů do národní infrastruktury pro prostorové informace | C11: Úpravy ISVS pro prostorové informace v kontextu vytvořených centrálních sdílených služeb (Národní geoportál, Národní geoportál INSPIRE, Národní integrační platforma pro prostorové informace, Katalog pro opendata) | D11: IP SC 3.1: 5. Rozšíření, propojení a konsolidace datového fondu veřejné správy a jeho efektivní a bezpečné využívání dle jednotlivých agend | E11: Typový | G11: IROP | H11: 0 | I11: 15 | J11: 60
A12: 7 | B12: Vytvoření podmínek pro realizaci služby eGovernment pro zajištění jednotného podání žádostí o vyjádření k existenci sítí technické infrastruktury a zpětného náběru a distribuce vyjádření k žadateli | C12: Úpravy ISVS pro prostorové informace v kontextu vytvořených centrálních sdílených služeb (Národní geoportál, Národní geoportál INSPIRE, Národní integrační platforma pro prostorové informace, Katalog pro opendata) | D12: IP SC 3.1: 5. Rozšíření, propojení a konsolidace datového fondu veřejné správy a jeho efektivní a bezpečné využívání dle jednotlivých agend | E12: Individuální | G12: OPZ | H12: 8 | I12: 14 | J12: 0
A13: 8 | B13: Vyjádření k existenci sítí | C13: Realizace služby pro zajištění jednotného podání žádosti o vyjádření k existenci sítí technické infrastruktury a distribuce vyjádření k žadateli, v relevantních případech k sekundárnímu uživateli (stavebnímu úřadu) | D13: IP SC 3.1: 5. Rozšíření, propojení a konsolidace datového fondu veřejné správy a jeho efektivní a bezpečné využívání dle jednotlivých agend | E13: Individuální | F13: MV
A14: 9 | B14: Rozvoj a modernizace Geografického informačního systému HZS ČR
B16: OPZ | H16: =H12 -> 8 | I16: =I12 -> 14 | J16: =J12 -> 0
B18: IROP | H18: =H6+H7+H8+H9+H10+H11 -> 0 | I18: =I6+I7+I8+I9+I10+I11 -> 45 | J18: =J6+J7+J8+J9+J10+J11 -> 280

Sheet 14
H1: Příloha projektové karty 14
A3: Projektový záměr č: 14 | C3: Technologická a komunikační infrastruktura | H3: Garant: | I3: ředitel SIK
A5: č. | B5: Název projektu | C5: Popis projektu | D5: Vazba na strategie/cíle | E5: Typ projektu | F5: Segment | G5: Zdroj | H5: 2015 v mil.Kč | I5: 2016 v mil.Kč | J5: 2017-20 v mil.Kč
A6: 1 | B6: Dokončení pokrytí území ČR rádiovým signálem sítě Pegas | C6: výstavba 30-40 nových základnových stanic sítě Pegas ve 4 % území ČR, které dosud není pokryto | D6: Implementační plán k strategickému cíli č. 3 Zvýšení dostupnosti a transparentnosti veřejné správy prostřednictvím nástrojů eGovernmentu Plán činnosti Bezpečnostní rady státu Národní schengenský plán, úkol 5/64 | E6: individuální | G6: IROP | H6: 0 | I6: 100 | J6: 200
A7: 2 | B7: Komplexní modernizace radiokomunikační sítě Pegas | C7: přechod sítě Pegas na technologii IP | D7: Implementační plán k strategickému cíli č. 3 Zvýšení dostupnosti a transparentnosti veřejné správy prostřednictvím nástrojů eGovernmentu Plán činnosti Bezpečnostní rady státu Národní schengenský plán, úkol 5/64 | E7: individuální | G7: IROP | H7: 0 | I7: 200 | J7: 800
A8: 3 | B8: Zajištění energetické bezpečnosti radiokomunikační sítě Pegas | C8: instalace dieselagregátů nebo jiných typů zdrojů elektřiny k základnovým stanicím (projekt ZSMV v zájmu MV) | D8: Implementační plán k strategickému cíli č. 3 Zvýšení dostupnosti a transparentnosti veřejné správy prostřednictvím nástrojů eGovernmentu Plán činnosti Bezpečnostní rady státu Národní schengenský plán, úkol 5/64 | E8: individuální | G8: IROP | H8: 0 | I8: 150 | J8: 150
A9: 4 | B9: Zavedení širokopásmových technologií do sítě Pegas | C9: Doplnění základnových stanic sítě Pegas, modernizovaných navrhovaným projektem Komplexní modernizace radiokomunikační sítě Pegas, o Tetrapol Broadband | D9: Implementační plán k strategickému cíli č. 3 Zvýšení dostupnosti a transparentnosti veřejné správy prostřednictvím nástrojů eGovernmentu Plán činnosti Bezpečnostní rady státu Národní schengenský plán, úkol 5/64 | E9: individuální | G9: IROP | H9: 0 | J9: 500
A10: 5 | B10: Modernizace komunikační infrastruktury celostátních útvarů | C10: znásobení rychlosti komunikační infrastruktury, přechod na IP telefonii, videokonferencing | D10: Implementační plán k strategickému cíli č. 3 Zvýšení dostupnosti a transparentnosti veřejné správy prostřednictvím nástrojů eGovernmentu | E10: typový | G10: IROP | H10: 0 | I10: 160 | J10: 160
A11: 6 | B11: Modernizace komunikační infrastruktury Krajských ředitelství policie ČR (12x) | C11: znásobení rychlosti komunikační infrastruktury, přechod na IP telefonii, videokonferencing | D11: Implementační plán k strategickému cíli č. 3 Zvýšení dostupnosti a transparentnosti veřejné správy prostřednictvím nástrojů eGovernmentu | E11: typový | G11: IROP | H11: 0 | I11: 600 | J11: 600
B13: OPZ | H13: 0 | I13: 0 | J13: 0
B15: IROP | H15: 0 | I15: =I6+I7+I8+I9+I10+I11 -> 1210 | J15: =J6+J7+J8+J9+J10+J11 -> 2410
A17: HZS
B18: Jednotný systém varování, vyrozumívání a informování
B19: Zajištění bezpečnosti a dostatečné kapacity datové sítě HZS ČR
B20: Koncová zařízení PEGAS s vyšší užitnou hodnotou
B21: Zvýšení kapacity a bezpečnosti infrastruktury rádiové sítě HZS ČR a součinností v IZS
B22: Koncová zařízení rádiové sítě HZS ČR a součinnosti v IZS umožňující efektivnější využití rádiového spektra
B23: Modernizace fixní telefonie HZS ČR
B24: Úpravy radiokomunikačních zařízení v tunelech v souvislosti s evropskou harmonizací kmitočtových pásem

Sheet 15
H1: Příloha projektové karty 15
A3: Projektový záměr č: 15 | C3: Informační a ICT gramotnost a systémy pro vzdělávání | H3: Garant: | I3: MV ČR
A5: č. | B5: Název projektu | C5: Popis projektu | D5: Vazba na strategie/cíle | E5: Typ projektu | F5: Segment | G5: Zdroj | H5: 2015 v mil.Kč | I5: 2016 v mil.Kč | J5: 2017-20 v mil.Kč
A9: V současné době probíhá identifikace potřeb, předvýzkum a přípravné práce, bude doplněno ve zprávě předložené vládě v roce 2016.
B10: OPZ
B12: IROP

Sheet 16
H1: Příloha projektové karty 16
A3: Projektový záměr č: 16 | C3: Rozšíření, propojení a konsolidace datového fondu veřejné správy a jeho efektivní a bezpečné využívání dle jednotlivých agend | H3: Garant: | I3: ředitel SZR
A5: č. | B5: Název projektu | C5: Popis projektu | D5: Vazba na strategie/cíle | E5: Typ projektu | F5: Segment | G5: Zdroj | H5: 2015 v mil.Kč | I5: 2016 v mil.Kč | J5: 2017-20 v mil.Kč
A6: 1. | B6: Integrace lokálních AIS | C6: Napojení lokálních AIS na eGSB, pasportizace dat a jejich konsolidace | D6: SMART ADMIN - Strategický cíl C - Zefektivnit činnost úřadů veřejné správy | E6: individuální | F6: MV | G6: IROP, lokální projekty
A7: 2. | B7: Nekonzistence nereferenčních údajů | C7: Odstranění nekonzistentních nereferenčních údajů v agendových systémech | D7: Strategický cíl 3 – Zvýšení dostupnosti a transparentnosti veřejné správy | E7: individuální | F7: MV | G7: IROP, lokální projekty
A8: 3. | B8: Centrální systém eGSB | C8: Centrální systém eGSB | D8: Strategický cíl 3 – Zvýšení dostupnosti a transparentnosti veřejné správy | E8: individuální | F8: MV
A9: 4. | B9: MORIS | C9: Modulární referenční informační systém pro implementaci eIDAS, dále pak pro eAIS (AIS pro obce, které nemají svůj systém) a kAIS (komerční AIS pro využití údajů dle platné legislativy). Modulární pro další systémy. | D9: SMART ADDMIN - Strategický cíl D - Přiblížit veřejné služby občanovi, zajistit jejich maximální dostupnost a kvalitu | E9: individuální | F9: MV | G9: Rozpočet a posléze IROP | H9: 10 | I9: 40 | J9: 50
A10: 5. | B10: Rejstřík OVM | C10: Rozšíření RPP o procesy aktualizace výčtu orgánů veřejné moci a dalších subjektů přistupujících k údajům ZR a aktualizaci jejich sdružování do kategorií. | D10: 1 )Strategický rámec rozvoje VS 2014 - 2020, strategický cíl 3 - Zvýšení dostupnosti a transparetnosti VS prostřednictvím eGovernmentu. 2) Implementační plán, specifický cíl 3.1. Dobudování funkčního rámce eGovernmentu | E10: individuální | F10: MV | G10: Rozpočet | H10: 7
A11: 6. | B11: Jednotná matice oprávnění | C11: Rozšíření RPP o údaje vedené agendami a oprávnění k těmto údajům pro orgány veřejné moci a soukromé subjekty u nichž to stanovuje zákon. Cílem projektu je doplnit údajovou základnu ZR (RPP) o 1. objekty/subjektu a údaje vedené v jednotlivých agendách a 2. o údaje o rozsahu oprávnění přístupuOVM a soukromých subjektů k údajům ad 1. | D11: 1 )Strategický rámec rozvoje VS 2014 - 2020, strategický cíl 3 - Zvýšení dostupnosti a transparetnosti VS prostřednictvím eGovernmentu. 2) Implementační plán, specifický cíl 3.1. Dobudování funkčního rámce eGovernmentu | E11: individuální | F11: MV | G11: Rozpočet | H11: 15.5
A12: 7. | B12: Realizace úspor v agendě A113 | C12: ICT podpora zjednodušených procesů sběru a výměny dat v procesech ohlašování a oznamování působností OVM; zefektivnění procesů validace dat mezi gestory agend (správci ZR a AIS) ohledně přístupů k údajům ZR a agend. | D12: 1 )Strategický rámec rozvoje VS 2014 - 2020, strategický cíl 3 - Zvýšení dostupnosti a transparetnosti VS prostřednictvím eGovernmentu. 2) Implementační plán, specifický cíl 3.1. Dobudování funkčního rámce eGovernmentu | E12: individuální | F12: MV | G12: Rozpočet | H12: 9
B14: OPZ | H14: 0 | I14: 0 | J14: 0
B16: IROP | H16: =H9 -> 10 | I16: =I9 -> 40 | J16: =J9 -> 50

Sheet 17
H1: Příloha projektové karty 17
A3: Projektový záměr č: 17 | C3: Správa, řízení eGovernmentu a systémy pro řízení | H3: Garant: | I3: ředitel OHA
A5: č. | B5: Název projektu | C5: Popis projektu | D5: Vazba na strategie/cíle | E5: Typ projektu | F5: Segment | G5: Zdroj | H5: 2015 v mil.Kč | I5: 2016 v mil.Kč | J5: 2017-20 v mil.Kč
A6: 1 | B6: Informační podpora pro řízení eGovernmentu | C6: Vybudování informační podpory pro řízení a rozvoj eGovernmentu | D6: Vybudování informační podpory pro řízení a rozvoj eGovernmentu | E6: typový | F6: ÚSÚ, kraje, obce
A7: 2 | B7: Informační podpora pro centrální řízení eGovernmentu | C7: Vybudování informační podpory pro řízení a rozvoj eGovernmentu | D7: Definice, správa a rozvoj metodického rámce a standardů pro řízení a rozvoj eGovernmentu | E7: individuální | F7: MV
A8: 3 | B8: Národní architektonický plán | C8: Vytvoření národního architektonického plánu | D8: Vytvoření národního architektonického plánu | E8: individuální | F8: MV
A9: 4 | B9: Metodický rámec pro řízení | C9: Definice, správa a rozvoj metodického rámce a standardů pro řízení a rozvoj eGovernmentu | D9: Zajištění organizační/institucionální podpory pro řízení a rozvoj eGovernmentu | E9: individuální | F9: MV
A10: 5 | B10: Pravidla pro řízení investic do ICT | C10: Vytvoření závazných pravidel pro řízení investic do ICT | D10: Vytvoření závazných pravidel pro řízení investic do ICT | E10: individuální | F10: MV
B12: OPZ
B14: IROP

Sheet 18
H1: Příloha projektové karty 18 - karta se zpracovává
A3: Projektový záměr č: 18 | C3: Modernizace veřejné správy | H3: Garant: | I3: NMV pro VS
A5: č. | B5: Název projektu | C5: Popis projektu | D5: Vazba na strategie/cíle | E5: Typ projektu | F5: Segment | G5: Zdroj | H5: 2015 v mil.Kč | I5: 2016 v mil.Kč | J5: 2017-20 v mil.Kč
A6: 1 | B6: Podpora snižování administrativní zátěže, posílení a zlepšení ex ante a ex post hodnocení dopadů regulace (RIA, RIA ex post), včetně zhodnocení korupčních rizik (CIA) | C6: 1) Analýza současného stavu snižování regulatorní zátěže občanů a veřejné správy 2) Komparace postupů v oblasti regulatorní zátěže občanů a veřejné správy v ostatních zemích EU 3) Projekty zaměřené na snižování regulatorní zátěže občanů a veřejné správy 4) Metodická podpora pro ex-ante hodnocení RIA | D6: Strategický rámec: IP k SC 1.2 | E6: individuální | G6: OPZ | H6: 0.8 | I6: 3.6 | J6: 3.6 | K6: 400 000,- 400 000,- 8 mil Kč (2015-2020)
A7: 2 | B7: Nastavení a rozvoj procesů dosahování kvality a jejího řízení, včetně environmentálního managementu | C7: 1) Zpracování analýzy využívání metod kvality na úrovni ÚSÚ 2) Zpracování metodiky řízení kvality na úrovni ÚSÚ 3) Zpracování analýzy využívání metod kvality na úrovni ÚSC 4) Metodická podpora metod kvality na úrovni ÚSC 5) Pilotní projekt aplikace metodiky zavádění systému řízení kvality (ÚSÚ) 6) Implementace metodiky řízení kvality (ÚSÚ) 7) Implementace metod kvality v organizacích ÚSC | D7: Strategický rámec: IP k SC 1.3 | E7: individuání | G7: OPZ | H7: 1.5 | I7: 2 | J7: 9 | K7: 1) 1 mil Kč (2015-2016) 3) 500 000,- Kč | L7: 7) 0,5-2 mil Kč/ 1 ÚSC | M7: 5) 5 mil Kč (2017) 6) 4 mil Kč/ 1 ÚSÚ (2018-2020)
B9: OPZ | H9: =H6+H7 -> 2.3 | I9: =I6+I7 -> 5.6 | J9: =J6+J7 -> 12.6
B11: IROP | H11: 0 | I11: 0 | J11: 0

Sheet 19
H1: Příloha projektové karty 19 - karta se zpracovává
A3: Projektový záměr č: 19 | C3: Revize a optimalizace výkonu veřejné správy v území | H3: Garant: | I3: NMV pro VS
A5: č. | B5: Název projektu | C5: Popis projektu | D5: Vazba na strategie/cíle | E5: Typ projektu | F5: Segment | G5: Zdroj | H5: 2015 v mil.Kč | I5: 2016 v mil.Kč | J5: 2017-20 v mil.Kč
A6: 1 | B6: Harmonizace administrativního členění státu | C6: 1) Analýza zaměřená na problematiku administrativního členění státu a zhodnocení současného stavu administrativního členění státu 2) Posilování administrativní kapacity malých obcí na bázi meziobecní spolupráce | D6: Strategický rámec: IP k SC 2.1 | E6: individuální | F6: ÚSU, ÚSC | G6: OPZ | H6: 2 | K6: 1) 2 mil Kč (2015-2016) 2) 280 mil Kč (2015-2018)
A7: 2 | B7: Revize a úprava funkce územně členěných měst | C7: 1) Analýza zaměřená na problematiku statutárních měst | D7: Strategický rámec: IP k SC 2.2 | E7: individuální | F7: MVČR, ÚSC | G7: OPZ | H7: 2
A8: 3 | B8: Optimalizace systému veřejnoprávních smluv | C8: 1) Analýza zaměřená na problematiku systému veřejnoprávních smluv 2) Vytvoření seznamu veřejnoprávních smluv | D8: Strategický rámec: IP k SC 2.3 | E8: individuální | F8: MVČR, ÚSC | G8: 1) OPZ 2) IROP | H8: 2 | J8: 0.7
A9: 4 | B9: Úprava a optimalizace systému financování přeneseného výkonu státní správy | C9: 1) Analýza zaměření na současný systém financování přeneseného výkonu státní správy 2) Ověření systému financování přenesené působnosti prostřednictvím pilotního projektu včetně meziobecní spolupráce | D9: Strategický rámec: IP k SC 2.4 | E9: individuální | F9: ÚSU, ÚSC | G9: OPZ | H9: 3.3 | J9: 5 | K9: 1) 3,3 mil Kč (2015-2016) | L9: 2) 5 mil Kč
A10: 5 | B10: Snížení rizika platební neschopnosti úzěmní samosprávy | C10: 1) Příprava vzdělávacích aktivit v oblasti finančního řízení pro představitele územních samospráv 2) Realizace vzdělávacích aktivit v oblasti finančního řízení pro představitele územních samospráv | D10: Strategický rámec: IP k SC 2.5 | E10: individuální | F10: MVČR, ÚSC | G10: OPZ | H10: 1.8 | I10: 60 | K10: 1) 1,8 mil Kč (2015) | L10: 2) 60 mil Kč (2016-2017)
B12: OPZ | H12: =H6+H7+H8+H9+H10 -> 11.1 | I12: =I6+I7+I9+I10 -> 60 | J12: =J9 -> 5
B14: IROP | H14: 0 | I14: 0 | J14: =J8 -> 0.7

Sheet 20
H1: Příloha projektové karty 20 - karta se zpracovává
A3: Projektový záměr č: 20 | C3: Profesionalizace a rozvoj lidských zdrojů ve veřejné správě | H3: Garant: | I3: NMV pro státní službu
A5: č. | B5: Název projektu | C5: Popis projektu | D5: Vazba na strategie/cíle | E5: Typ projektu | F5: Segment | G5: Zdroj | H5: 2015 v mil.Kč | I5: 2016 v mil.Kč | J5: 2017-20 v mil.Kč
A6: 1. | B6: Zkvalitnění řízení ve státní správě | C6: Zkvalitnění strategického a projektového řízení, využívání analytických, metodických, evaluačních a dalších obdobných studií a kapacit ve veřejné správě | D6: Strategický rámec: IP k SC 4.1 | E6: individuální | F6: ÚSÚ | G6: SR/ OPZ | H6: 4 | I6: 34 | J6: 53
A7: 2. | B7: Analýza státní správy ve vztahu k zlepšení komunikace a zvyšování důvěry uvnitř veřejné správy včetně analýzy potřeb státních zaměstnanců se specifickými potřebami | C7: Zlepšení komunikace a zvyšování důvěry uvnitř veřejné správy samotní i navenek směrem k občanům, zjednodušení přístupu veřejnosti, včtně osob se spedifickými potřebami, ke službám a informacím veřejné správy | D7: Strategický rámec: IP k SC 4.1 | E7: individuální | F7: ÚSÚ | G7: SR/ OPZ | H7: 3 | I7: 12 | J7: 15
A8: 3. | B8: Zavedení RIA v sekci státní služby | C8: Podpora snižování administrativní a regulační zátěže, posílení a zlepšení ex ante a ex púost hodnocení dopadů regulace (RIA), včetně zhodnocení korupčních rizik | D8: Strategický rámec: IP k SC 4.1 | E8: individuální | F8: ÚSÚ | G8: SR/ OPZ | H8: 6 | I8: 9 | J8: 11
A9: 4. | B9: Kvalita ve státní správě | C9: Nastavení a rozvoj procesů dosahování kvality a jejího řízení, včetně environmentálního managementu | D9: Strategický rámec: IP k SC 1.3 | E9: individuální | F9: ÚSÚ | G9: SR/ OPZ | H9: 3 | I9: 9 | J9: 15
A10: 5. | B10: RLZ v sekci státní služby | C10: Realizace specifických vzdělávacích a výcvikových programů přispívajících ke zkvalitnění rozvoje lidských zdrojů ve veřejné správě | D10: Strategický rámec: IP k SC 4.2 | E10: individuální | F10: ÚSÚ | G10: SR/ OPZ | H10: 9 | I10: 43 | J10: 67
A11: 6. | B11: Moderní metody řízení v sekci státní služby | C11: Zavádění a rozvoj meoderních metod řízení ve veřejné správě | D11: Strategický rámec: IP k SC 4.2 | E11: individuální | F11: ÚSÚ | G11: SR/ OPZ | H11: 6 | I11: 29 | J11: 43
A12: 7. | B12: Profesionalizace státní služby | C12: Profesionalizace státní služby a anlýza současného stavu personálních procesů ve správních úřadech, (návrh nastavení, atd. ….) | D12: Strategický rámec: IP k SC 4.2 | E12: individuální | F12: ÚSÚ | G12: SR/ OPZ | H12: 6 | I12: 73 | J12: 86
A13: 8. | B13: Zavádění nových informačních a komunikačních systémů pro státní správu | C13: Vytváření nových a modernizace stávajících informačních a komunikačních systémů pro specfické potřeby subjektů veřejné správy | D13: Strategický rámec: IP k SC 4.1 | E13: individuální | F13: ÚSÚ | G13: SR/ IROP | H13: 12 | I13: 53 | J13: 97
B15: OPZ | H15: 37 | I15: 209 | J15: 290
B17: IROP | H17: 12 | I17: 53 | J17: 97

Sheet 21
H1: Příloha projektové karty 21
A3: Projektový záměr č: 21 | C3: Virtualizace | H3: Garant:
A5: č. | B5: Název projektu | C5: Popis projektu | D5: Vazba na strategie/cíle | E5: Typ projektu | F5: Segment | G5: Zdroj | H5: 2015 v mil.Kč | I5: 2016 v mil.Kč | J5: 2017-20 v mil.Kč

Sheet List1
