Workbook

Sheet I. Plánovaný rozpočet projektu
G1: Příloha č. 1, část I.
B2: ROZPOČET PROJEKTU ISF
B4: Název projektu:
B5: Název žadatele o finanční podporu:
B7: Druh nákladů | C7: Příjemce / Partner | D7: Jednotka | E7: Počet jednotek | F7: Jednotková cena v Kč | G7: Celkové náklady v Kč
B9: A. Osobní náklady
B10: A.1 Mzdy, platy, odměny z dohod odborných zaměstnanců | G10: =G11+G14+G17 -> 0
B11: A.1.1 Mzdy, platy | G11: =SUM(G12:G13) -> 0
B12: A.1.1.1 | G12: =E12*F12 -> 0
B13: A.1.1.2 | G13: =E13*F13 -> 0
B14: A.1.2 Odměny z dohod (DPČ) | G14: =SUM(G15:G16) -> 0
B15: A.1.2.1 | G15: =E15*F15 -> 0
B16: A.1.2.2 | G16: =E16*F16 -> 0
B17: A.1.3 Odměny z dohod (DPP) | G17: =SUM(G18:G19) -> 0
B18: A.1.3.1 | G18: =E18*F18 -> 0
B19: A.1.3.2 | G19: =E19*F19 -> 0
B20: A.2 Mzdy, platy, odměny z dohod administrativních pracovníků | G20: =G21+G24+G27 -> 0
B21: A.2.1 Mzdy, platy | G21: =SUM(G22:G23) -> 0
B22: A.2.1.1 | G22: =E22*F22 -> 0
B23: A.2.1.2 | G23: =E23*F23 -> 0
B24: A.2.2 Odměny z dohod (DPČ) | G24: =SUM(G25:G26) -> 0
B25: A.2.2.1 | G25: =E25*F25 -> 0
B26: A.2.2.2 | G26: =E26*F26 -> 0
B27: A.2.3 Odměny z dohod (DPP) | G27: =SUM(G28:G29) -> 0
B28: A.2.3.1 | G28: =E28*F28 -> 0
B29: A.2.3.2 | G29: =E29*F29 -> 0
B30: A.3 Zdravotní pojištění za zaměstnavatele | G30: =SUM(G31:G32) -> 0
B31: A.3.1 Zdravotní pojištění Příjemce | G31: =E31*F31 -> 0
B32: A.3.2 Zdravotní pojištění Partner 1 | G32: =E32*F32 -> 0
B33: A.4 Sociální pojištění za zaměstnavatele | G33: =SUM(G34:G35) -> 0
B34: A.4.1 Sociální pojištění Příjemce | G34: =E34*F34 -> 0
B35: A.4.2 Sociální pojištění Partner 1 | G35: =E35*F35 -> 0
B36: A.5 FKSP | G36: =SUM(G37:G38) -> 0
B37: A.5.1 FKSP Příjemce | G37: =E37*F37 -> 0
B38: A.5.2 FKSP Partner 1 | G38: =E38*F38 -> 0
B39: A.6 Jiné povinné výdaje | G39: =SUM(G40:G41) -> 0
B40: A.6.1 Jiné povinné výdaje Příjemce | G40: =E40*F40 -> 0
B41: A.6.2 Jiné povinné výdaje Partner 1 | G41: =E41*F41 -> 0
B42: CELKEM A | G42: =FLOOR(G10+G20+G30+G33+G36+G39,1) -> 0
B43: Procentní podíl kapitoly A na celkových nákladech | G43: =G42/$G$137 -> #DIV/0!
B45: B. Cestovné
B46: B.1 Cestovné (včetně provozu služ. vozidla) | G46: =SUM(G47:G48) -> 0
B47: B.1.1 | G47: =E47*F47 -> 0
B48: B.1.2 | G48: =E48*F48 -> 0
B49: B.2 Ubytování | G49: =SUM(G50:G51) -> 0
B50: B.2.1 | G50: =E50*F50 -> 0
B51: B.2.2 | G51: =E51*F51 -> 0
B52: B.3 Stravné | G52: =SUM(G53:G54) -> 0
B53: B.3.1 | G53: =E53*F53 -> 0
B54: B.3.2 | G54: =E54*F54 -> 0
B55: B.4 Ostatní | G55: =SUM(G56:G57) -> 0
B56: B.4.1 | G56: =E56*F56 -> 0
B57: B.4.2 | G57: =E57*F57 -> 0
B58: CELKEM B | G58: =FLOOR(G46+G49+G52+G55,1) -> 0
B59: Procentní podíl kapitoly B na celkových nákladech | G59: =G58/$G$137 -> #DIV/0!
B61: C. Zařízení, vybavení a spotřební materiál
B62: C.1 Nehmotný majetek | G62: =G63+G66+G69 -> 0
B63: C.1.1 Spotřební materiál | G63: =SUM(G64:G65) -> 0
B64: C.1.1.1 | G64: =E64*F64 -> 0
B65: C.1.1.2 | G65: =E65*F65 -> 0
B66: C.1.2 Drobný dlouhodobý nehmotný majetek (7 000 - 60 000 Kč vč. DPH) | G66: =SUM(G67:G68) -> 0
B67: C.1.2.1 | G67: =E67*F67 -> 0
B68: C.1.2.2 | G68: =E68*F68 -> 0
B69: C.1.3 Dlouhodobý nehmotný majetek (investiční, více než 60 000 Kč vč. DPH) | G69: =SUM(G70:G71) -> 0
B70: C.1.3.1 | G70: =E70*F70 -> 0
B71: C.1.3.2 | G71: =E71*F71 -> 0
B72: C.2 Hmotný majetek | G72: =G73+G76+G79 -> 0
B73: C.2.1 Spotřební materiál | G73: =SUM(G74:G75) -> 0
B74: C.2.1.1 | G74: =E74*F74 -> 0
B75: C.2.1.2 | G75: =E75*F75 -> 0
B76: C.2.2 Drobný dlouhodobý hmotný majetek (3 000 - 40 000 Kč vč. DPH) | G76: =SUM(G77:G78) -> 0
B77: C.2.2.1 | G77: =E77*F77 -> 0
B78: C.2.2.2 | G78: =E78*F78 -> 0
B79: C.2.3 Dlouhodobý hmotný majetek (investiční, více než 40 000 Kč vč. DPH) | G79: =SUM(G80:G81) -> 0
B80: C.2.3.1 | G80: =E80*F80 -> 0
B81: C.2.3.2 | G81: =E81*F81 -> 0
B82: C.3 Nájem zařízení, operativní leasing | G82: =SUM(G83:G84) -> 0
B83: C.3.1 | G83: =E83*F83 -> 0
B84: C.3.2 | G84: =E84*F84 -> 0
B85: C.4 Odpisy | G85: =SUM(G86:G87) -> 0
B86: C.4.1 | G86: =E86*F86 -> 0
B87: C.4.2 | G87: =E87*F87 -> 0
B88: CELKEM C | G88: =FLOOR(G62+G72+G82+G85,1) -> 0
B89: Procentní podíl kapitoly C na celkových nákladech | G89: =G88/$G$137 -> #DIV/0!
B91: D. Nemovitosti
B92: D.1 Nákup, výstavba | G92: =SUM(G93:G94) -> 0
B93: D.1.1 | G93: =E93*F93 -> 0
B94: D.1.2 | G94: =E94*F94 -> 0
B95: D.2 Renovace, rekonstrukce | G95: =SUM(G96:G97) -> 0
B96: D.2.1 | G96: =E96*F96 -> 0
B97: D.2.2 | G97: =E97*F97 -> 0
B98: D.3 Nákup pozemku | G98: =SUM(G99:G100) -> 0
B99: D.3.1 | G99: =E99*F99 -> 0
B100: D.3.2 | G100: =E100*F100 -> 0
B101: D.4 Drobné stavební úpravy | G101: =SUM(G102:G103) -> 0
B102: D.4.1 | G102: =E102*F102 -> 0
B103: D.4.2 | G103: =E103*F103 -> 0
B104: D.5 Odpisy | G104: =SUM(G105:G106) -> 0
B105: D.5.1 | G105: =E105*F105 -> 0
B106: D.5.2 | G106: =E106*F106 -> 0
...

Sheet II. Finanční zdroje
E1: Příloha č.1, část II.
B2: FINANČNÍ ZDROJE PROJEKTU
B4: Název projektu: | D4: =T('I. Plánovaný rozpočet projektu'!C4:G4)
B5: Název žadatele o finanční podporu: | D5: =T('I. Plánovaný rozpočet projektu'!C5:G5)
B7: Celkové náklady | D7: ='I. Plánovaný rozpočet projektu'!G137 -> 0
B9: Maximální možná podpora z ISF | D9: =FLOOR('I. Plánovaný rozpočet projektu'!G137*0.75,1) -> 0
B11: Zdroje financování
B12: Požadovaná finanční podpora z ISF | D12: =D9 -> 0 | E12: =D12/D7 -> #DIV/0!
B13: Příspěvek ze státního rozpočtu | E13: =D13/D7 -> #DIV/0!
B14: Další veřejné zdroje | E14: =D14/D7 -> #DIV/0!
B15: Soukromé spolufinancování | E15: =D15/D7 -> #DIV/0!
B16: Příspěvky třetích stran | E16: =D16/D7 -> #DIV/0!
B17: CELKEM | D17: =SUM(D12:D16) -> 0 | E17: =SUM(E12:E16) -> #DIV/0!
B18: KONTROLA | D18: =IF(D17>$D$7,"SOUČET ZDROJŮ JE VYŠŠÍ NEŽ CELKOVÉ NÁKLADY",IF(D17=$D$7,"V POŘÁDKU","SOUČET ZDROJŮ JE NIŽŠÍ NEŽ CELKOVÉ NÁKLADY")) -> V POŘÁDKU
B20: Rozpočet projektu dle klíčových aktivit
B21: Klíčová aktivita (kód + název) | D21: Náklady projektu v Kč | E21: % z celkových nákladů
B22: KA 1 - název | E22: =D22/$D$7 -> #DIV/0!
B23: KA 2 - název | E23: =D23/$D$7 -> #DIV/0!
B24: KA 3 - název | E24: =D24/$D$7 -> #DIV/0!
B25: KA 4 - název | E25: =D25/$D$7 -> #DIV/0!
B26: KA 3 - název | E26: =D26/$D$7 -> #DIV/0!
B27: Celkové náklady projektu | D27: =SUM(D22:D26) -> 0 | E27: =SUM(E22:E26) -> #DIV/0!
B28: KONTROLA | D28: =IF(D27>$D$7,"SOUČET NÁKLADŮ JE VYŠŠÍ NEŽ CELKOVÉ NÁKLADY",IF(D27=$D$7,"V POŘÁDKU","SOUČET NÁKLADŮ JE NIŽŠÍ NEŽ CELKOVÉ NÁKLADY")) -> V POŘÁDKU

Sheet III. Komentář k rozpočtu
C1: Příloha č. 1, část III.
B2: KOMENTÁŘ K ROZPOČTU PROJEKTU ISF
B4: Název projektu: | C4: =T('I. Plánovaný rozpočet projektu'!C4:G4)
B5: Název žadatele o finanční podporu: | C5: =T('I. Plánovaný rozpočet projektu'!C5:G5)
B7: Druh nákladů | C7: Komentář
B9: A. Osobní náklady
B10: A.1 Mzdy, platy, odměny z dohod odborných zaměstnanců
B11: A.1.1 Mzdy, platy
B12: A.1.1.1
B13: A.1.1.2
B14: A.1.2 Odměny z dohod (DPČ)
B15: A.1.2.1
B16: A.1.2.2
B17: A.1.3 Odměny z dohod (DPP)
B18: A.1.3.1
B19: A.1.3.2
B20: A.2 Mzdy, platy, odměny z dohod administrativních pracovníků
... B118: F.4.2

Sheet IV. Harmonogram čerpání
E1: Příloha č. 1, část IV.
B2: HARMONOGRAM ČERPÁNÍ ROZPOČTU
B4: Název projektu: | D4: =T('I. Plánovaný rozpočet projektu'!C4:G4)
B5: Název žadatele o finanční podporu: | D5: =T('I. Plánovaný rozpočet projektu'!C5:G5)
B7: Pořadí žádosti | C7: Datum předložení žádosti o platbu | D7: Předpokládaná požadovaná částka | E7: % z celkových nákladů
B8: 1 | E8: =D8/$D$17 -> #DIV/0!
B9: 2 | E9: =D9/$D$17 -> #DIV/0!
B10: 3 | E10: =D10/$D$17 -> #DIV/0!
B11: 4 | E11: =D11/$D$17 -> #DIV/0!
B12: 5 | E12: =D12/$D$17 -> #DIV/0!
B13: 6 | E13: =D13/$D$17 -> #DIV/0!
B14: 7 | E14: =D14/$D$17 -> #DIV/0!
B15: 8 | E15: =D15/$D$17 -> #DIV/0!
B16: 9 | E16: =D16/$D$17 -> #DIV/0!
B17: Celkové náklady projektu | D17: =SUM(D8:D16) -> 0 | E17: =SUM(E8:E16) -> #DIV/0!
B18: KONTROLA | D18: =IF(D17>'I. Plánovaný rozpočet projektu'!G137,"SOUČET ČÁSTEK JE VYŠŠÍ NEŽ CELKOVÉ NÁKLADY",IF(D17='I. Plánovaný rozpočet projektu'!G137,"V POŘÁDKU","SOUČET ČÁSTEK JE NIŽŠÍ NEŽ CELKOVÉ NÁKLADY")) -> V POŘÁDKU

Sheet V. Rekapitulace
E1: Příloha č. 1, část V.
B2: REKAPITULACE ROZPOČTU PROJEKTU ISF
B4: Název projektu: | C4: =T('I. Plánovaný rozpočet projektu'!C4:G4)
B5: Název žadatele o finanční podporu: | C5: =T('I. Plánovaný rozpočet projektu'!C5:G5)
C7: Částky v Kč
B9: Celkové náklady | C9: ='I. Plánovaný rozpočet projektu'!G137 -> 0
B11: Žádaná částka finanční podpory z ISF | C11: ='II. Finanční zdroje'!D12 -> 0
B13: Přímé náklady | C13: ='I. Plánovaný rozpočet projektu'!G135 -> 0
B15: Přímé investiční náklady | C15: ='I. Plánovaný rozpočet projektu'!G134 -> 0
B16: Přímé neinvestiční náklady | C16: ='I. Plánovaný rozpočet projektu'!G133 -> 0
