Workbook

Sheet I. Plánovaný rozpočet projektu
G1: Příloha č. 1, část I.
B2: ROZPOČET PROJEKTU ISF
B4: Název projektu:
B5: Název žadatele o finanční podporu:
B7: Druh nákladů | C7: Příjemce / Partner | D7: Jednotka | E7: Počet jednotek | F7: Jednotková cena v Kč | G7: Celkové náklady v Kč
B9: A. Osobní náklady
B10: A.1 Mzdy, platy, odměny z dohod odborných zaměstnanců | G10: =G11+G14+G17 -> 0
B11: A.1.1 Mzdy, platy | G11: =SUM(G12:G13) -> 0
B12: A.1.1.1 | G12: =E12*F12 -> 0
B13: A.1.1.2 | G13: =E13*F13 -> 0
B14: A.1.2 Odměny z dohod (DPČ) | G14: =SUM(G15:G16) -> 0
B15: A.1.2.1 | G15: =E15*F15 -> 0
B16: A.1.2.2 | G16: =E16*F16 -> 0
B17: A.1.3 Odměny z dohod (DPP) | G17: =SUM(G18:G19) -> 0
B18: A.1.3.1 | G18: =E18*F18 -> 0
B19: A.1.3.2 | G19: =E19*F19 -> 0
B20: A.2 Mzdy, platy, odměny z dohod administrativních pracovníků | G20: =G21+G24+G27 -> 0
B21: A.2.1 Mzdy, platy | G21: =SUM(G22:G23) -> 0
B22: A.2.1.1 | G22: =E22*F22 -> 0
B23: A.2.1.2 | G23: =E23*F23 -> 0
B24: A.2.2 Odměny z dohod (DPČ) | G24: =SUM(G25:G26) -> 0
B25: A.2.2.1 | G25: =E25*F25 -> 0
B26: A.2.2.2 | G26: =E26*F26 -> 0
B27: A.2.3 Odměny z dohod (DPP) | G27: =SUM(G28:G29) -> 0
B28: A.2.3.1 | G28: =E28*F28 -> 0
B29: A.2.3.2 | G29: =E29*F29 -> 0
B30: A.3 Zdravotní pojištění za zaměstnavatele | G30: =SUM(G31:G32) -> 0
B31: A.3.1 Zdravotní pojištění Příjemce | G31: =E31*F31 -> 0
B32: A.3.2 Zdravotní pojištění Partner 1 | G32: =E32*F32 -> 0
B33: A.4 Sociální pojištění za zaměstnavatele | G33: =SUM(G34:G35) -> 0
B34: A.4.1 Sociální pojištění Příjemce | G34: =E34*F34 -> 0
B35: A.4.2 Sociální pojištění Partner 1 | G35: =E35*F35 -> 0
B36: A.5 FKSP | G36: =SUM(G37:G38) -> 0
B37: A.5.1 FKSP Příjemce | G37: =E37*F37 -> 0
B38: A.5.2 FKSP Partner 1 | G38: =E38*F38 -> 0
B39: A.6 Jiné povinné výdaje | G39: =SUM(G40:G41) -> 0
B40: A.6.1 Jiné povinné výdaje Příjemce | G40: =E40*F40 -> 0
B41: A.6.2 Jiné povinné výdaje Partner 1 | G41: =E41*F41 -> 0
B42: CELKEM A | G42: =FLOOR(G10+G20+G30+G33+G36+G39,1) -> 0
B43: Procentní podíl kapitoly A na celkových nákladech | G43: =G42/$G$137 -> #DIV/0!
...

Sheet II. Finanční zdroje
E1: Příloha č.1, část II.
B2: FINANČNÍ ZDROJE PROJEKTU
B4: Název projektu: | D4: =T('I. Plánovaný rozpočet projektu'!C4:G4)
B5: Název žadatele o finanční podporu: | D5: =T('I. Plánovaný rozpočet projektu'!C5:G5)
B7: Celkové náklady | D7: ='I. Plánovaný rozpočet projektu'!G137 -> 0
B9: Maximální možná podpora z ISF | D9: =FLOOR('I. Plánovaný rozpočet projektu'!G137*0.75,1) -> 0
B11: Zdroje financování
B12: Požadovaná finanční podpora z ISF | D12: =D9 -> 0 | E12: =D12/D7 -> #DIV/0!
B13: Příspěvek ze státního rozpočtu | E13: =D13/D7 -> #DIV/0!
B14: Další veřejné zdroje | E14: =D14/D7 -> #DIV/0!
B15: Soukromé spolufinancování | E15: =D15/D7 -> #DIV/0!
B16: Příspěvky třetích stran | E16: =D16/D7 -> #DIV/0!
B17: CELKEM | D17: =SUM(D12:D16) -> 0 | E17: =SUM(E12:E16) -> #DIV/0!
B18: KONTROLA | D18: =IF(D17>$D$7,"SOUČET ZDROJŮ JE VYŠŠÍ NEŽ CELKOVÉ NÁKLADY",IF(D17=$D$7,"V POŘÁDKU","SOUČET ZDROJŮ JE NIŽŠÍ NEŽ CELKOVÉ NÁKLADY")) -> V POŘÁDKU
B20: Rozpočet projektu dle klíčových aktivit
B21: Klíčová aktivita (kód + název) | D21: Náklady projektu v Kč | E21: % z celkových nákladů
B22: KA 1 - název | E22: =D22/$D$7 -> #DIV/0!
B23: KA 2 - název | E23: =D23/$D$7 -> #DIV/0!
B24: KA 3 - název | E24: =D24/$D$7 -> #DIV/0!
B25: KA 4 - název | E25: =D25/$D$7 -> #DIV/0!
B26: KA 3 - název | E26: =D26/$D$7 -> #DIV/0!
B27: Celkové náklady projektu | D27: =SUM(D22:D26) -> 0 | E27: =SUM(E22:E26) -> #DIV/0!
B28: KONTROLA | D28: =IF(D27>$D$7,"SOUČET NÁKLADŮ JE VYŠŠÍ NEŽ CELKOVÉ NÁKLADY",IF(D27=$D$7,"V POŘÁDKU","SOUČET NÁKLADŮ JE NIŽŠÍ NEŽ CELKOVÉ NÁKLADY")) -> V POŘÁDKU

Sheet III. Komentář k rozpočtu
C1: Příloha č. 1, část III.
B2: KOMENTÁŘ K ROZPOČTU PROJEKTU ISF
B4: Název projektu: | C4: =T('I. Plánovaný rozpočet projektu'!C4:G4)
B5: Název žadatele o finanční podporu: | C5: =T('I. Plánovaný rozpočet projektu'!C5:G5)
B7: Druh nákladů | C7: Komentář
B9: A. Osobní náklady
B10: A.1 Mzdy, platy, odměny z dohod odborných zaměstnanců
B11: A.1.1 Mzdy, platy
B12: A.1.1.1
B13: A.1.1.2
B14: A.1.2 Odměny z dohod (DPČ)
B15: A.1.2.1
B16: A.1.2.2
B17: A.1.3 Odměny z dohod (DPP)
B18: A.1.3.1
B19: A.1.3.2
B20: A.2 Mzdy, platy, odměny z dohod administrativních pracovníků
... B118: F.4.2

Sheet IV. Harmonogram čerpání
E1: Příloha č. 1, část IV.
B2: HARMONOGRAM ČERPÁNÍ ROZPOČTU
B4: Název projektu: | D4: =T('I. Plánovaný rozpočet projektu'!C4:G4)
B5: Název žadatele o finanční podporu: | D5: =T('I. Plánovaný rozpočet projektu'!C5:G5)
B7: Pořadí žádosti | C7: Datum předložení žádosti o platbu | D7: Předpokládaná požadovaná částka | E7: % z celkových nákladů
B8: 1 | E8: =D8/$D$17 -> #DIV/0!
B9: 2 | E9: =D9/$D$17 -> #DIV/0!
B10: 3 | E10: =D10/$D$17 -> #DIV/0!
B11: 4 | E11: =D11/$D$17 -> #DIV/0!
B12: 5 | E12: =D12/$D$17 -> #DIV/0!
B13: 6 | E13: =D13/$D$17 -> #DIV/0!
B14: 7 | E14: =D14/$D$17 -> #DIV/0!
B15: 8 | E15: =D15/$D$17 -> #DIV/0!
B16: 9 | E16: =D16/$D$17 -> #DIV/0!
B17: Celkové náklady projektu | D17: =SUM(D8:D16) -> 0 | E17: =SUM(E8:E16) -> #DIV/0!
B18: KONTROLA | D18: =IF(D17>'I. Plánovaný rozpočet projektu'!G137,"SOUČET ČÁSTEK JE VYŠŠÍ NEŽ CELKOVÉ NÁKLADY",IF(D17='I. Plánovaný rozpočet projektu'!G137,"V POŘÁDKU","SOUČET ČÁSTEK JE NIŽŠÍ NEŽ CELKOVÉ NÁKLADY")) -> V POŘÁDKU

Sheet V. Rekapitulace
E1: Příloha č. 1, část V.
B2: REKAPITULACE ROZPOČTU PROJEKTU ISF
B4: Název projektu: | C4: =T('I. Plánovaný rozpočet projektu'!C4:G4)
B5: Název žadatele o finanční podporu: | C5: =T('I. Plánovaný rozpočet projektu'!C5:G5)
C7: Částky v Kč
B9: Celkové náklady | C9: ='I. Plánovaný rozpočet projektu'!G137 -> 0
B11: Žádaná částka finanční podpory z ISF | C11: ='II. Finanční zdroje'!D12 -> 0
B13: Přímé náklady | C13: ='I. Plánovaný rozpočet projektu'!G135 -> 0
B15: Přímé investiční náklady | C15: ='I. Plánovaný rozpočet projektu'!G134 -> 0
B16: Přímé neinvestiční náklady | C16: ='I. Plánovaný rozpočet projektu'!G133 -> 0
