Workbook

Sheet Informace
A1: Harmonogram VZ vypsaných dle zákona č. 137/2006 Sb., o veřejných zakázkách
A3: 1) | B3: Harmonogram je postaven dle kritéria „Požadované datum zřízení služby“. Termíny uvedené v harmonogramu jsou termíny předpokládané.
A4: 2) | B4: Tímto bychom Vás chtěli požádat, abyste si harmonogram prošli a zkontrolovali si předpokládané termíny, ceny. Zda Vám vyhovují v návaznosti na Vaše stávající smlouvy, předávací protokoly o převzetí služby do provozu. Tuto kontrolu prosím provádějte průběžně.
A5: 3) | B5: Pokud Vám termíny nebudou vyhovovat, pošlete nám požadavek na kivs@mvcr.cz, dalším nezbytným krokem bude doplnění služby, tj. „Požadovaného data zřízení služby“ do portálu KIVS, aby se nám toto datum vyexportovalo do Poptávkového listu.
A6: 4) | B6: V současné chvíli máte služby v harmonogramu ve stavu „Postoupení“ a jsou zabaleny v příslušných poptávkových listech, tzn., že je službu nelze editovat.
A7: 5) | B7: Úpravy můžete provádět do doby odeslání Výzvy k podání nabídek viz harmonogram.
A8: 6) | B8: Pro příp. úpravy je nezbytné požádat o odemčení služby, a to buď prostřednictvím emailu kivs@mvcr.cz nebo se můžete obrátit na paní Thomasovou vlastimila.thomasova@mvcr.cz.
A9: 7) | B9: V případě, že do doby odeslání Výzvy k podání nabídek vznikne na Vaší straně požadavek na novou službu, je příp. možné ji zabalit do již připravených poptávkových listů (typ služby, kraj atd.). Z Vaší strany potřebujeme novou službu zadat do portálu KIVS, dát do stavu „Postoupení“.
A10: 8) | B10: Po odeslání Výzvy k podání nabídek nelze s vypsanými službami již manipulovat, a to až do doby ukončení dílčí VZ.
A11: 9) | B11: V případě, že služby přesoutěžujete a změníte (povýšíte) požadované parametry, pak doporučujeme povýšit cenu, která Vašim novým požadavkům odpovídá.
B13: Pro bližší informace k návrhům termínů se můžete příp. obrátit na Petru Stehlíkovou, GSM +420 777 443 065.

Sheet Celkový_přehled
A1: Celkový harmonogram VZ vypsaných dle zákona č. 137/2006 Sb., o veřejných zakázkách
A3: Soutěžní kolo PZ | B3: Pověřující zadavatelé | C3: Služby soutěžené v PL | D3: Počet PL v kole | E3: Počet služeb | F3: Celková maximální přípustná cena pro hodnocení | G3: Datum odeslání F9 z DNS | H3: Datum uveřejnění (Věstník) | I3: Podání předběžných nabídek | J3: Zveřejnění výzev | K3: Podání nabídek | L3: Otevření a posouzení nabídek | M3: Vyhodnocení nabídek | N3: Odeslání výzvy do EA s přesnými termíny | O3: Zahájení EA | P3: Rozhodnutí o nejvhodnější nabídce | Q3: Odevzdání finálních nabídek (PL) | R3: Komise a rozhodnutí o výběru nejvhodnější nabídky | S3: Lhůta pro námitky | T3: Datum odeslání Informace k vyplnění smlouvy z DNS/ Datum odeslání Výzvy k uzavření smlouvy | U3: Podpis smlouvy | V3: Povinnosti Centrálního zadavatele
A5: I. s.k. (data) Jířa | B5: MV, GIBS, KŘP C, ZZMV, KŘP P, MPO, KŘP J | C5: DATA_ETHERNET, DATA_VPN, DATA_INTERNET-SYM, DATA_INTERNET-ASYM | D5: 28 | E5: =SUM(HARMG_PZ_DATA_IV!K2:K29) -> 235 | F5: =SUM(HARMG_PZ_DATA_IV!M2:M29) -> 63666791 | G5: 42633 | H5: 42633 | I5: 42647 | J5: 42661 | K5: 18.11.2016 /02.12.2016 | L5: 18.11.2016 /02.12.2016 | M5: 23.11., 28.11., 02.12, 05.12.2016 | N5: 23.11., 29.11., 07.12.2016 | O5: 28. - 29.11.2016 / 02., 07., 12.- 15.12.2016 | P5: 28. - 29.11.2016 / 02., 07., 12.- 15.12.2016 | Q5: 02.- 05.12., 08.12., 16.12. - 21.12.2016 | R5: 29.11., 02.12., 06. - 08.12., 13., 12., 15.12., 21.12., 28.12.2016 | S5: 14.12., 19.12., 21. - 23.12., 27.12.2016, 05.01.2017 | T5: 29.11., 02.12., 06. - 08.12., 13., 12., 15.12., 21.12., 28.12.2016 | U5: 30.12.2016, 16.01., 20.01., 26.1.2017 | V5: 02., 17., 31.01., 02., 03.02.2017
A6: II. s.k. (data) Ivet | B6: MV, KŘP U, GIBS, KŘP T, KŘP M, KŘP L | C6: DATA_ETHERNET, DATA_INTERNET-SYM | D6: 26 | E6: =SUM(HARMG_PZ_DATA_IV!K30:K55) -> 129 | F6: =SUM(HARMG_PZ_DATA_IV!M30:M55) -> 30744324 | G6: 42642 | H6: 42643 | I6: 42660 | J6: 42667 | K6: 24.11.2016 / 05.12.2016 | L6: 24.11.2016 / 05.12.2016 | M6: 25.11.2016 / 06.12.2016 | N6: 28.11., 15.12.2016/09.02.2017 | O6: 01.-07.12., 21.12.2016/15.02.2017 | P6: 01.-07.12., 21.12.2016/15.02.2017 | Q6: 07.-13.12., 28.12.2016 | R6: 06., 13., 15., 29.12.2016/12.01., 17.02.2017 | S6: 12., 21., 28., 30.12.2016/12., 13., 27.01.2017/06.03.2017 | T6: 06., 13., 15., 29.12.2016/12.01., 17.02.2017 | U6: 30.12.2016/16., 20., 26.01.2017 | V6: 17., 31.01.2017/02., 03.02.2017
A7: III. s.k. (data) Jířa | B7: KŘP C, MV, KŘP P, KŘP K, KŘP U, KŘP L, KŘP H, KŘP T, KŘP M, KŘP B, KŘP A, MD | C7: DATA_ETHERNET, DATA_INTERNET-SYM, DATA_INTERNET-ASYM, DATA_AL | D7: 24 | E7: =SUM(HARMG_PZ_DATA_IV!K56:K79) -> 235 | F7: =SUM(HARMG_PZ_DATA_IV!M56:M79) -> 23191045 | G7: 42636 | H7: 42636 | I7: 42650 | J7: 42678 | K7: 05.12., 14.12., 19.12.2016 | L7: 05.12., 14.12., 19.12.2016 | M7: 06.12., 15.12., 20.12.2016 | N7: 07.12., 15.12.2016/06.01.2017 | O7: 13. - 14., 21.12.2016 / 03., 11.01.2017 | P7: 13. - 14., 21.12.2016 / 03., 11.01.2017 | Q7: 19.-20., 28.12.2016 / 09.17.01.2017 | R7: 21., 28.12.2016 / 06, 16., 20.01./20.02.2017 | S7: 30.12.2016/05., 12., 23., 31.01./7.3.2017 | T7: 21., 28.12.2016 / 06, 16., 20.01./20.02.2017 | U7: 20., 24., 26.01.2017/10.02.2017 | V7: 02.01.2017/02., 03., 14.02.2017
A8: IV. s.k. (hlasy) Jířa | B8: GIBS; KŘP A; KŘP B; KŘP C; KŘP E; KŘP H; KŘP J; KŘP K; KŘP L; KŘP M; KŘP P; KŘP T; KŘP U; KŘP Z; MV; GŘ HZS; HZS A; HZS H; HZS K; HZS L; HZS P; HZS S; HZS U, CzechInvest | C8: HLAS_PCM PL_400; HLAS_ISDN30 PL_401, HLAS_ISDN2 PL_402; HLAS_ISDN30 PL_403, HLAS_GL | D8: 3 | E8: 264 | F8: =SUM(HARMG_PZ_HLASY_IV!L2:L4) -> 11642438 | G8: 42633 | H8: 42633 | I8: 42660 | J8: 09.11.2016/7.12.2016 | K8: 23.12.2016/23.01.2017 | L8: 23.12.2016/23.01.2017 | M8: 02., 21. 01.2017 | N8: x | O8: x | P8: x | Q8: x | R8: 42737 | S8: 42752 | T8: 42737
A9: V. s.k. (data) Ivet | B9: KŘP A, MV, KŘP S | C9: DATA_AL | D9: 12 | E9: =SUM(HARMG_PZ_DATA_IV!K80:K91) -> 381 | F9: =SUM(HARMG_PZ_DATA_IV!M80:M91) -> 22237776 | G9: 42640 | H9: 42640 | I9: 42654 | J9: 42688 | K9: 42733 | L9: 42733 | M9: 42734 | N9: 42737 | O9: 42740 | P9: 42740 | Q9: 42746 | R9: 02., 23.01.2017 | S9: 17.01.2017/07.02.2017 | T9: 02., 23.01.2017 | U9: 24.01.2017/10.02.2017 | V9: 02., 14.,02.2017
A10: VI. s.k. (hlasy) Ivet | B10: KŘP A; KŘP S; MV, GŘ HZS, KŘP C, ZZMV, KŘP B, KŘP K, KŘP J, HZS H; KŘP H; KŘP L; KŘP U; KŘP T, KŘP M, HZS P; KŘP P | C10: HLAS_HTS | D10: 25 | E10: =SUM(HARMG_PZ_HLASY_IV!J5:J29) -> 982 | F10: =SUM(HARMG_PZ_HLASY_IV!L5:L29) -> 11706483 | G10: 42633 | H10: 42633 | I10: 42647 | J10: 42723 | K10: 42783 | L10: 42783 | M10: 42786 | N10: 42786 | O10: 23.02.- 01.03.2017 | P10: 23.02.- 01.03.2017 | Q10: 01.03.-07.03.2017 | R10: 20.02.2017/09.03.2017 | S10: 07.03.2017/24.03.2017 | T10: 20.02.2017/09.03.2017
A11: VII. s.k. (data) Jířa | B11: KŘP C, MV, KŘP T | C11: DATA_ETHERNET, DATA_DF-BACKUP | D11: 5 | E11: =SUM(HARMG_PZ_DATA_IV!K92:K96) -> 5 | F11: =SUM(HARMG_PZ_DATA_IV!M92:M96) -> 1941375 | G11: 42642 | H11: 42643 | I11: 42660 | J11: 42787 | K11: 42817 | L11: 42817 | M11: 42821 | N11: 42821 | O11: 42824 | P11: 42824 | Q11: 42830 | R11: 42832 | S11: 42849 | T11: 42832
A12: VIII. s.k. (hlasy) Ivet | B12: GŘ HZS;HZS S;KŘP A;KŘP S;MV, KŘP U;ZZMV, KŘP Z; VPŠ a SPŠ MV v Holešově, GFŘ; GŘC; MF, ČTÚ, ČSSZ; ÚP ČR, ČMI MPO | C12: HLAS_HTS - probíhá verifikace PL (bude upraveno) | D12: 27 | E12: =SUM(HARMG_PZ_HLASY_IV!J30:J56) -> 504 | F12: =SUM(HARMG_PZ_HLASY_IV!L30:L56) -> 5005479.1 | G12: 42640 | H12: 42640 | I12: 42654 | J12: 42793 | K12: 42823 | L12: 42823 | M12: 42825 | N12: 42825 | O12: 05.-11.04.2017 | P12: 05.-11.04.2017 | Q12: 11.04.-18.04.2017 | R12: 42844 | S12: 42859 | T12: 42844
A13: IX. s.k.(hlasy) Ivet | B13: ČSSZ, ÚP ČR, ČMI MPO, SEI, ČTÚ, ČOI, ÚPV, MPO, NBÚ, GŘC | C13: HLAS_HTS - probíhá verifikace PL (bude upraveno) | D13: 28 | E13: =SUM(HARMG_PZ_HLASY_IV!J57:J84) -> 193 | F13: =SUM(HARMG_PZ_HLASY_IV!L57:L84) -> 2217700.6 | G13: 42640 | H13: 42642 | I13: 42655 | J13: 42803 | K13: 42835 | L13: 42835 | M13: 42837 | N13: 42837 | O13: 18. - 24.04.2017 | P13: 18. - 24.04.2017 | Q13: 24.-28.04.2017 | R13: 42857 | S13: 42872 | T13: 42857
A14: X. s.k. (hlasy) Jířa | B14: GŘ HZS; KŘP A; KŘP S; MV, KŘP K, HZS A; KŘP T; ZZMV, MPO, ČSSZ, GFŘ, GŘC, NBÚ, ÚP ČR, | C14: HTS_ADSL, HLAS_ISDN2, HLAS_ISDN30, HLAS_BL - (před verifikací PL) | D14: 29 | E14: 134 | F14: =SUM(HARMG_PZ_HLASY_IV!L85:L113) -> 3043456.6 | G14: 42640 | H14: 42642 | I14: 42655 | J14: 42815 | K14: 42850 | L14: 42850 | M14: 42851 | N14: 42851 | O14: 02. - 09.05.2017 | P14: 02. - 09.05.2017 | Q14: 09.-15.05.2017 | R14: 42870 | S14: 42885 | T14: 42870
B15: CELKEM | D15: =SUM(D5:D14) -> 207 | E15: =SUM(E5:E14) -> 3062 | F15: =SUM(F5:F14) -> 1.7539687e+08

Sheet HARMG_PZ_HLASY_IV
A1: Soutěžní kolo PZ | B1: Číslo | C1: P1_Poptavkovy_list_Pověřující zadavatelé | D1: Název výzvy (dle F9) | E1: Evidenční číslo zakázky: | F1: Vaše č. jednací (Číslo objednávky) | G1: Fáze zadávacího řízení | H1: Název Poptávkového listu | I1: Doba trvání smlouvy | J1: Počet služeb v PL | K1: Požadované datum zřízení služby | L1: Celková maximální přípustná cena pro hodnocení | M1: Hodnotící kritérium | N1: Smluvní cena bez DPH | O1: Hovorné (vízězné) | P1: Smluvní cena s DPH | Q1: Úspora v Kč | R1: Úspora % | S1: Úspora na hovorném proti nabídce vítězného uchazeče | T1: Datum odeslání F9 z DNS | U1: Datum uveřejnění (VVZ) | V1: Podání předběžných nabídek | W1: Zveřejnění výzev | X1: Podání nabídek | Y1: Otevření a posouzení nabídek | Z1: Vyhodnocení nabídek | AA1: Odeslání výzvy do EA s přesnými termíny | AB1: Zahájení EA | AC1: Čas zahájení - dokončení EA | AD1: Rozhodnutí o nejvhodnější nabídce | AE1: Odevzdání finálních nabídek (PL) | AF1: Komise a rozhodnutí o výběru nejvhodnější nabídky | AG1: Lhůta pro námitky | AH1: Datum odeslání Informace k vyplnění smlouvy z DNS/ Datum odeslání Výzvy k uzavření smlouvy | AI1: Vítěz uchazeč | AJ1: Č.j.: Smlouvy | AK1: Podpis smlouvy / Oznámení o uzavření smlouvy | AL1: Povinnosti Centrálního zadavatele | AM1: Migrace (Max. doba zavedení služby) | AN1: Námitky 16.8.2016 /Rozhodnutí o nich 24. 8. 2016 (O2)
A2: IV. s.k. | B2: 402403 | C2: GŘ HZS;HZS A;HZS H;HZS K;HZS L;HZS P;HZS S;HZS U | D2: HLAS_ISDN2 PL_402; HLAS_ISDN30 PL_403 | E2: 642241 | F2: MV- 16472-177/SIK5-2016 | G2: Hodnocení | H2: P1_Poptavkovy_list_402403-HLAS_ISDN2_ISDN30.xlsx | I2: 24M | J2: 139 | K2: x | L2: 2387352 | M2: Celková cena pro hodnocení 40%, hovorné pro hodnocení 60% | N2: 2386208 | O2: 0.58 | P2: =N2*0.21+N2 -> 2887311.7 | Q2: =L2-N2 -> 1144 | R2: =(L2-N2)/ABS(L2) -> 0.00047919201 | T2: 42633 | U2: 42633 | V2: 42647 | W2: 42683 | X2: 42727 | Y2: 42727 | Z2: 42737 | AA2: x | AB2: x | AC2: x | AD2: x | AE2: x | AF2: 42737 | AG2: 42752 | AH2: 02.01.2017/18.1.2017 opakovaná výzva | AI2: O2 Czech Republic a.s | AJ2: MV- 27887-404/SIK5-2016 | AM2: 90 kalendářních dní
B3: 400401 | C3: GIBS; KŘP A; KŘP B; KŘP C; KŘP E; KŘP H; KŘP J; KŘP K; KŘP L; KŘP M; KŘP P; KŘP T; KŘP U; KŘP Z; MV | D3: HLAS_PCM PL_400; HLAS_ISDN30 PL_401 | E3: 642244 | F3: MV- 16472-176/SIK5-2016 | G3: Hodnocení | H3: P1_Poptavkovy_list_400401-HLAS_ISDN30_PCM.xlsx | I3: 24M | J3: 124 | K3: x | L3: 9248125.7 | M3: Celková cena pro hodnocení 40%, hovorné pro hodnocení 60% | T3: 42633 | U3: 42633 | V3: 42647 | W3: 42711 | X3: 42758 | Y3: 42758 | Z3: 42757 | AA3: x | AB3: x | AC3: x | AD3: x | AE3: x | AM3: 90 kalendářních dní
B4: 1852 | C4: CzechInvest | D4: HLAS_GL PL_1852 | E4: 646706 | F4: MV- 16472-579/SIK5-2016 | G4: Zrušeno | H4: P1_Poptavkovy_list_1852-HLAS_GL.xlsx | I4: 24M | J4: 1 | K4: x | L4: 6960 | M4: Celková cena pro hodnocení 40%, hovorné pro hodnocení 60% | N4: x | O4: x | P4: x | Q4: x | R4: x | S4: x | T4: 42640 | U4: 42642 | V4: 42655 | W4: 42711 | X4: x | Y4: x | Z4: x | AA4: x | AB4: x | AC4: x | AD4: x | AE4: x | AF4: 42758 | AG4: 42773 | AH4: x | AI4: x | AJ4: x | AK4: x | AL4: 42774 | AM4: x
A5: VI. s.k. | B5: 1500 | C5: KŘP A; KŘP S; MV | D5: HLAS_HTS PL_1500 | E5: 642696 | F5: MV- 16472-323/SIK5-2016 | G5: Hodnocení | H5: P1_Poptavkovy_list_1500-HLAS_HTS.xlsx | I5: 24M | J5: 58 | K5: x | L5: 719026.56 | M5: Celková cena pro hodnocení 60%, hovorné pro hodnocení 40% | T5: 42633 | U5: 42633 | V5: 42647 | W5: 42723 | X5: 42783 | Y5: 42783 | Z5: 42786 | AA5: 42786 | AB5: 42789 | AC5: 9:00 -9:50 | AD5: 42789 | AE5: 42795 | AF5: 42803 | AG5: 42818 | AH5: 42803 | AM5: 90 kalendářních dní
B6: 1501 | C6: KŘP A | D6: HLAS_HTS PL_1501 | E6: 642697 | F6: MV- 16472-324/SIK5-2016 | G6: Hodnocení | H6: P1_Poptavkovy_list_1501-HLAS_HTS.xlsx | I6: 24M | J6: 54 | K6: x | L6: 662367.84 | M6: Celková cena pro hodnocení 60%, hovorné pro hodnocení 40% | T6: 42633 | U6: 42633 | V6: 42647 | W6: 42723 | X6: 42783 | Y6: 42783 | Z6: 42786 | AA6: 42786 | AB6: 42789 | AC6: 10:00 - 10:50 | AD6: 42789 | AE6: 42795 | AF6: 42803 | AG6: 42818 | AH6: 42803 | AM6: 90 kalendářních dní
B7: 1502 | C7: GŘ HZS; KŘP A | D7: HLAS_HTS PL_1502 | E7: 642723 | F7: MV- 16472-325/SIK5-2016 | G7: Hodnocení | H7: P1_Poptavkovy_list_1502-HLAS_HTS.xlsx | I7: 24M | J7: 48 | K7: x | L7: 571983.6 | M7: Celková cena pro hodnocení 60%, hovorné pro hodnocení 40% | T7: 42633 | U7: 42633 | V7: 42647 | W7: 42723 | X7: 42783 | Y7: 42783 | Z7: 42786 | AA7: 42786 | AB7: 42789 | AC7: 11:00 - 11:50 | AD7: 42789 | AE7: 42795 | AF7: 42803 | AG7: 42818 | AH7: 42803 | AM7: 90 kalendářních dní
B8: 1503 | C8: KŘP A | D8: HLAS_HTS PL_1503 | E8: 642698 | F8: MV- 16472-326/SIK5-2016 | G8: Hodnocení | H8: P1_Poptavkovy_list_1503-HLAS_HTS.xlsx | I8: 24M | J8: 55 | K8: x | L8: 688402.8 | M8: Celková cena pro hodnocení 60%, hovorné pro hodnocení 40% | T8: 42633 | U8: 42633 | V8: 42647 | W8: 42723 | X8: 42783 | Y8: 42783 | Z8: 42786 | AA8: 42786 | AB8: 42789 | AC8: 13:00 - 13:50 | AD8: 42789 | AE8: 42795 | AF8: 42803 | AG8: 42818 | AH8: 42803 | AM8: 90 kalendářních dní
B9: 1504 | C9: KŘP A | D9: HLAS_HTS PL_1504 | E9: 642699 | F9: MV- 16472-327/SIK5-2016 | G9: Hodnocení | H9: P1_Poptavkovy_list_1504-HLAS_HTS.xlsx | I9: 24M | J9: 56 | K9: x | L9: 698837.76 | M9: Celková cena pro hodnocení 60%, hovorné pro hodnocení 40% | T9: 42633 | U9: 42633 | V9: 42647 | W9: 42723 | X9: 42783 | Y9: 42783 | Z9: 42786 | AA9: 42786 | AB9: 42789 | AC9: 14:00 - 14:50 | AD9: 42789 | AE9: 42795 | AF9: 42803 | AG9: 42818 | AH9: 42803 | AM9: 90 kalendářních dní
B10: 1505 | C10: KŘP A | D10: HLAS_HTS PL_1505 | E10: 642701 | F10: MV- 16472-328/SIK5-2016 | G10: Hodnocení | H10: P1_Poptavkovy_list_1505-HLAS_HTS.xlsx | I10: 24M | J10: 56 | K10: x | L10: 702341.76 | M10: Celková cena pro hodnocení 60%, hovorné pro hodnocení 40% | T10: 42633 | U10: 42633 | V10: 42647 | W10: 42723 | X10: 42783 | Y10: 42783 | Z10: 42786 | AA10: 42786 | AB10: 42790 | AC10: 9:00 -9:50 | AD10: 42790 | AE10: 42796 | AF10: 42803 | AG10: 42818 | AH10: 42803 | AM10: 90 kalendářních dní
B11: 1506 | C11: KŘP A | D11: HLAS_HTS PL_1506 | E11: 642702 | F11: MV- 16472-329/SIK5-2016 | G11: Hodnocení | H11: P1_Poptavkovy_list_1506-HLAS_HTS.xlsx | I11: 24M | J11: 56 | K11: x | L11: 704357.76 | M11: Celková cena pro hodnocení 60%, hovorné pro hodnocení 40% | T11: 42633 | U11: 42633 | V11: 42647 | W11: 42723 | X11: 42783 | Y11: 42783 | Z11: 42786 | AA11: 42786 | AB11: 42790 | AC11: 10:00 - 10:50 | AD11: 42790 | AE11: 42796 | AF11: 42803 | AG11: 42818 | AH11: 42803 | AM11: 90 kalendářních dní
B12: 1507 | C12: KŘP A; KŘP S; MV | D12: HLAS_HTS PL_1507 | E12: 642703 | F12: MV- 16472-330/SIK5-2016 | G12: Hodnocení | H12: P1_Poptavkovy_list_1507-HLAS_HTS.xlsx | I12: 24M | J12: 50 | K12: x | L12: 594229.44 | M12: Celková cena pro hodnocení 60%, hovorné pro hodnocení 40% | T12: 42633 | U12: 42633 | V12: 42647 | W12: 42723 | X12: 42783 | Y12: 42783 | Z12: 42786 | AA12: 42786 | AB12: 42790 | AC12: 11:00 - 11:50 | AD12: 42790 | AE12: 42796 | AF12: 42803 | AG12: 42818 | AH12: 42803 | AM12: 90 kalendářních dní
B13: 1508 | C13: MV | D13: HLAS_HTS PL_1508 | E13: 642704 | F13: MV- 16472-331/SIK5-2016 | G13: Hodnocení | H13: P1_Poptavkovy_list_1508-HLAS_HTS.xlsx | I13: 24M | J13: 46 | K13: x | L13: 546204 | M13: Celková cena pro hodnocení 60%, hovorné pro hodnocení 40% | T13: 42633 | U13: 42633 | V13: 42647 | W13: 42723 | X13: 42783 | Y13: 42783 | Z13: 42786 | AA13: 42786 | AB13: 42790 | AC13: 13:00 - 13:50 | AD13: 42790 | AE13: 42796 | AF13: 42803 | AG13: 42818 | AH13: 42803 | AM13: 90 kalendářních dní
B14: 1509 | C14: MV | D14: HLAS_HTS PL_1509 | E14: 642705 | F14: MV- 16472-332/SIK5-2016 | G14: Hodnocení | H14: P1_Poptavkovy_list_1509-HLAS_HTS.xlsx | I14: 24M | J14: 50 | K14: x | L14: 610217.52 | M14: Celková cena pro hodnocení 60%, hovorné pro hodnocení 40% | T14: 42633 | U14: 42633 | V14: 42647 | W14: 42723 | X14: 42783 | Y14: 42783 | Z14: 42786 | AA14: 42786 | AB14: 42790 | AC14: 14:00 - 14:50 | AD14: 42790 | AE14: 42796 | AF14: 42803 | AG14: 42818 | AH14: 42803 | AM14: 90 kalendářních dní
B15: 1510 | C15: MV | D15: HLAS_HTS PL_1510 | E15: 642706 | F15: MV- 16472-333/SIK5-2016 | G15: Hodnocení | H15: P1_Poptavkovy_list_1510-HLAS_HTS.xlsx | I15: 24M | J15: 33 | K15: x | L15: 391842 | M15: Celková cena pro hodnocení 60%, hovorné pro hodnocení 40% | T15: 42633 | U15: 42633 | V15: 42647 | W15: 42723 | X15: 42783 | Y15: 42783 | Z15: 42786 | AA15: 42786 | AB15: 42793 | AC15: 9:00 -9:50 | AD15: 42793 | AE15: 42797 | AF15: 42803 | AG15: 42818 | AH15: 42803 | AM15: 90 kalendářních dní
B16: 1511 | C16: KŘP A; MV | D16: HLAS_HTS PL_1511 | E16: 642707 | F16: MV- 16472-334/SIK5-2016 | G16: Hodnocení | H16: P1_Poptavkovy_list_1511-HLAS_HTS.xlsx | I16: 24M | J16: 17 | K16: x | L16: 210519.36 | M16: Celková cena pro hodnocení 60%, hovorné pro hodnocení 40% | T16: 42633 | U16: 42633 | V16: 42647 | W16: 42723 | X16: 42783 | Y16: 42783 | Z16: 42786 | AA16: 42786 | AB16: 42793 | AC16: 10:00 - 10:50 | AD16: 42793 | AE16: 42797 | AF16: 42803 | AG16: 42818 | AH16: 42803 | AM16: 90 kalendářních dní
B17: 1512 | C17: GŘ HZS; KŘP C | D17: HLAS_HTS PL_1512 | E17: 642708 | F17: MV- 16472-335/SIK5-2016 | G17: Hodnocení | H17: P1_Poptavkovy_list_1512-HLAS_HTS.xlsx | I17: 24M | J17: 47 | K17: x | L17: 438355.2 | M17: Celková cena pro hodnocení 60%, hovorné pro hodnocení 40% | T17: 42633 | U17: 42633 | V17: 42647 | W17: 42723 | X17: 42783 | Y17: 42783 | Z17: 42786 | AA17: 42786 | AB17: 42793 | AC17: 11:00 - 11:50 | AD17: 42793 | AE17: 42797 | AF17: 42803 | AG17: 42818 | AH17: 42803 | AM17: 90 kalendářních dní
... B26: 1521 | C26: GŘ HZS; KŘP M | D26: HLAS_HTS PL_1521 | E26: 642718 | F26: MV- 16472-344/SIK5-2016 | G26: Hodnocení | H26: P1_Poptavkovy_list_1521-HLAS_HTS.xlsx | I26: 24M | J26: 64 | K26: x | L26: 762714 | M26: Celková cena pro hodnocení 60%, hovorné pro hodnocení 40% | T26: 42633 | U26: 42633 | V26: 42647 | W26: 42723 | X26: 42783 | Y26: 42783 | Z26: 42786 | AA26: 42786 | AB26: 42795 | AC26: 10:00 - 10:50 | AD26: 42795 | AE26: 42801 | AF26: 42803 | AG26: 42818 | AH26: 42803 | AM26: 90 kalendářních dní
B27: 1523 | C27: GŘ HZS, HZS P, KŘP P, MV, ZZMV | D27: HLAS_HTS PL_1523 | E27: 642720 | F27: MV- 16472-346/SIK5-2016 | G27: Hodnocení | H27: P1_Poptavkovy_list_1523-HLAS_HTS.xlsx | I27: 24M | J27: 9 | K27: x | L27: 88614 | M27: Celková cena pro hodnocení 60%, hovorné pro hodnocení 40% | N27: 88614 | O27: 3.04 | P27: =N27*0.21+N27 -> 107222.94 | Q27: =L27-N27 -> 0 | R27: =(L27-N27)/ABS(L27) -> 0 | T27: 42633 | U27: 42633 | V27: 42647 | W27: 42723 | X27: 42783 | Y27: 42783 | Z27: 42786 | AA27: x | AB27: x | AC27: x | AD27: x | AE27: x | AF27: 42786 | AG27: 42801 | AH27: 42786 | AI27: ha-vel internet s.r.o. | AJ27: MV-814-4/SIK5-2017 | AM27: 90 kalendářních dní
B28: 1524 | C28: KŘP P; MV | D28: HLAS_HTS PL_1524 | E28: 642721 | F28: MV- 16472-347/SIK5-2016 | G28: Hodnocení | H28: P1_Poptavkovy_list_1524-HLAS_HTS.xlsx | I28: 24M | J28: 2 | K28: x | L28: 17802.96 | M28: Celková cena pro hodnocení 60%, hovorné pro hodnocení 40% | N28: 17802.96 | O28: 3.04 | P28: =N28*0.21+N28 -> 21541.582 | Q28: =L28-N28 -> 0 | R28: =(L28-N28)/ABS(L28) -> 0 | T28: 42633 | U28: 42633 | V28: 42647 | W28: 42723 | X28: 42783 | Y28: 42783 | Z28: 42786 | AA28: x | AB28: x | AC28: x | AD28: x | AE28: x | AF28: 42786 | AG28: 42801 | AH28: 42803 | AI28: ha-vel internet s.r.o. | AJ28: MV-814-4/SIK5-2017 | AM28: 90 kalendářních dní
B29: 1525 | C29: KŘP P;MV | D29: HLAS_HTS PL_1525 | E29: 642722 | F29: MV- 16472-348/SIK5-2016 | G29: Hodnocení | H29: P1_Poptavkovy_list_1525-HLAS_HTS.xlsx | I29: 24M | J29: 8 | K29: x | L29: 95764.8 | M29: Celková cena pro hodnocení 60%, hovorné pro hodnocení 40% | T29: 42633 | U29: 42633 | V29: 42647 | W29: 42723 | X29: 42783 | Y29: 42783 | Z29: 42786 | AA29: 42786 | AB29: 42795 | AC29: 11:00 - 11:50 | AD29: 42795 | AE29: 42801 | AF29: 42803 | AG29: 42818 | AH29: 42803 | AM29: 90 kalendářních dní
A30: VIII.s.k. | B30: 1526 | C30: GŘ HZS;HZS S;KŘP A;KŘP S;MV | D30: HLAS_HTS PL_1526 | E30: 646489 | F30: MV- 16472-431/SIK5-2016 | G30: Příjem předběžných nabídek v DNS | H30: P1_Poptavkovy_list_1526-HLAS_HTS.xlsx | I30: 24M | J30: 62 | K30: x | L30: 756570.24 | M30: Celková cena pro hodnocení 60%, hovorné pro hodnocení 40% | T30: 42640 | U30: 42640 | V30: 42654 | W30: 42793 | X30: 42823 | Y30: 42823 | Z30: 42825 | AA30: 42825 | AB30: 42830 | AC30: 9:00 -9:50 | AD30: 42830 | AE30: 42836 | AF30: 42844 | AG30: 42859 | AH30: 42844 | AM30: 90 kalendářních dní
B31: 1527 | C31: KŘP U;MV;ZZMV | D31: HLAS_HTS PL_1527 | E31: 646490 | F31: MV- 16472-432/SIK5-2016 | G31: Příjem předběžných nabídek v DNS | H31: P1_Poptavkovy_list_1527-HLAS_HTS.xlsx | I31: 24M | J31: 19 | K31: x | L31: 219438.96 | M31: Celková cena pro hodnocení 60%, hovorné pro hodnocení 40% | T31: 42640 | U31: 42640 | V31: 42654 | W31: 42793 | X31: 42823 | Y31: 42823 | Z31: 42825 | AA31: 42825 | AB31: 42830 | AC31: 10:00 - 10:50 | AD31: 42830 | AE31: 42836 | AF31: 42844 | AG31: 42859 | AH31: 42844 | AM31: 90 kalendářních dní
B32: 1528 | C32: KŘP Z; MV; VPŠ a SPŠ MV v Holešově | D32: HLAS_HTS PL_1528 | E32: 646491 | F32: MV- 16472-433/SIK5-2016 | G32: Příjem předběžných nabídek v DNS | H32: P1_Poptavkovy_list_1528-HLAS_HTS.xlsx | I32: 24M | J32: 15 | K32: x | L32: 197803.2 | M32: Celková cena pro hodnocení 60%, hovorné pro hodnocení 40% | T32: 42640 | U32: 42640 | V32: 42654 | W32: 42793 | X32: 42823 | Y32: 42823 | Z32: 42825 | AA32: 42825 | AB32: 42830 | AC32: 11:00 - 11:50 | AD32: 42830 | AE32: 42836 | AF32: 42844 | AG32: 42859 | AH32: 42844 | AM32: 90 kalendářních dní
B33: 1529 | C33: GFŘ; GŘC; MF | D33: HLAS_HTS PL_1529 | E33: 646492 | F33: MV- 16472-434/SIK5-2016 | G33: Příjem předběžných nabídek v DNS | H33: P1_Poptavkovy_list_1529-HLAS_HTS.xlsx | I33: 24M | J33: 47 | K33: x | L33: 262800 | M33: Celková cena pro hodnocení 60%, hovorné pro hodnocení 40% | T33: 42640 | U33: 42640 | V33: 42654 | W33: 42793 | X33: 42823 | Y33: 42823 | Z33: 42825 | AA33: 42825 | AB33: 42830 | AC33: 13:00 - 13:50 | AD33: 42830 | AE33: 42836 | AF33: 42844 | AG33: 42859 | AH33: 42844 | AM33: 90 kalendářních dní
B34: 1530 | C34: GŘC | D34: HLAS_HTS PL_1530 | E34: 646495 | F34: MV- 16472-435/SIK5-2016 | G34: Příjem předběžných nabídek v DNS | H34: P1_Poptavkovy_list_1530-HLAS_HTS.xlsx | I34: 24M | J34: 5 | K34: x | L34: 24000 | M34: Celková cena pro hodnocení 60%, hovorné pro hodnocení 40% | T34: 42640 | U34: 42640 | V34: 42654 | W34: 42793 | X34: 42823 | Y34: 42823 | Z34: 42825 | AA34: 42825 | AB34: 42830 | AC34: 14:00 - 14:50 | AD34: 42830 | AE34: 42836 | AF34: 42844 | AG34: 42859 | AH34: 42844 | AM34: 90 kalendářních dní
B35: 1531 | C35: GFŘ; GŘC | D35: HLAS_HTS PL_1531 | E35: 646496 | F35: MV- 16472-436/SIK5-2016 | G35: Příjem předběžných nabídek v DNS | H35: P1_Poptavkovy_list_1531-HLAS_HTS.xlsx | I35: 24M | J35: 14 | K35: x | L35: 69600 | M35: Celková cena pro hodnocení 60%, hovorné pro hodnocení 40% | T35: 42640 | U35: 42640 | V35: 42654 | W35: 42793 | X35: 42823 | Y35: 42823 | Z35: 42825 | AA35: 42825 | AB35: 42830 | AC35: 15:00 - 15:50 | AD35: 42830 | AE35: 42836 | AF35: 42844 | AG35: 42859 | AH35: 42844 | AM35: 90 kalendářních dní
B36: 1532 | C36: GFŘ; GŘC | D36: HLAS_HTS PL_1532 | E36: 646497 | F36: MV- 16472-437/SIK5-2016 | G36: Příjem předběžných nabídek v DNS | H36: P1_Poptavkovy_list_1532-HLAS_HTS.xlsx | I36: 24M | J36: 9 | K36: x | L36: 52800 | M36: Celková cena pro hodnocení 60%, hovorné pro hodnocení 40% | T36: 42640 | U36: 42640 | V36: 42654 | W36: 42793 | X36: 42823 | Y36: 42823 | Z36: 42825 | AA36: 42825 | AB36: 42831 | AC36: 9:00 -9:50 | AD36: 42831 | AE36: 42837 | AF36: 42844 | AG36: 42859 | AH36: 42844 | AM36: 90 kalendářních dní
B37: 1533 | C37: GŘC | D37: HLAS_HTS PL_1533 | E37: 646498 | F37: MV- 16472-438/SIK5-2016 | G37: Příjem předběžných nabídek v DNS | H37: P1_Poptavkovy_list_1533-HLAS_HTS.xlsx | I37: 24M | J37: 7 | K37: x | L37: 33600 | M37: Celková cena pro hodnocení 60%, hovorné pro hodnocení 40% | T37: 42640 | U37: 42640 | V37: 42654 | W37: 42793 | X37: 42823 | Y37: 42823 | Z37: 42825 | AA37: 42825 | AB37: 42831 | AC37: 10:00 - 10:50 | AD37: 42831 | AE37: 42837 | AF37: 42844 | AG37: 42859 | AH37: 42844 | AM37: 90 kalendářních dní
B38: 1534 | C38: GFŘ; GŘC | D38: HLAS_HTS PL_1534 | E38: 646499 | F38: MV- 16472-439/SIK5-2016 | G38: Příjem předběžných nabídek v DNS | H38: P1_Poptavkovy_list_1534-HLAS_HTS.xlsx | I38: 24M | J38: 4 | K38: x | L38: 21600 | M38: Celková cena pro hodnocení 60%, hovorné pro hodnocení 40% | T38: 42640 | U38: 42640 | V38: 42654 | W38: 42793 | X38: 42823 | Y38: 42823 | Z38: 42825 | AA38: 42825 | AB38: 42831 | AC38: 11:00 - 11:50 | AD38: 42831 | AE38: 42837 | AF38: 42844 | AG38: 42859 | AH38: 42844 | AM38: 90 kalendářních dní
B39: 1535 | C39: ČTÚ | D39: HLAS_HTS PL_1535 | E39: 646500 | F39: MV- 16472-440/SIK5-2016 | G39: Příjem předběžných nabídek v DNS | H39: P1_Poptavkovy_list_1535-HLAS_HTS.xlsx | I39: 24M | J39: 3 | K39: x | L39: 32400 | M39: Celková cena pro hodnocení 60%, hovorné pro hodnocení 40% | T39: 42640 | U39: 42640 | V39: 42654 | W39: 42793 | X39: 42823 | Y39: 42823 | Z39: 42825 | AA39: 42825 | AB39: 42831 | AC39: 13:00 - 13:50 | AD39: 42831 | AE39: 42837 | AF39: 42844 | AG39: 42859 | AH39: 42844 | AM39: 90 kalendářních dní
B40: 1536 | C40: GFŘ | D40: HLAS_HTS PL_1536 | E40: 646501 | F40: MV- 16472-441/SIK5-2016 | G40: Příjem předběžných nabídek v DNS | H40: P1_Poptavkovy_list_1536-HLAS_HTS.xlsx | I40: 24M | J40: 16 | K40: x | L40: 96000 | M40: Celková cena pro hodnocení 60%, hovorné pro hodnocení 40% | T40: 42640 | U40: 42640 | V40: 42654 | W40: 42793 | X40: 42823 | Y40: 42823 | Z40: 42825 | AA40: 42825 | AB40: 42831 | AC40: 14:00 - 14:50 | AD40: 42831 | AE40: 42837 | AF40: 42844 | AG40: 42859 | AH40: 42844 | AM40: 90 kalendářních dní
B41: 1537 | C41: GFŘ; GŘC | D41: HLAS_HTS PL_1537 | E41: 646502 | F41: MV- 16472-442/SIK5-2016 | G41: Příjem předběžných nabídek v DNS | H41: P1_Poptavkovy_list_1537-HLAS_HTS.xlsx | I41: 24M | J41: 10 | K41: x | L41: 58800 | M41: Celková cena pro hodnocení 60%, hovorné pro hodnocení 40% | T41: 42640 | U41: 42640 | V41: 42654 | W41: 42793 | X41: 42823 | Y41: 42823 | Z41: 42825 | AA41: 42825 | AB41: 42831 | AC41: 15:00 - 15:50 | AD41: 42831 | AE41: 42837 | AF41: 42844 | AG41: 42859 | AH41: 42844 | AM41: 90 kalendářních dní
B42: 1538 | C42: GFŘ; GŘC | D42: HLAS_HTS PL_1538 | E42: 646503 | F42: MV- 16472-443/SIK5-2016 | G42: Příjem předběžných nabídek v DNS | H42: P1_Poptavkovy_list_1538-HLAS_HTS.xlsx | I42: 24M | J42: 4 | K42: x | L42: 22800 | M42: Celková cena pro hodnocení 60%, hovorné pro hodnocení 40% | T42: 42640 | U42: 42640 | V42: 42654 | W42: 42793 | X42: 42823 | Y42: 42823 | Z42: 42825 | AA42: 42825 | AB42: 42832 | AC42: 9:00 -9:50 | AD42: 42832 | AE42: 42838 | AF42: 42844 | AG42: 42859 | AH42: 42844 | AM42: 90 kalendářních dní
... B56: 1553 | C56: ČMI MPO; ÚP ČR | D56: HLAS_HTS PL_1553 | E56: 646523 | F56: MV- 16472-457/SIK5-2016 | G56: Příjem předběžných nabídek v DNS | H56: P1_Poptavkovy_list_1553-HLAS_HTS.xlsx | I56: 24M | J56: 8 | K56: x | L56: 95572.08 | M56: Celková cena pro hodnocení 60%, hovorné pro hodnocení 40% | T56: 42640 | U56: 42640 | V56: 42654 | W56: 42793 | X56: 42823 | Y56: 42823 | Z56: 42825 | AA56: 42825 | AB56: 42836 | AC56: 14:00 - 14:50 | AD56: 42836 | AE56: 42843 | AF56: 42844 | AG56: 42859 | AH56: 42844 | AM56: 90 kalendářních dní
A57: IX. s.k. | B57: 1554 | C57: ČSSZ;ÚP ČR | D57: HLAS_HTS PL_1554 | E57: 646632 | F57: MV- 16472-522/SIK5-2016 | G57: Příjem předběžných nabídek v DNS | H57: P1_Poptavkovy_list_1554-HLAS_HTS.xlsx | I57: 24M | J57: 20 | K57: x | L57: 237775.46 | M57: Celková cena pro hodnocení 60%, hovorné pro hodnocení 40% | T57: 42640 | U57: 42642 | V57: 42655 | W57: 42803 | X57: 42835 | Y57: 42835 | Z57: 42837 | AA57: 42837 | AB57: 42843 | AC57: 9:00 -9:50 | AD57: 42843 | AE57: 42849 | AF57: 42857 | AG57: 42872 | AH57: 42857 | AM57: 90 kalendářních dní
B58: 1555 | C58: ČSSZ;ÚP ČR | D58: HLAS_HTS PL_1555 | E58: 646633 | F58: MV- 16472-523/SIK5-2016 | G58: Příjem předběžných nabídek v DNS | H58: P1_Poptavkovy_list_1555-HLAS_HTS.xlsx | I58: 24M | J58: 44 | K58: x | L58: 524079.94 | M58: Celková cena pro hodnocení 60%, hovorné pro hodnocení 40% | T58: 42640 | U58: 42642 | V58: 42655 | W58: 42803 | X58: 42835 | Y58: 42835 | Z58: 42837 | AA58: 42837 | AB58: 42843 | AC58: 10:00 - 10:50 | AD58: 42843 | AE58: 42849 | AF58: 42857 | AG58: 42872 | AH58: 42857 | AM58: 90 kalendářních dní
B59: 1556 | C59: ČSSZ;ÚP ČR | D59: HLAS_HTS PL_1556 | E59: 646634 | F59: MV- 16472-524/SIK5-2016 | G59: Příjem předběžných nabídek v DNS | H59: P1_Poptavkovy_list_1556-HLAS_HTS.xlsx | I59: 24M | J59: 15 | K59: x | L59: 180313.51 | M59: Celková cena pro hodnocení 60%, hovorné pro hodnocení 40% | T59: 42640 | U59: 42642 | V59: 42655 | W59: 42803 | X59: 42835 | Y59: 42835 | Z59: 42837 | AA59: 42837 | AB59: 42843 | AC59: 11:00 - 11:50 | AD59: 42843 | AE59: 42849 | AF59: 42857 | AG59: 42872 | AH59: 42857 | AM59: 90 kalendářních dní
B60: 1557 | C60: ČSSZ;ÚP ČR | D60: HLAS_HTS PL_1557 | E60: 646635 | F60: MV- 16472-525/SIK5-2016 | G60: Příjem předběžných nabídek v DNS | H60: P1_Poptavkovy_list_1557-HLAS_HTS.xlsx | I60: 24M | J60: 12 | K60: x | L60: 142924.18 | M60: Celková cena pro hodnocení 60%, hovorné pro hodnocení 40% | T60: 42640 | U60: 42642 | V60: 42655 | W60: 42803 | X60: 42835 | Y60: 42835 | Z60: 42837 | AA60: 42837 | AB60: 42843 | AC60: 13:00 - 13:50 | AD60: 42843 | AE60: 42849 | AF60: 42857 | AG60: 42872 | AH60: 42857 | AM60: 90 kalendářních dní
B61: 1558 | C61: ČMI MPO;SEI | D61: HLAS_HTS PL_1558 | E61: 646636 | F61: MV- 16472-526/SIK5-2016 | G61: Příjem předběžných nabídek v DNS | H61: P1_Poptavkovy_list_1558-HLAS_HTS.xlsx | I61: 24M | J61: 4 | K61: x | L61: 47795.04 | M61: Celková cena pro hodnocení 60%, hovorné pro hodnocení 40% | T61: 42640 | U61: 42642 | V61: 42655 | W61: 42803 | X61: 42835 | Y61: 42835 | Z61: 42837 | AA61: 42837 | AB61: 42843 | AC61: 14:00 - 14:50 | AD61: 42843 | AE61: 42849 | AF61: 42857 | AG61: 42872 | AH61: 42857 | AM61: 90 kalendářních dní
B62: 1559 | C62: ČTÚ | D62: HLAS_HTS PL_1559 | E62: 646637 | F62: MV- 16472-527/SIK5-2016 | G62: Příjem předběžných nabídek v DNS | H62: P1_Poptavkovy_list_1559-HLAS_HTS.xlsx | I62: 24M | J62: 4 | K62: x | L62: 43200 | M62: Celková cena pro hodnocení 60%, hovorné pro hodnocení 40% | T62: 42640 | U62: 42642 | V62: 42655 | W62: 42803 | X62: 42835 | Y62: 42835 | Z62: 42837 | AA62: 42837 | AB62: 42843 | AC62: 15:00 - 15:50 | AD62: 42843 | AE62: 42849 | AF62: 42857 | AG62: 42872 | AH62: 42857 | AM62: 90 kalendářních dní
B63: 1560 | C63: ČMI MPO;SEI | D63: HLAS_HTS PL_1560 | E63: 646638 | F63: MV- 16472-528/SIK5-2016 | G63: Příjem předběžných nabídek v DNS | H63: P1_Poptavkovy_list_1560-HLAS_HTS.xlsx | I63: 24M | J63: 4 | K63: x | L63: 47795.04 | M63: Celková cena pro hodnocení 60%, hovorné pro hodnocení 40% | T63: 42640 | U63: 42642 | V63: 42655 | W63: 42803 | X63: 42835 | Y63: 42835 | Z63: 42837 | AA63: 42837 | AB63: 42844 | AC63: 9:00 -9:50 | AD63: 42844 | AE63: 42850 | AF63: 42857 | AG63: 42872 | AH63: 42857 | AM63: 90 kalendářních dní
B64: 1561 | C64: ČOI;SEI | D64: HLAS_HTS PL_1561 | E64: 646639 | F64: MV- 16472-529/SIK5-2016 | G64: Příjem předběžných nabídek v DNS | H64: P1_Poptavkovy_list_1561-HLAS_HTS.xlsx | I64: 24M | J64: 3 | K64: x | L64: 37770 | M64: Celková cena pro hodnocení 60%, hovorné pro hodnocení 40% | T64: 42640 | U64: 42642 | V64: 42655 | W64: 42803 | X64: 42835 | Y64: 42835 | Z64: 42837 | AA64: 42837 | AB64: 42844 | AC64: 10:00 - 10:50 | AD64: 42844 | AE64: 42850 | AF64: 42857 | AG64: 42872 | AH64: 42857 | AM64: 90 kalendářních dní
B65: 1562 | C65: ÚPV | D65: HLAS_HTS PL_1562 | E65: 646640 | F65: MV- 16472-530/SIK5-2016 | G65: Příjem předběžných nabídek v DNS | H65: P1_Poptavkovy_list_1562-HLAS_HTS.xlsx | I65: 24M | J65: 9 | K65: x | L65: 56160 | M65: Celková cena pro hodnocení 60%, hovorné pro hodnocení 40% | T65: 42640 | U65: 42642 | V65: 42655 | W65: 42803 | X65: 42835 | Y65: 42835 | Z65: 42837 | AA65: 42837 | AB65: 42844 | AC65: 11:00 - 11:50 | AD65: 42844 | AE65: 42850 | AF65: 42857 | AG65: 42872 | AH65: 42857 | AM65: 90 kalendářních dní
B66: 1563 | C66: ČTÚ | D66: HLAS_HTS PL_1563 | E66: 646641 | F66: MV- 16472-531/SIK5-2016 | G66: Příjem předběžných nabídek v DNS | H66: P1_Poptavkovy_list_1563-HLAS_HTS.xlsx | I66: 24M | J66: 5 | K66: x | L66: 54000 | M66: Celková cena pro hodnocení 60%, hovorné pro hodnocení 40% | T66: 42640 | U66: 42642 | V66: 42655 | W66: 42803 | X66: 42835 | Y66: 42835 | Z66: 42837 | AA66: 42837 | AB66: 42844 | AC66: 13:00 - 13:50 | AD66: 42844 | AE66: 42850 | AF66: 42857 | AG66: 42872 | AH66: 42857 | AM66: 90 kalendářních dní
B67: 1564 | C67: MPO | D67: HLAS_HTS PL_1564 | E67: 646642 | F67: MV- 16472-532/SIK5-2016 | G67: Příjem předběžných nabídek v DNS | H67: P1_Poptavkovy_list_1564-HLAS_HTS.xlsx | I67: 24M | J67: 40 | K67: x | L67: 474979.44 | M67: Celková cena pro hodnocení 60%, hovorné pro hodnocení 40% | T67: 42640 | U67: 42642 | V67: 42655 | W67: 42803 | X67: 42835 | Y67: 42835 | Z67: 42837 | AA67: 42837 | AB67: 42844 | AC67: 14:00 - 14:50 | AD67: 42844 | AE67: 42850 | AF67: 42857 | AG67: 42872 | AH67: 42857 | AM67: 90 kalendářních dní
B68: 1565 | C68: ČTÚ | D68: HLAS_HTS PL_1565 | E68: 646644 | F68: MV- 16472-533/SIK5-2016 | G68: Příjem předběžných nabídek v DNS | H68: P1_Poptavkovy_list_1565-HLAS_HTS.xlsx | I68: 24M | J68: 5 | K68: x | L68: 55074 | M68: Celková cena pro hodnocení 60%, hovorné pro hodnocení 40% | T68: 42640 | U68: 42642 | V68: 42655 | W68: 42803 | X68: 42835 | Y68: 42835 | Z68: 42837 | AA68: 42837 | AB68: 42844 | AC68: 15:00 - 15:50 | AD68: 42844 | AE68: 42850 | AF68: 42857 | AG68: 42872 | AH68: 42857 | AM68: 90 kalendářních dní
B69: 1566 | C69: NBÚ | D69: HLAS_HTS PL_1566 | E69: 646645 | F69: MV- 16472-534/SIK5-2016 | G69: Příjem předběžných nabídek v DNS | H69: P1_Poptavkovy_list_1566-HLAS_HTS.xlsx | I69: 24M | J69: 2 | K69: x | L69: 23760 | M69: Celková cena pro hodnocení 60%, hovorné pro hodnocení 40% | T69: 42640 | U69: 42642 | V69: 42655 | W69: 42803 | X69: 42835 | Y69: 42835 | Z69: 42837 | AA69: 42837 | AB69: 42845 | AC69: 9:00 -9:50 | AD69: 42845 | AE69: 42851 | AF69: 42857 | AG69: 42872 | AH69: 42857 | AM69: 90 kalendářních dní
... B84: 1581 | C84: ČMI MPO | D84: HLAS_HTS PL_1581 | E84: 646665 | F84: MV- 16472-549/SIK5-2016 | G84: Příjem předběžných nabídek v DNS | H84: P1_Poptavkovy_list_1581-HLAS_HTS.xlsx | I84: 24M | J84: 1 | K84: x | L84: 11880 | M84: Celková cena pro hodnocení 60%, hovorné pro hodnocení 40% | T84: 42640 | U84: 42642 | V84: 42655 | W84: 42803 | X84: 42835 | Y84: 42835 | Z84: 42837 | AA84: 42837 | AB84: 42849 | AC84: 14:00 - 14:50 | AD84: 42849 | AE84: 42853 | AF84: 42857 | AG84: 42872 | AH84: 42857 | AM84: 90 kalendářních dní
A85: X. s.k. | B85: 2041 | C85: GŘ HZS; KŘP A; KŘP S; MV | D85: HTS_ADSL PL_2041 | E85: 646666 | F85: MV- 16472-550/SIK5-2016 | G85: Příjem předběžných nabídek v DNS | H85: P1_Poptavkovy_list_2041-HTS_ADSL.xlsx | I85: 24M | J85: 61 | K85: x | L85: 1468858.8 | M85: Celková cena pro hodnocení 60%, hovorné pro hodnocení 40% | T85: 42640 | U85: 42642 | V85: 42655 | W85: 42815 | X85: 42850 | Y85: 42850 | Z85: 42851 | AA85: 42851 | AB85: 42857 | AC85: 9:00 -9:50 | AD85: 42857 | AE85: 42864 | AM85: 90 kalendářních dní
B86: 2042 | C86: MV | D86: HTS_ADSL PL_2042 | E86: 646667 | F86: MV- 16472-551/SIK5-2016 | G86: Příjem předběžných nabídek v DNS | H86: P1_Poptavkovy_list_2042-HTS_ADSL.xlsx | I86: 24M | J86: 3 | K86: x | L86: 69336 | M86: Celková cena pro hodnocení 60%, hovorné pro hodnocení 40% | T86: 42640 | U86: 42642 | V86: 42655 | W86: 42815 | X86: 42850 | Y86: 42850 | Z86: 42851 | AA86: 42851 | AB86: 42857 | AC86: 10:00 - 10:50 | AD86: 42857 | AE86: 42864 | AF86: 42870 | AG86: 42885 | AH86: 42870 | AM86: 90 kalendářních dní
B87: 2043 | C87: KŘP K | D87: HTS_ADSL PL_2043 | E87: 646668 | F87: MV- 16472-552/SIK5-2016 | G87: Příjem předběžných nabídek v DNS | H87: P1_Poptavkovy_list_2043-HTS_ADSL.xlsx | I87: 24M | J87: 1 | K87: x | L87: 21576 | M87: Celková cena pro hodnocení 60%, hovorné pro hodnocení 40% | T87: 42640 | U87: 42642 | V87: 42655 | W87: 42815 | X87: 42850 | Y87: 42850 | Z87: 42851 | AA87: 42851 | AB87: 42857 | AC87: 11:00 - 11:50 | AD87: 42857 | AE87: 42864 | AF87: 42870 | AG87: 42885 | AH87: 42870 | AM87: 90 kalendářních dní
B88: 2044 | C88: KŘP A | D88: HTS_ADSL PL_2044 | E88: 646671 | F88: MV- 16472-553/SIK5-2016 | G88: Příjem předběžných nabídek v DNS | H88: P1_Poptavkovy_list_2044-HTS_ADSL.xlsx | I88: 24M | J88: 1 | K88: x | L88: 22310.88 | M88: Celková cena pro hodnocení 60%, hovorné pro hodnocení 40% | T88: 42640 | U88: 42642 | V88: 42655 | W88: 42815 | X88: 42850 | Y88: 42850 | Z88: 42851 | AA88: 42851 | AB88: 42857 | AC88: 13:00 - 13:50 | AD88: 42857 | AE88: 42864 | AF88: 42870 | AG88: 42885 | AH88: 42870 | AM88: 90 kalendářních dní
B89: 2045 | C89: KŘP S; MV | D89: HTS_ADSL PL_2045 | E89: 646672 | F89: MV- 16472-554/SIK5-2016 | G89: Příjem předběžných nabídek v DNS | H89: P1_Poptavkovy_list_2045-HTS_ADSL.xlsx | I89: 24M | J89: 4 | K89: x | L89: 73872 | M89: Celková cena pro hodnocení 60%, hovorné pro hodnocení 40% | T89: 42640 | U89: 42642 | V89: 42655 | W89: 42815 | X89: 42850 | Y89: 42850 | Z89: 42851 | AA89: 42851 | AB89: 42857 | AC89: 14:00 - 14:50 | AD89: 42857 | AE89: 42864 | AF89: 42870 | AG89: 42885 | AH89: 42870 | AM89: 90 kalendářních dní
B90: 2046 | C90: GŘ HZS; HZS A; MV | D90: HTS_ADSL PL_2046 | E90: 646673 | F90: MV- 16472-555/SIK5-2016 | G90: Příjem předběžných nabídek v DNS | H90: P1_Poptavkovy_list_2046-HTS_ADSL.xlsx | I90: 24M | J90: 4 | K90: x | L90: 64560 | M90: Celková cena pro hodnocení 60%, hovorné pro hodnocení 40% | T90: 42640 | U90: 42642 | V90: 42655 | W90: 42815 | X90: 42850 | Y90: 42850 | Z90: 42851 | AA90: 42851 | AB90: 42857 | AC90: 15:00 - 15:50 | AD90: 42857 | AE90: 42864 | AF90: 42870 | AG90: 42885 | AH90: 42870 | AM90: 90 kalendářních dní
B91: 2047 | C91: KŘP T; ZZMV | D91: HTS_ADSL PL_2047 | E91: 646674 | F91: MV- 16472-556/SIK5-2016 | G91: Příjem předběžných nabídek v DNS | H91: P1_Poptavkovy_list_2047-HTS_ADSL.xlsx | I91: 24M | J91: 3 | K91: x | L91: 35568 | M91: Celková cena pro hodnocení 60%, hovorné pro hodnocení 40% | T91: 42640 | U91: 42642 | V91: 42655 | W91: 42815 | X91: 42850 | Y91: 42850 | Z91: 42851 | AA91: 42851 | AB91: 42858 | AC91: 9:00 -9:50 | AD91: 42858 | AE91: 42865 | AF91: 42870 | AG91: 42885 | AH91: 42870 | AM91: 90 kalendářních dní
B92: 2048 | C92: KŘP A | D92: HTS_ADSL PL_2048 | E92: 646675 | F92: MV- 16472-557/SIK5-2016 | G92: Příjem předběžných nabídek v DNS | H92: P1_Poptavkovy_list_2048-HTS_ADSL.xlsx | I92: 24M | J92: 1 | K92: x | L92: 21350.88 | M92: Celková cena pro hodnocení 60%, hovorné pro hodnocení 40% | T92: 42640 | U92: 42642 | V92: 42655 | W92: 42815 | X92: 42850 | Y92: 42850 | Z92: 42851 | AA92: 42851 | AB92: 42858 | AC92: 10:00 - 10:50 | AD92: 42858 | AE92: 42865 | AF92: 42870 | AG92: 42885 | AH92: 42870 | AM92: 90 kalendářních dní
B93: 2050 | C93: GŘ HZS; KŘP S; MV | D93: HTS_ADSL PL_2050 | E93: 646676 | F93: MV- 16472-558/SIK5-2016 | G93: Příjem předběžných nabídek v DNS | H93: P1_Poptavkovy_list_2050-HTS_ADSL.xlsx | I93: 24M | J93: 9 | K93: x | L93: 153456 | M93: Celková cena pro hodnocení 60%, hovorné pro hodnocení 40% | T93: 42640 | U93: 42642 | V93: 42655 | W93: 42815 | X93: 42850 | Y93: 42850 | Z93: 42851 | AA93: 42851 | AB93: 42858 | AC93: 11:00 - 11:50 | AD93: 42858 | AE93: 42865 | AF93: 42870 | AG93: 42885 | AH93: 42870 | AM93: 90 kalendářních dní
B94: 2051 | C94: GŘ HZS | D94: HTS_ADSL PL_2051 | E94: 646677 | F94: MV- 16472-559/SIK5-2016 | G94: Příjem předběžných nabídek v DNS | H94: P1_Poptavkovy_list_2051-HTS_ADSL.xlsx | I94: 24M | J94: 1 | K94: x | L94: 11880 | M94: Celková cena pro hodnocení 60%, hovorné pro hodnocení 40% | T94: 42640 | U94: 42642 | V94: 42655 | W94: 42815 | X94: 42850 | Y94: 42850 | Z94: 42851 | AA94: 42851 | AB94: 42858 | AC94: 13:00 - 13:50 | AD94: 42858 | AE94: 42865 | AF94: 42870 | AG94: 42885 | AH94: 42870 | AM94: 90 kalendářních dní
B95: 2052 | C95: GŘ HZS | D95: HTS_ADSL PL_2052 | E95: 646678 | F95: MV- 16472-560/SIK5-2016 | G95: Příjem předběžných nabídek v DNS | H95: P1_Poptavkovy_list_2052-HTS_ADSL.xlsx | I95: 24M | J95: 1 | K95: x | L95: 11880 | M95: Celková cena pro hodnocení 60%, hovorné pro hodnocení 40% | T95: 42640 | U95: 42642 | V95: 42655 | W95: 42815 | X95: 42850 | Y95: 42850 | Z95: 42851 | AA95: 42851 | AB95: 42858 | AC95: 14:00 - 14:50 | AD95: 42858 | AE95: 42865 | AF95: 42870 | AG95: 42885 | AH95: 42870 | AM95: 90 kalendářních dní
B96: 2053 | C96: GŘ HZS | D96: HTS_ADSL PL_2053 | E96: 646680 | F96: MV- 16472-561/SIK5-2016 | G96: Příjem předběžných nabídek v DNS | H96: P1_Poptavkovy_list_2053-HTS_ADSL.xlsx | I96: 24M | J96: 1 | K96: x | L96: 11880 | M96: Celková cena pro hodnocení 60%, hovorné pro hodnocení 40% | T96: 42640 | U96: 42642 | V96: 42655 | W96: 42815 | X96: 42850 | Y96: 42850 | Z96: 42851 | AA96: 42851 | AB96: 42858 | AC96: 15:00 - 15:50 | AD96: 42858 | AE96: 42865 | AF96: 42870 | AG96: 42885 | AH96: 42870 | AM96: 90 kalendářních dní
B97: 2054 | C97: GŘ HZS | D97: HTS_ADSL PL_2054 | E97: 646682 | F97: MV- 16472-562/SIK5-2016 | G97: Příjem předběžných nabídek v DNS | H97: P1_Poptavkovy_list_2054-HTS_ADSL.xlsx | I97: 24M | J97: 1 | K97: x | L97: 11880 | M97: Celková cena pro hodnocení 60%, hovorné pro hodnocení 40% | T97: 42640 | U97: 42642 | V97: 42655 | W97: 42815 | X97: 42850 | Y97: 42850 | Z97: 42851 | AA97: 42851 | AB97: 42859 | AC97: 9:00 -9:50 | AD97: 42859 | AE97: 42866 | AF97: 42870 | AG97: 42885 | AH97: 42870 | AM97: 90 kalendářních dní
... B113: 1850 | C113: ÚP ČR | D113: HLAS_BL PL_1850 | E113: 633005 | F113: MV- 16472-35/SIK5-2016 | G113: Posouzení předběžných nabídek | H113: P1_Poptavkovy_list_1850-HLAS_BL.xlsx | I113: 24M | J113: 1 | K113: x | L113: 3000 | M113: Celková cena pro hodnocení 40%, hovorné pro hodnocení 60% | T113: 42633 | U113: 42633 | V113: 42647 | W113: 42815 | X113: 42850 | Y113: 42850 | Z113: 42851 | AA113: 42851 | AB113: 42864 | AC113: 15:00 - 15:50 | AD113: 42864 | AE113: 42870 | AF113: 42870 | AG113: 42885 | AH113: 42870 | AM113: 14, 40, 90 k.d. dle KL
B115: 1669 | C115: MV | D115: HLAS_ISDN2 PL_1669 | E115: 646696 | F115: MV- 16472-572/SIK5-2016 | G115: Zrušeno | H115: P1_Poptavkovy_list_1669-HLAS_ISDN2.xlsx | I115: x | J115: 1 | K115: x | L115: 15720 | M115: Celková cena pro hodnocení 40%, hovorné pro hodnocení 60% | N115: x | O115: x | P115: x | Q115: x | R115: x | S115: x | T115: 42640 | U115: 42642 | V115: 42655 | W115: x | X115: x | Y115: x | Z115: x | AA115: x | AB115: x | AC115: x | AD115: x | AE115: x | AF115: x | AG115: x | AH115: 42660 | AI115: 42675 | AJ115: x | AK115: x | AL115: 42663 | AM115: x
B116: 1522 | C116: KŘP E | D116: HLAS_HTS PL_1522 | E116: 642719 | F116: MV- 16472-345/SIK5-2016 | G116: Zrušeno | H116: P1_Poptavkovy_list_1522-HLAS_HTS.xlsx | I116: x | J116: 1 | K116: x | L116: 7200 | M116: Celková cena pro hodnocení 60%, hovorné pro hodnocení 40% | N116: x | O116: x | P116: x | Q116: x | R116: x | S116: x | T116: 42632 | U116: 42633 | V116: 42647 | W116: x | X116: x | Y116: x | Z116: x | AA116: x | AB116: x | AC116: x | AD116: x | AE116: x | AF116: x | AG116: x | AH116: 42675 | AI116: 42690 | AJ116: x | AK116: x | AL116: 42675 | AM116: x

Sheet HARMG_PZ_DATA_IV
A1: Soutěžní kolo PZ | B1: Číslo | C1: P1_Poptavkovy_list_Pověřující zadavatelé | D1: Název výzvy (dle F9) | E1: Evidenční číslo zakázky: | F1: Vaše č. jednací (Číslo objednávky) | G1: Fáze zadávacího řízení | H1: Název Poptávkového listu | I1: Doba trvání smlouvy | J1: Požadované datum zřízení služby | K1: Počet služeb v PL | L1: PL zadán dne | M1: Celková maximální přípustná cena pro hodnocení | N1: Hodnotící kritérium | O1: Datum odeslání F9 z DNS | P1: Datum uveřejnění (VVZ) | Q1: Podání předběžných nabídek | R1: Zveřejnění výzev | S1: Podání nabídek | T1: Otevření a posouzení nabídek | U1: Vyhodnocení nabídek | V1: Odeslání výzvy do EA s přesnými termíny | W1: Zahájení EA | X1: Čas zahájení - dokončení EA | Y1: Rozhodnutí o nejvhodnější nabídce | Z1: Odevzdání finálních nabídek (PL) | AA1: Komise a rozhodnutí o výběru nejvhodnější nabídky | AB1: Lhůta pro námitky | AC1: Datum odeslání Informace k vyplnění smlouvy z DNS/ Datum odeslání Výzvy k uzavření smlouvy | AD1: Vítěz uchazeč | AE1: Č.j.: Smlouvy | AF1: Podpis smlouvy / Oznámení o uzavření smlouvy | AG1: Povinnosti Centrálního zadavatele | AH1: Migrace (Max. doba zavedení služby)
A2: I. s.k. | B2: 2142 | C2: MV | D2: DATA_ETHERNET PL_2142 | E2: 641388 | F2: MV-116298-1428/SIK5-2013 | G2: Zrušeno | H2: P1_Poptavkovy_list_2142-DATA_ETHERNET.xlsx | I2: 36M | J2: 42856 | K2: 1 | M2: 427500 | N2: Nejnižší nabídková cena | O2: 42633 | P2: 42633 | Q2: 42647 | R2: 42661 | S2: 42692 | T2: 42692 | U2: x | V2: x | W2: x | X2: x | Y2: x | Z2: x | AA2: 42712 | AB2: 42727 | AC2: x | AD2: x | AE2: x | AF2: x | AG2: 42737 | AH2: x
B3: 2143 | C3: GIBS | D3: DATA_ETHERNET PL_2143 | E3: 641390 | F3: MV-116298-1429/SIK5-2013 | G3: Zadáno | H3: P1_Poptavkovy_list_2143-DATA_ETHERNET.xlsx | I3: 36M | J3: 42736 | K3: 1 | M3: 288000 | N3: Nejnižší nabídková cena | O3: 42633 | P3: 42633 | Q3: 42647 | R3: 42661 | S3: 42692 | T3: 42692 | U3: 42702 | V3: 42703 | W3: 42706 | X3: 9:00 -9:50 | Y3: 42706 | Z3: 42712 | AA3: 42710 | AB3: 42725 | AC3: 06.12.2016/13.12.2016 | AD3: T-Mobile Czech Republic a.s. | AE3: MV 113410-1601/SIK5 2014 | AF3: 30.12.2016/2.1.2017 | AG3: 42737 | AH3: 90 kalendářních dnů od podpisu smlouvy
B4: 2144 | C4: MV | D4: DATA_ETHERNET PL_2144 | E4: 646146 | F4: MV-116298-1468/SIK5-2013 | G4: Zadáno | H4: P1_Poptavkovy_list_2144-DATA_ETHERNET.xlsx | I4: 36M | J4: 42767 | K4: 1 | M4: 324000 | N4: Nejnižší nabídková cena | O4: 42633 | P4: 42633 | Q4: 42647 | R4: 42661 | S4: 42692 | T4: 42692 | U4: 42702 | V4: 42703 | W4: 42706 | X4: 10:00 - 10:50 | Y4: 42706 | Z4: 42712 | AA4: 42710 | AB4: 42725 | AC4: 06.12.2016/16.12.2016 | AD4: ha-vel internet s.r.o. | AE4: MV 113410-1604/SIK5 2014 | AF4: 30.12.2016/12.1.2017 | AG4: 42752 | AH4: 90 kalendářních dnů od podpisu smlouvy
B5: 2145 | C5: MV | D5: DATA_ETHERNET PL_2145 | E5: 646147 | F5: MV-116298-1469/SIK5-2013 | G5: Zadáno | H5: P1_Poptavkovy_list_2145-DATA_ETHERNET.xlsx | I5: 36M | J5: 42767 | K5: 3 | M5: 813600 | N5: Nejnižší nabídková cena | O5: 42633 | P5: 42633 | Q5: 42647 | R5: 42661 | S5: 42692 | T5: 42692 | U5: 42702 | V5: 42703 | W5: 42706 | X5: 11:00 - 11:50 | Y5: 42706 | Z5: 42712 | AA5: 43082 | AB5: 42731 | AC5: 13.12.2016/5.1.2017 | AD5: T-Mobile Czech Republic a.s. | AE5: MV- 113410-1607/SIK5-2014 | AF5: 20.01.2017/31.1.2017 | AG5: 42768 | AH5: 90 kalendářních dnů od podpisu smlouvy
B6: 2146 | C6: MV | D6: DATA_ETHERNET PL_2146 | E6: 646148 | F6: MV-116298-1470/SIK5-2013 | G6: Zadáno | H6: P1_Poptavkovy_list_2146-DATA_ETHERNET.xlsx | I6: 36M | J6: 42767 | K6: 2 | M6: 2025000 | N6: Nejnižší nabídková cena | O6: 42633 | P6: 42633 | Q6: 42647 | R6: 42661 | S6: 42692 | T6: 42692 | U6: 42697 | V6: 42697 | W6: 42702 | X6: 9:00 -9:50 | Y6: 42702 | Z6: 42706 | AA6: 29.11.2016 /7.12.2016 | AB6: 42726 | AC6: 29.11.2016/13.12.2016 | AD6: O2 Czech Republic a.s | AE6: MV 113410-1602/SIK5 2014 | AF6: 16.1.2017/31.1.2017 | AG6: 42766 | AH6: 90 kalendářních dnů od podpisu smlouvy
B7: 2147 | C7: KŘP C; ZZMV | D7: DATA_ETHERNET PL_2147 | E7: 646149 | F7: MV-116298-1471/SIK5-2013 | G7: Zadáno | H7: P1_Poptavkovy_list_2147-DATA_ETHERNET.xlsx | I7: 36M | J7: 42767 | K7: 2 | M7: 620325 | N7: Nejnižší nabídková cena | O7: 42633 | P7: 42633 | Q7: 42647 | R7: 42661 | S7: 42692 | T7: 42692 | U7: 42702 | V7: 42703 | W7: 42706 | X7: 13:00 - 13:50 | Y7: 42706 | Z7: 42712 | AA7: 42710 | AB7: 42725 | AC7: 06.12.2016/13.12.2016 | AD7: T-Mobile Czech Republic a.s. | AE7: MV 113410-1601/SIK5 2014 | AF7: 30.12.2016/2.1.2017 | AG7: 42737 | AH7: 90 kalendářních dnů od podpisu smlouvy
B8: 2148 | C8: MV | D8: DATA_ETHERNET PL_2148 | E8: 646150 | F8: MV-116298-1472/SIK5-2013 | G8: Zadáno | H8: P1_Poptavkovy_list_2148-DATA_ETHERNET.xlsx | I8: 36M | J8: 42767 | K8: 1 | M8: 450000 | N8: Nejnižší nabídková cena | O8: 42633 | P8: 42633 | Q8: 42647 | R8: 42661 | S8: 42692 | T8: 42692 | U8: 42697 | V8: 42697 | W8: 42702 | X8: 10:00 - 10:50 | Y8: 42702 | Z8: 42706 | AA8: 42706 | AB8: 42723 | AC8: 02.12.2016/16.12.2016 | AD8: ha-vel internet s.r.o. | AE8: MV 113410-1603/SIK5 2014 | AF8: 30.12.2016/12.1.2017 | AG8: 42752 | AH8: 90 kalendářních dnů od podpisu smlouvy
B9: 2149 | C9: MV | D9: DATA_ETHERNET PL_2149 | E9: 641391 | F9: MV-116298-1431/SIK5-2013 | G9: Zadáno | H9: P1_Poptavkovy_list_2149-DATA_ETHERNET.xlsx | I9: 36M | J9: 42736 | K9: 1 | M9: 459360 | N9: Nejnižší nabídková cena | O9: 42633 | P9: 42633 | Q9: 42647 | R9: 42661 | S9: 42692 | T9: 42692 | U9: 42697 | V9: 42697 | W9: 42702 | X9: 11:00 - 11:50 | Y9: 42702 | Z9: 42706 | AA9: 42703 | AB9: 42718 | AC9: 29.11.2016/13.12.2016 | AD9: O2 Czech Republic a.s | AE9: MV 113410-1602/SIK5 2014 | AF9: 16.1.2017/31.1.2017 | AG9: 42766 | AH9: 90 kalendářních dnů od podpisu smlouvy
B10: 2150 | C10: MV | D10: DATA_ETHERNET PL_2150 | E10: 641395 | F10: MV-116298-1432/SIK5-2013 | G10: Zadáno | H10: P1_Poptavkovy_list_2150-DATA_ETHERNET.xlsx | I10: 36M | J10: 42736 | K10: 1 | M10: 396000 | N10: Nejnižší nabídková cena | O10: 42633 | P10: 42633 | Q10: 42647 | R10: 42661 | S10: 42692 | T10: 42692 | U10: 42697 | V10: 42697 | W10: 42702 | X10: 13:00 - 13:50 | Y10: 42702 | Z10: 42706 | AA10: 42703 | AB10: 42718 | AC10: 29.11.2016/13.12.2016 | AD10: O2 Czech Republic a.s | AE10: MV 113410-1602/SIK5 2014 | AF10: 16.1.2017/31.1.2017 | AG10: 42766 | AH10: 90 kalendářních dnů od podpisu smlouvy
B11: 2151 | C11: MV | D11: DATA_ETHERNET PL_2151 | E11: 641392 | F11: MV-116298-1433/SIK5-2013 | G11: Zadáno | H11: P1_Poptavkovy_list_2151-DATA_ETHERNET.xlsx | I11: 36M | J11: 42736 | K11: 1 | M11: 610596 | N11: Nejnižší nabídková cena | O11: 42633 | P11: 42633 | Q11: 42647 | R11: 42661 | S11: 42692 | T11: 42692 | U11: 42697 | V11: 42697 | W11: 42702 | X11: 14:00 - 14:50 | Y11: 42702 | Z11: 42706 | AA11: 42703 | AB11: 42718 | AC11: 29.11.2016/13.12.2016 | AD11: O2 Czech Republic a.s | AE11: MV 113410-1602/SIK5 2014 | AF11: 16.1.2017/31.1.2017 | AG11: 42766 | AH11: 90 kalendářních dnů od podpisu smlouvy
B12: 2152 | C12: MV | D12: DATA_ETHERNET PL_2152 | E12: 641393 | F12: MV-116298-1434/SIK5-2013 | G12: Zadáno | H12: P1_Poptavkovy_list_2152-DATA_ETHERNET.xlsx | I12: 36M | J12: 42736 | K12: 1 | M12: 352440 | N12: Nejnižší nabídková cena | O12: 42633 | P12: 42633 | Q12: 42647 | R12: 42661 | S12: 42692 | T12: 42692 | U12: 42697 | V12: 42697 | W12: 42703 | X12: 9:00 -9:50 | Y12: 42703 | Z12: 42709 | AA12: 42706 | AB12: 42723 | AC12: 02.12.2016/16.12.2016 | AD12: ha-vel internet s.r.o. | AE12: MV 113410-1603/SIK5 2014 | AF12: 30.12.2016/12.1.2017 | AG12: 42752 | AH12: 90 kalendářních dnů od podpisu smlouvy
B13: 2153 | C13: MV | D13: DATA_ETHERNET PL_2153 | E13: 641394 | F13: MV-116298-1435/SIK5-2013 | G13: Zrušeno | H13: P1_Poptavkovy_list_2153-DATA_ETHERNET.xlsx | I13: 36M | J13: 42736 | K13: 1 | M13: 333000 | N13: Nejnižší nabídková cena | O13: 42633 | P13: 42633 | Q13: 42647 | R13: 42661 | S13: 42692 | T13: 42692 | U13: 42697 | V13: 42697 | W13: 42703 | X13: 10:00 - 10:50 | Y13: 42703 | Z13: 42709 | AA13: 42703 | AB13: 42718 | AC13: 29.11.2016/7.12.2016 | AD13: x | AE13: x | AF13: Oznámení o zrušení 15.12.2016/T:30.12.2016 | AG13: 42737 | AH13: x
B14: 56 | C14: MV | D14: DATA_ETHERNET PL_56 | E14: 641386 | F14: MV-116298-1426/SIK5-2013 | G14: Zadáno | H14: P1_Poptavkovy_list_56-DATA_ETHERNET.xlsx | I14: 36M | J14: 42767 | K14: 2 | M14: 770436 | N14: Nejnižší nabídková cena | O14: 42633 | P14: 42633 | Q14: 42647 | R14: 42661 | S14: 42706 | T14: 42706 | U14: 42709 | V14: 42711 | W14: 42716 | X14: 9:00 -9:50 | Y14: 42716 | Z14: 42720 | AA14: 42725 | AB14: 42740 | AC14: 21.12.2016/9.1.2017 | AD14: ha-vel internet s.r.o. | AE14: MV- 113410-1605/SIK5-2014 | AF14: 26.1.2017/1.2.2017 | AG14: 42769 | AH14: 90 kalendářních dnů od podpisu smlouvy
B15: 73 | C15: KŘP P | D15: DATA_ETHERNET PL_73 | E15: 641387 | F15: MV-116298-1427/SIK5-2013 | G15: Zadáno | H15: P1_Poptavkovy_list_73-DATA_ETHERNET.xlsx | I15: 36M | J15: 42767 | K15: 5 | M15: 1137600 | N15: Nejnižší nabídková cena | O15: 42633 | P15: 42633 | Q15: 42647 | R15: 42661 | S15: 42706 | T15: 42706 | U15: 42709 | V15: 42711 | W15: 42716 | X15: 10:00 - 10:50 | Y15: 42716 | Z15: 42720 | AA15: 42725 | AB15: 42740 | AC15: 21.12.2016/5.1.2017 | AD15: T-Mobile Czech Republic a.s. | AE15: MV- 113410-1607/SIK5-2014 | AF15: 20.01.2017/31.1.2017 | AG15: 42768 | AH15: 90 kalendářních dnů od podpisu smlouvy
B16: 1 | C16: MV | D16: DATA_VPN PL_1 | E16: 641359 | F16: MV-116298-1406/SIK5-2013 | G16: Hodnocení | H16: P1_Poptavkovy_list_1-DATA_VPN.xlsx | I16: 36M | J16: 42767 | K16: 29 | M16: 8446091.9 | N16: Nejnižší nabídková cena | O16: 42633 | P16: 42633 | Q16: 42647 | R16: 42661 | S16: 42706 | T16: 42706 | U16: 42709 | V16: 42711 | W16: 42718 | X16: 13:00 - 13:50 | Y16: 42718 | Z16: 42724 | AA16: 42732 | AB16: 42747 | AC16: 28.12.2016/9.1.2017 | AD16: ha-vel internet s.r.o. | AE16: MV-246-102/SIK5-2017 | AH16: 90 pracovních dnů od podpisu smlouvy
B17: 11 | C17: MV | D17: DATA_VPN PL_11 | E17: 641360 | F17: MV-116298-1407/SIK5-2013 | G17: Zadáno | H17: P1_Poptavkovy_list_11-DATA_VPN.xlsx | I17: 36M | J17: 42767 | K17: 8 | M17: 2012546.9 | N17: Nejnižší nabídková cena | O17: 42633 | P17: 42633 | Q17: 42647 | R17: 42661 | S17: 42706 | T17: 42706 | U17: 42709 | V17: 42711 | W17: 42716 | X17: 11:00 - 11:50 | Y17: 42716 | Z17: 42720 | AA17: 42725 | AB17: 42740 | AC17: 21.12.2016/9.1.2017 | AD17: ha-vel internet s.r.o. | AE17: MV-113410-1720/SIK5-2014 | AF17: 26.1.2017/1.2.2017 | AG17: 42769 | AH17: 90 pracovních dnů od podpisu smlouvy
B18: 13 | C18: MV | D18: DATA_VPN PL_13 | E18: 641362 | F18: MV-116298-1408/SIK5-2013 | G18: Zadáno | H18: P1_Poptavkovy_list_13-DATA_VPN.xlsx | I18: 36M | J18: 42767 | K18: 9 | M18: 2264112 | N18: Nejnižší nabídková cena | O18: 42633 | P18: 42633 | Q18: 42647 | R18: 42661 | S18: 42706 | T18: 42706 | U18: 42709 | V18: 42711 | W18: 42716 | X18: 13:00 - 13:50 | Y18: 42716 | Z18: 42720 | AA18: 42725 | AB18: 42740 | AC18: 21.12.2016/9.1.2017 | AD18: ha-vel internet s.r.o. | AE18: MV-113410-1720/SIK5-2014 | AF18: 26.1.2017/1.2.2017 | AG18: 42769 | AH18: 90 pracovních dnů od podpisu smlouvy
B19: 16 | C19: MV | D19: DATA_VPN PL_16 | E19: 641363 | F19: MV-116298-1409/SIK5-2013 | G19: Zadáno | H19: P1_Poptavkovy_list_16-DATA_VPN.xlsx | I19: 36M | J19: 42767 | K19: 20 | M19: 4869792 | N19: Nejnižší nabídková cena | O19: 42633 | P19: 42633 | Q19: 42647 | R19: 42661 | S19: 42706 | T19: 42706 | U19: 42709 | V19: 42711 | W19: 42718 | X19: 15:00 - 15:50 | Y19: 42718 | Z19: 42724 | AA19: 42732 | AB19: 42747 | AC19: 28.12.2016/9.1.2017 | AD19: ha-vel internet s.r.o. | AE19: MV-113410-1720/SIK5-2014 | AF19: 26.1.2017/1.2.2017 | AG19: 42769 | AH19: 90 pracovních dnů od podpisu smlouvy
B20: 19 | C20: MV | D20: DATA_VPN PL_19 | E20: 641364 | F20: MV-116298-1410/SIK5-2013 | G20: Zadáno | H20: P1_Poptavkovy_list_19-DATA_VPN.xlsx | I20: 36M | J20: 42767 | K20: 9 | M20: 2264114.9 | N20: Nejnižší nabídková cena | O20: 42633 | P20: 42633 | Q20: 42647 | R20: 42661 | S20: 42706 | T20: 42706 | U20: 42709 | V20: 42711 | W20: 42719 | X20: 9:00 -9:50 | Y20: 42719 | Z20: 42725 | AA20: 42725 | AB20: 42740 | AC20: 21.12.2016/9.1.2017 | AD20: ha-vel internet s.r.o. | AE20: MV-113410-1720/SIK5-2014 | AF20: 26.1.2017/1.2.2017 | AG20: 42769 | AH20: 90 pracovních dnů od podpisu smlouvy
B21: 22 | C21: MV | D21: DATA_VPN PL_22 | E21: 641365 | F21: MV-116298-1411/SIK5-2013 | G21: Zadáno | H21: P1_Poptavkovy_list_22-DATA_VPN.xlsx | I21: 36M | J21: 42767 | K21: 27 | M21: 7102542 | N21: Nejnižší nabídková cena | O21: 42633 | P21: 42633 | Q21: 42647 | R21: 42661 | S21: 42706 | T21: 42706 | U21: 42709 | V21: 42711 | W21: 42716 | X21: 14:00 - 14:50 | Y21: 42716 | Z21: 42720 | AA21: 42725 | AB21: 42740 | AC21: 21.12.2016/9.1.2017 | AD21: ha-vel internet s.r.o. | AE21: MV-113410-1720/SIK5-2014 | AF21: 26.1.2017/1.2.2017 | AG21: 42769 | AH21: 90 pracovních dnů od podpisu smlouvy
B22: 25 | C22: MV | D22: DATA_VPN PL_25 | E22: 641367 | F22: MV-116298-1412/SIK5-2013 | G22: Zadáno | H22: P1_Poptavkovy_list_25-DATA_VPN.xlsx | I22: 36M | J22: 42767 | K22: 16 | M22: 4128496.7 | N22: Nejnižší nabídková cena | O22: 42633 | P22: 42633 | Q22: 42647 | R22: 42661 | S22: 42706 | T22: 42706 | U22: 42709 | V22: 42711 | W22: 42719 | X22: 10:00 - 10:50 | Y22: 42719 | Z22: 42725 | AA22: 42725 | AB22: 42740 | AC22: 21.12.2016/9.1.2017 | AD22: ha-vel internet s.r.o. | AE22: MV-113410-1720/SIK5-2014 | AF22: 26.1.2017/1.2.2017 | AG22: 42769 | AH22: 90 pracovních dnů od podpisu smlouvy
B23: 27 | C23: MV | D23: DATA_VPN PL_27 | E23: 641378 | F23: MV-116298-1413/SIK5-2013 | G23: Zadáno | H23: P1_Poptavkovy_list_27-DATA_VPN.xlsx | I23: 36M | J23: 42767 | K23: 19 | M23: 4600229.8 | N23: Nejnižší nabídková cena | O23: 42633 | P23: 42633 | Q23: 42647 | R23: 42661 | S23: 42706 | T23: 42706 | U23: 42709 | V23: 42711 | W23: 42719 | X23: 11:00 - 11:50 | Y23: 42719 | Z23: 42725 | AA23: 42725 | AB23: 42740 | AC23: 21.12.2016/9.1.2017 | AD23: ha-vel internet s.r.o. | AE23: MV-113410-1720/SIK5-2014 | AF23: 26.1.2017/1.2.2017 | AG23: 42769 | AH23: 90 pracovních dnů od podpisu smlouvy
B24: 29 | C24: MV | D24: DATA_VPN PL_29 | E24: 641368 | F24: MV-116298-1414/SIK5-2013 | G24: Zadáno | H24: P1_Poptavkovy_list_29-DATA_VPN.xlsx | I24: 36M | J24: 42767 | K24: 16 | M24: 4149627.8 | N24: Nejnižší nabídková cena | O24: 42633 | P24: 42633 | Q24: 42647 | R24: 42661 | S24: 42706 | T24: 42706 | U24: 42709 | V24: 42711 | W24: 42716 | X24: 15:00 - 15:50 | Y24: 42716 | Z24: 42720 | AA24: 42725 | AB24: 42740 | AC24: 21.12.2016/9.1.2017 | AD24: ha-vel internet s.r.o. | AE24: MV-113410-1720/SIK5-2014 | AF24: 26.1.2017/1.2.2017 | AG24: 42769 | AH24: 90 pracovních dnů od podpisu smlouvy
B25: 33 | C25: MV | D25: DATA_VPN PL_33 | E25: 641379 | F25: MV-116298-1415/SIK5-2013 | G25: Zadáno | H25: P1_Poptavkovy_list_33-DATA_VPN.xlsx | I25: 36M | J25: 42767 | K25: 26 | M25: 6828160.9 | N25: Nejnižší nabídková cena | O25: 42633 | P25: 42633 | Q25: 42647 | R25: 42661 | S25: 42706 | T25: 42706 | U25: 42709 | V25: 42711 | W25: 42717 | X25: 9:00 -9:50 | Y25: 42717 | Z25: 42723 | AA25: 42725 | AB25: 42740 | AC25: 21.12.2016/9.1.2017 | AD25: ha-vel internet s.r.o. | AE25: MV-113410-1720/SIK5-2014 | AF25: 26.1.2017/1.2.2017 | AG25: 42769 | AH25: 90 pracovních dnů od podpisu smlouvy
B26: 36 | C26: MV | D26: DATA_VPN PL_36 | E26: 641369 | F26: MV-116298-1416/SIK5-2013 | G26: Zadáno | H26: P1_Poptavkovy_list_36-DATA_VPN.xlsx | I26: 36M | J26: 42767 | K26: 17 | M26: 4380058.9 | N26: Nejnižší nabídková cena | O26: 42633 | P26: 42633 | Q26: 42647 | R26: 42661 | S26: 42706 | T26: 42706 | U26: 42709 | V26: 42711 | W26: 42717 | X26: 10:00 - 10:50 | Y26: 42717 | Z26: 42723 | AA26: 42725 | AB26: 42740 | AC26: 21.12.2016/9.1.2017 | AD26: ha-vel internet s.r.o. | AE26: MV-113410-1720/SIK5-2014 | AF26: 26.1.2017/1.2.2017 | AG26: 42769 | AH26: 90 pracovních dnů od podpisu smlouvy
B27: 39 | C27: MV | D27: DATA_VPN PL_39 | E27: 641370 | F27: MV-116298-1357/SIK5-2013 | G27: Zadáno | H27: P1_Poptavkovy_list_39-DATA_VPN.xlsx | I27: 36M | J27: 42767 | K27: 14 | M27: 3521960.6 | N27: Nejnižší nabídková cena | O27: 42633 | P27: 42633 | Q27: 42647 | R27: 42661 | S27: 42706 | T27: 42706 | U27: 42709 | V27: 42711 | W27: 42717 | X27: 11:00 - 11:50 | Y27: 42717 | Z27: 42723 | AA27: 42725 | AB27: 42740 | AC27: 21.12.2016/9.1.2017 | AD27: ha-vel internet s.r.o. | AE27: MV-113410-1720/SIK5-2014 | AF27: 26.1.2017/1.2.2017 | AG27: 42769 | AH27: 90 pracovních dnů od podpisu smlouvy
B28: 1223 | C28: MPO | D28: DATA_INTERNET-SYM PL_1223 | E28: 646144 | F28: MV-116298-1466/SIK5-2013 | G28: Zrušeno | H28: P1_Poptavkovy_list_1223-DATA_INTERNET-SYM.xlsx | I28: 36M | J28: x | K28: 1 | M28: 79200 | N28: Nejnižší nabídková cena | O28: 42633 | P28: 42633 | Q28: 42647 | R28: 42661 | S28: 42706 | T28: 42706 | U28: 42706 | V28: x | W28: x | X28: x | Y28: x | Z28: x | AA28: 42712 | AB28: 42727 | AC28: x | AD28: x | AE28: x | AF28: x | AG28: 42737 | AH28: x
B29: 1321 | C29: KŘP J | D29: DATA_INTERNET-ASYM PL_1321 | E29: 646145 | F29: MV-116298-1467/SIK5-2013 | G29: Zrušeno | H29: P1_Poptavkovy_list_1321-DATA_INTERNET-ASYM.xlsx | I29: 24M | J29: x | K29: 1 | M29: 12000 | N29: Nejnižší nabídková cena | O29: 42633 | P29: 42633 | Q29: 42647 | R29: 42661 | S29: 42706 | T29: 42706 | U29: 42709 | V29: x | W29: x | X29: x | Y29: x | Z29: x | AA29: 42712 | AB29: 42727 | AC29: x | AD29: x | AE29: x | AF29: x | AG29: 42737 | AH29: x
A30: II. s.k. | B30: 2102 | C30: MV | D30: DATA_ETHERNET PL_2102 | E30: 646813 | F30: MV-116298-1537/SIK5-2013 | G30: Hodnocení | H30: P1_Poptavkovy_list_2102-DATA_ETHERNET.xlsx | I30: 36M | J30: 42887 | K30: 1 | M30: 450000 | N30: Nejnižší nabídková cena | O30: 42642 | P30: 42643 | Q30: 42660 | R30: 42667 | S30: 42698 | T30: 42698 | U30: 42699 | V30: 42775 | W30: 42781 | X30: 9:00 -9:50 | Y30: 42781 | Z30: 42787 | AA30: 42783 | AB30: 42800 | AC30: 42783 | AD30: Dial Telecom, a.s. | AE30: MV-246-135/SIK5-2017 | AH30: 90 kalendářních dnů od podpisu smlouvy
B31: 2106 | C31: MV | D31: DATA_ETHERNET PL_2106 | E31: 680072 | F31: MV-116298-1538/SIK5-2013 | G31: Zadáno | H31: P1_Poptavkovy_list_2106-DATA_ETHERNET.xlsx | I31: 36M | J31: 42736 | K31: 3 | M31: 961200 | N31: Nejnižší nabídková cena | O31: 42642 | P31: 42643 | Q31: 42660 | R31: 42667 | S31: 42698 | T31: 42698 | U31: 42699 | V31: 42702 | W31: 42705 | X31: 9:00 -9:50 | Y31: 42705 | Z31: 42711 | AA31: 42710 | AB31: 42725 | AC31: 06.12.2016/16.12.2016 | AD31: ha-vel internet s.r.o. | AE31: MV 113410-1604/SIK5 2014 | AF31: 30.12.2016/12.1.2017 | AG31: 42752 | AH31: 90 kalendářních dnů od podpisu smlouvy
B32: 2112 | C32: MV | D32: DATA_ETHERNET PL_2112 | E32: 646821 | F32: MV-116298-1541/SIK5-2013 | G32: Zadáno | H32: P1_Poptavkovy_list_2112-DATA_ETHERNET.xlsx | I32: 36M | J32: 42736 | K32: 25 | M32: 6114960 | N32: Nejnižší nabídková cena | O32: 42642 | P32: 42643 | Q32: 42660 | R32: 42667 | S32: 42698 | T32: 42698 | U32: 42699 | V32: 42702 | W32: 42705 | X32: 10:00 - 10:50 | Y32: 42705 | Z32: 42711 | AA32: 42710 | AB32: 42725 | AC32: 06.12.2016/16.12.2016 | AD32: ha-vel internet s.r.o. | AE32: MV 113410-1604/SIK5 2014 | AF32: 30.12.2016/12.1.2017 | AG32: 42752 | AH32: 90 kalendářních dnů od podpisu smlouvy
B33: 2115 | C33: MV | D33: DATA_ETHERNET PL_2115 | E33: 646824 | F33: MV-116298-1568/SIK5-2013 | G33: Zadáno | H33: P1_Poptavkovy_list_2115-DATA_ETHERNET.xlsx | I33: 36M | J33: 42736 | K33: 12 | M33: 3369600 | N33: Nejnižší nabídková cena | O33: 42642 | P33: 42643 | Q33: 42660 | R33: 42667 | S33: 42698 | T33: 42698 | U33: 42699 | V33: 42702 | W33: 42705 | X33: 11:00 - 11:50 | Y33: 42705 | Z33: 42711 | AA33: 42710 | AB33: 42725 | AC33: 06.12.2016/16.12.2016 | AD33: ha-vel internet s.r.o. | AE33: MV 113410-1604/SIK5 2014 | AF33: 30.12.2016/12.1.2017 | AG33: 42752 | AH33: 90 kalendářních dnů od podpisu smlouvy
B34: 2117 | C34: MV | D34: DATA_ETHERNET PL_2117 | E34: 646826 | F34: MV-116298-1544/SIK5-2013 | G34: Zadáno | H34: P1_Poptavkovy_list_2117-DATA_ETHERNET.xlsx | I34: 36M | J34: 42736 | K34: 1 | M34: 165600 | N34: Nejnižší nabídková cena | O34: 42642 | P34: 42643 | Q34: 42660 | R34: 42667 | S34: 42698 | T34: 42698 | U34: 42699 | V34: 42702 | W34: 42705 | X34: 13:00 - 13:50 | Y34: 42705 | Z34: 42711 | AA34: 42710 | AB34: 42725 | AC34: 06.12.2016/16.12.2016 | AD34: ha-vel internet s.r.o. | AE34: MV 113410-1604/SIK5 2014 | AF34: 30.12.2016/12.1.2017 | AG34: 42752 | AH34: 90 kalendářních dnů od podpisu smlouvy
B35: 2119 | C35: MV | D35: DATA_ETHERNET PL_2119 | E35: 646828 | F35: MV-116298-1569/SIK5-2013 | G35: Zadáno | H35: P1_Poptavkovy_list_2119-DATA_ETHERNET.xlsx | I35: 36M | J35: 42736 | K35: 1 | M35: 252000 | N35: Nejnižší nabídková cena | O35: 42642 | P35: 42643 | Q35: 42660 | R35: 42667 | S35: 42698 | T35: 42698 | U35: 42699 | V35: 42702 | W35: 42705 | X35: 14:00 - 14:50 | Y35: 42705 | Z35: 42711 | AA35: 42710 | AB35: 42725 | AC35: 06.12.2016/13.12.2016 | AD35: T-Mobile Czech Republic a.s. | AE35: MV 113410-1601/SIK5 2014 | AF35: 30.12.2016/2.1.2017 | AG35: 42737 | AH35: 90 kalendářních dnů od podpisu smlouvy
B36: 2123 | C36: KŘP U; MV | D36: DATA_ETHERNET PL_2123 | E36: 646832 | F36: MV-116298-1548/SIK5-2013 | G36: Zadáno | H36: P1_Poptavkovy_list_2123-DATA_ETHERNET.xlsx | I36: 36M | J36: 42736 | K36: 4 | M36: 867600 | N36: Nejnižší nabídková cena | O36: 42642 | P36: 42643 | Q36: 42660 | R36: 42667 | S36: 42698 | T36: 42698 | U36: 42699 | V36: 42702 | W36: 42705 | X36: 15:00 - 15:50 | Y36: 42705 | Z36: 42711 | AA36: 42710 | AB36: 42725 | AC36: 06.12.2016/13.12.2016 | AD36: T-Mobile Czech Republic a.s. | AE36: MV 113410-1601/SIK5 2014 | AF36: 30.12.2016/2.1.2017 | AG36: 42737 | AH36: 90 kalendářních dnů od podpisu smlouvy
B37: 2127 | C37: MV | D37: DATA_ETHERNET PL_2127 | E37: 646835 | F37: MV-116298-1573/SIK5-2013 | G37: Zadáno | H37: P1_Poptavkovy_list_2127-DATA_ETHERNET.xlsx | I37: 36M | J37: 42736 | K37: 2 | M37: 476784 | N37: Nejnižší nabídková cena | O37: 42642 | P37: 42643 | Q37: 42660 | R37: 42667 | S37: 42698 | T37: 42698 | U37: 42699 | V37: 42702 | W37: 42706 | X37: 14:00 - 14:50 | Y37: 42706 | Z37: 42712 | AA37: 42710 | AB37: 42725 | AC37: 06.12.2016/13.12.2016 | AD37: T-Mobile Czech Republic a.s. | AE37: MV 113410-1601/SIK5 2014 | AF37: 30.12.2016/2.1.2017 | AG37: 42737 | AH37: 90 kalendářních dnů od podpisu smlouvy
B38: 2133 | C38: MV | D38: DATA_ETHERNET PL_2133 | E38: 646840 | F38: MV-116298-1552/SIK5-2013 | G38: Zadáno | H38: P1_Poptavkovy_list_2133-DATA_ETHERNET.xlsx | I38: 36M | J38: 42736 | K38: 10 | M38: 2244240 | N38: Nejnižší nabídková cena | O38: 42642 | P38: 42643 | Q38: 42660 | R38: 42667 | S38: 42698 | T38: 42698 | U38: 42699 | V38: 42702 | W38: 42706 | X38: 15:00 - 15:50 | Y38: 42706 | Z38: 42712 | AA38: 42710 | AB38: 42725 | AC38: 06.12.2016/16.12.2016 | AD38: ha-vel internet s.r.o. | AE38: MV 113410-1604/SIK5 2014 | AF38: 30.12.2016/12.1.2017 | AG38: 42752 | AH38: 90 kalendářních dnů od podpisu smlouvy
B39: 2136 | C39: GIBS | D39: DATA_ETHERNET PL_2136 | E39: 646843 | F39: MV-116298-1555/SIK5-2013 | G39: Zadáno | H39: P1_Poptavkovy_list_2136-DATA_ETHERNET.xlsx | I39: 36M | J39: 42736 | K39: 1 | M39: 288000 | N39: Nejnižší nabídková cena | O39: 42642 | P39: 42643 | Q39: 42660 | R39: 42667 | S39: 42698 | T39: 42698 | U39: 42699 | V39: 42702 | W39: 42709 | X39: 9:00 -9:50 | Y39: 42709 | Z39: 42713 | AA39: 42717 | AB39: 42732 | AC39: 13.12.2016/9.1.2017 | AD39: ha-vel internet s.r.o. | AE39: MV- 113410-1605/SIK5-2014 | AF39: 26.1.2017/1.2.2017 | AG39: 42769 | AH39: 90 kalendářních dnů od podpisu smlouvy
B40: 2137 | C40: GIBS | D40: DATA_ETHERNET PL_2137 | E40: 646845 | F40: MV-116298-1556/SIK5-2013 | G40: Zadáno | H40: P1_Poptavkovy_list_2137-DATA_ETHERNET.xlsx | I40: 36M | J40: 42736 | K40: 1 | M40: 288000 | N40: Nejnižší nabídková cena | O40: 42642 | P40: 42643 | Q40: 42660 | R40: 42667 | S40: 42698 | T40: 42698 | U40: 42699 | V40: 42702 | W40: 42709 | X40: 10:00 - 10:50 | Y40: 42709 | Z40: 42713 | AA40: 42717 | AB40: 42732 | AC40: 13.12.2016/9.1.2017 | AD40: ha-vel internet s.r.o. | AE40: MV- 113410-1605/SIK5-2014 | AF40: 26.1.2017/1.2.2017 | AG40: 42769 | AH40: 90 kalendářních dnů od podpisu smlouvy
B41: 2138 | C41: GIBS | D41: DATA_ETHERNET PL_2138 | E41: 646846 | F41: MV-116298-1557/SIK5-2013 | G41: Zadáno | H41: P1_Poptavkovy_list_2138-DATA_ETHERNET.xlsx | I41: 36M | J41: 42736 | K41: 1 | M41: 288000 | N41: Nejnižší nabídková cena | O41: 42642 | P41: 42643 | Q41: 42660 | R41: 42667 | S41: 42698 | T41: 42698 | U41: 42699 | V41: 42702 | W41: 42709 | X41: 11:00 - 11:50 | Y41: 42709 | Z41: 42713 | AA41: 42717 | AB41: 42732 | AC41: 13.12.2016/9.1.2017 | AD41: ha-vel internet s.r.o. | AE41: MV- 113410-1605/SIK5-2014 | AF41: 26.1.2017/1.2.2017 | AG41: 42769 | AH41: 90 kalendářních dnů od podpisu smlouvy
B42: 2107 | C42: GIBS | D42: DATA_ETHERNET PL_2107 | E42: 646815 | F42: MV-116298-1565/SIK5-2013 | G42: Zadáno | H42: P1_Poptavkovy_list_2107-DATA_ETHERNET.xlsx | I42: 36M | J42: 42736 | K42: 1 | M42: 288000 | N42: Nejnižší nabídková cena | O42: 42642 | P42: 42643 | Q42: 42660 | R42: 42667 | S42: 42698 | T42: 42698 | U42: 42699 | V42: 42702 | W42: 42709 | X42: 13:00 - 13:50 | Y42: 42709 | Z42: 42713 | AA42: 42747 | AB42: 42762 | AC42: 28.12.2016/5.1.2017 | AD42: T-Mobile Czech Republic a.s. | AE42: MV- 113410-1607/SIK5-2014 | AF42: 20.01.2017/31.1.2017 | AG42: 42768 | AH42: 90 kalendářních dnů od podpisu smlouvy
... B44: 2113 | C44: KŘP T | D44: DATA_ETHERNET PL_2113 | E44: 646822 | F44: MV-116298-1567/SIK5-2013 | G44: Zadáno | H44: P1_Poptavkovy_list_2113-DATA_ETHERNET.xlsx | I44: 36M | J44: 42767 | K44: 2 | M44: 100224 | N44: Nejnižší nabídková cena | O44: 42642 | P44: 42643 | Q44: 42660 | R44: 42667 | S44: 42698 | T44: 42698 | U44: 42699 | V44: 42702 | W44: 42710 | X44: 9:00 -9:50 | Y44: 42710 | Z44: 42716 | AA44: 42717 | AB44: 42732 | AC44: 13.12.2016/5.1.2017 | AD44: T-Mobile Czech Republic a.s. | AE44: MV- 113410-1607/SIK5-2014 | AF44: 20.01.2017/31.1.2017 | AG44: 42768 | AH44: 90 kalendářních dnů od podpisu smlouvy
B45: 2116 | C45: KŘP M | D45: DATA_ETHERNET PL_2116 | E45: 646825 | F45: MV-116298-1543/SIK5-2013 | G45: Zadáno | H45: P1_Poptavkovy_list_2116-DATA_ETHERNET.xlsx | I45: 36M | J45: 42767 | K45: 1 | M45: 176400 | N45: Nejnižší nabídková cena | O45: 42642 | P45: 42643 | Q45: 42660 | R45: 42667 | S45: 42698 | T45: 42698 | U45: 42699 | V45: x | W45: x | X45: x | Y45: x | Z45: x | AA45: 42699 | AB45: 42716 | AC45: 25.11.2016/16.12.2016 | AD45: ha-vel internet s.r.o. | AE45: MV 113410-1603/SIK5 2014 | AF45: 30.12.2016/12.1.2017 | AG45: 42752 | AH45: 90 kalendářních dnů od podpisu smlouvy
B46: 2118 | C46: MV | D46: DATA_ETHERNET PL_2118 | E46: 646827 | F46: MV-116298-1545/SIK5-2013 | G46: Zadáno | H46: P1_Poptavkovy_list_2118-DATA_ETHERNET.xlsx | I46: 36M | J46: 42767 | K46: 2 | M46: 642600 | N46: Nejnižší nabídková cena | O46: 42642 | P46: 42643 | Q46: 42660 | R46: 42667 | S46: 42698 | T46: 42698 | U46: 42699 | V46: 42702 | W46: 42710 | X46: 10:00 - 10:50 | Y46: 42710 | Z46: 42716 | AA46: 42717 | AB46: 42732 | AC46: 13.12.2016/5.1.2017 | AD46: T-Mobile Czech Republic a.s. | AE46: MV- 113410-1607/SIK5-2014 | AF46: 20.01.2017/31.1.2017 | AG46: 42768 | AH46: 90 kalendářních dnů od podpisu smlouvy
B47: 2120 | C47: MV | D47: DATA_ETHERNET PL_2120 | E47: 646829 | F47: MV-116298-1546/SIK5-2013 | G47: Zadáno | H47: P1_Poptavkovy_list_2120-DATA_ETHERNET.xlsx | I47: 36M | J47: 42767 | K47: 3 | M47: 589500 | N47: Nejnižší nabídková cena | O47: 42642 | P47: 42643 | Q47: 42660 | R47: 42667 | S47: 42698 | T47: 42698 | U47: 42699 | V47: 42702 | W47: 42710 | X47: 11:00 - 11:50 | Y47: 42710 | Z47: 42716 | AA47: 42717 | AB47: 42732 | AC47: 13.12.2016/9.1.2017 | AD47: ha-vel internet s.r.o. | AE47: MV- 113410-1605/SIK5-2014 | AF47: 26.1.2017/1.2.2017 | AG47: 42769 | AH47: 90 kalendářních dnů od podpisu smlouvy
B48: 2124 | C48: KŘP U; MV | D48: DATA_ETHERNET PL_2124 | E48: 646833 | F48: MV-116298-1571/SIK5-2013 | G48: Zadáno | H48: P1_Poptavkovy_list_2124-DATA_ETHERNET.xlsx | I48: 36M | J48: 42767 | K48: 13 | M48: 3182076 | N48: Nejnižší nabídková cena | O48: 42642 | P48: 42643 | Q48: 42660 | R48: 42667 | S48: 42698 | T48: 42698 | U48: 42699 | V48: 42702 | W48: 42710 | X48: 13:00 - 13:50 | Y48: 42710 | Z48: 42716 | AA48: 42717 | AB48: 42732 | AC48: 13.12.2016/9.1.2017 | AD48: ha-vel internet s.r.o. | AE48: MV- 113410-1605/SIK5-2014 | AF48: 26.1.2017/1.2.2017 | AG48: 42769 | AH48: 90 kalendářních dnů od podpisu smlouvy
B49: 2128 | C49: MV | D49: DATA_ETHERNET PL_2128 | E49: 646836 | F49: MV-116298-1574/SIK5-2013 | G49: Zadáno | H49: P1_Poptavkovy_list_2128-DATA_ETHERNET.xlsx | I49: 36M | J49: 42767 | K49: 15 | M49: 3186000 | N49: Nejnižší nabídková cena | O49: 42642 | P49: 42643 | Q49: 42660 | R49: 42667 | S49: 42698 | T49: 42698 | U49: 42699 | V49: 42702 | W49: 42710 | X49: 14:00 - 14:50 | Y49: 42710 | Z49: 42716 | AA49: 42717 | AB49: 42732 | AC49: 13.12.2016/5.1.2017 | AD49: T-Mobile Czech Republic a.s. | AE49: MV- 113410-1607/SIK5-2014 | AF49: 20.01.2017/31.1.2017 | AG49: 42768 | AH49: 90 kalendářních dnů od podpisu smlouvy
B50: 2131 | C50: MV | D50: DATA_ETHERNET PL_2131 | E50: 646838 | F50: MV-116298-1550/SIK5-2013 | G50: Zadáno | H50: P1_Poptavkovy_list_2131-DATA_ETHERNET.xlsx | I50: 36M | J50: 42767 | K50: 1 | M50: 136800 | N50: Nejnižší nabídková cena | O50: 42642 | P50: 42643 | Q50: 42660 | R50: 42667 | S50: 42698 | T50: 42698 | U50: 42699 | V50: 42702 | W50: 42710 | X50: 15:00 - 15:50 | Y50: 42710 | Z50: 42716 | AA50: 42717 | AB50: 42732 | AC50: 13.12.2016/5.1.2017 | AD50: T-Mobile Czech Republic a.s. | AE50: MV- 113410-1607/SIK5-2014 | AF50: 20.01.2017/31.1.2017 | AG50: 42768 | AH50: 90 kalendářních dnů od podpisu smlouvy
B51: 2134 | C51: MV | D51: DATA_ETHERNET PL_2134 | E51: 646841 | F51: MV-116298-1553/SIK5-2013 | G51: Zadáno | H51: P1_Poptavkovy_list_2134-DATA_ETHERNET.xlsx | I51: 36M | J51: 42767 | K51: 21 | M51: 4829940 | N51: Nejnižší nabídková cena | O51: 42642 | P51: 42643 | Q51: 42660 | R51: 42667 | S51: 42698 | T51: 42698 | U51: 42699 | V51: 42702 | W51: 42711 | X51: 10:00 - 10:50 | Y51: 42711 | Z51: 42717 | AA51: 42719 | AB51: 42734 | AC51: 15.12.2016/9.1.2017 | AD51: ha-vel internet s.r.o. | AE51: MV- 113410-1605/SIK5-2014 | AF51: 26.1.2017/1.2.2017 | AG51: 42769 | AH51: 90 kalendářních dnů od podpisu smlouvy
B52: 2135 | C52: MV | D52: DATA_ETHERNET PL_2135 | E52: 646842 | F52: MV-116298-1554/SIK5-2013 | G52: Zadáno | H52: P1_Poptavkovy_list_2135-DATA_ETHERNET.xlsx | I52: 36M | J52: 42767 | K52: 4 | M52: 664200 | N52: Nejnižší nabídková cena | O52: 42642 | P52: 42643 | Q52: 42660 | R52: 42667 | S52: 42698 | T52: 42698 | U52: 42699 | V52: 42719 | W52: 42725 | X52: 13:00 -13:50 | Y52: 42725 | Z52: 42732 | AA52: 42732 | AB52: 42747 | AC52: 28.12.2016/9.1.2017 | AD52: ha-vel internet s.r.o. | AE52: MV- 113410-1729/SIK5 2014 | AF52: 26.1.2017/1.2.2017 | AG52: 42769 | AH52: 90 kalendářních dnů od podpisu smlouvy
B53: 2139 | C53: GIBS | D53: DATA_ETHERNET PL_2139 | E53: 646847 | F53: MV-116298-1558/SIK5-2013 | G53: Zadáno | H53: P1_Poptavkovy_list_2139-DATA_ETHERNET.xlsx | I53: 36M | J53: 42767 | K53: 1 | M53: 288000 | N53: Nejnižší nabídková cena | O53: 42642 | P53: 42643 | Q53: 42660 | R53: 42667 | S53: 42698 | T53: 42698 | U53: 42699 | V53: 42702 | W53: 42711 | X53: 11:00 - 11:50 | Y53: 42711 | Z53: 42717 | AA53: 42719 | AB53: 42734 | AC53: 15.12.2016/9.1.2017 | AD53: Dial Telecom, a.s. | AE53: MV 113410-1611/SIK5-2014 | AF53: 16.1.2017/31.1.2017 | AG53: 42766 | AH53: 90 kalendářních dnů od podpisu smlouvy
B54: 2140 | C54: KŘP L | D54: DATA_ETHERNET PL_2140 | E54: 646848 | F54: MV-116298-1559/SIK5-2013 | G54: Zadáno | H54: P1_Poptavkovy_list_2140-DATA_ETHERNET.xlsx | I54: 36M | J54: 42767 | K54: 1 | M54: 351000 | N54: Nejnižší nabídková cena | O54: 42642 | P54: 42643 | Q54: 42660 | R54: 42667 | S54: 42698 | T54: 42698 | U54: 42699 | V54: 42702 | W54: 42711 | X54: 13:00 - 13:50 | Y54: 42711 | Z54: 42717 | AA54: 42733 | AB54: 42748 | AC54: 29.12.2016/5.1.2017 | AD54: T-Mobile Czech Republic a.s. | AE54: MV- 113410-1607/SIK5-2014 | AF54: 20.01.2017/x | AG54: 42768 | AH54: 90 kalendářních dnů od podpisu smlouvy
B55: 1234 | C55: MV | D55: DATA_INTERNET-SYM PL_1234 | E55: 646796 | F55: MV-116298-1529/SIK5-2013 | G55: Zadáno | H55: P1_Poptavkovy_list_1234-DATA_INTERNET-SYM.xlsx | I55: 36M | J55: 42736 | K55: 1 | M55: 126000 | N55: Nejnižší nabídková cena | O55: 42642 | P55: 42643 | Q55: 42660 | R55: 42667 | S55: 42709 | T55: 42709 | U55: 42710 | V55: x | W55: x | X55: x | Y55: x | Z55: x | AA55: 42710 | AB55: 42725 | AC55: 06.12.2016/16.12.2016 | AD55: ha-vel internet s.r.o. | AE55: MV 113410-1604/SIK5 2014 | AF55: 30.12.2016/12.1.2017 | AG55: 42752 | AH55: 90 kalendářních dnů od podpisu smlouvy
A56: III. s.k. | B56: 2110 | C56: KŘP L | D56: DATA_ETHERNET PL_2110 | E56: 646818 | F56: MV-116298-1540/SIK5-2013 | G56: Zadáno | H56: P1_Poptavkovy_list_2110-DATA_ETHERNET.xlsx | I56: 36M | J56: 42782 | K56: 6 | M56: 1885932 | N56: Nejnižší nabídková cena | O56: 42642 | P56: 42643 | Q56: 42660 | R56: 42678 | S56: 42709 | T56: 42709 | U56: 42710 | V56: 42711 | W56: 42717 | X56: 13:00 - 13:50 | Y56: 42717 | Z56: 42723 | AA56: 42741 | AB56: 42758 | AC56: 06.01.2017/6.2.2017 | AD56: T-Mobile Czech Republic a.s. | AE56: MV- 113410-1606/SIK5 2014 | AF56: 10.02.2017/13.02.2017 | AG56: 42780 | AH56: 90 kalendářních dnů od podpisu smlouvy
B57: 2111 | C57: KŘP L | D57: DATA_ETHERNET PL_2111 | E57: 646819 | F57: MV-116298-1566/SIK5-2013 | G57: Zadáno | H57: P1_Poptavkovy_list_2111-DATA_ETHERNET.xlsx | I57: 36M | J57: 42795 | K57: 1 | M57: 303732 | N57: Nejnižší nabídková cena | O57: 42642 | P57: 42643 | Q57: 42660 | R57: 42678 | S57: 42709 | T57: 42709 | U57: 42710 | V57: 42711 | W57: 42717 | X57: 14:00 - 14:50 | Y57: 42717 | Z57: 42723 | AA57: 42725 | AB57: 42740 | AC57: 21.12.2016/5.1.2017 | AD57: T-Mobile Czech Republic a.s. | AE57: MV- 113410-1607/SIK5-2014 | AF57: 20.01.2017/31.1.2017 | AG57: 42768 | AH57: 90 kalendářních dnů od podpisu smlouvy
B58: 2121 | C58: MV | D58: DATA_ETHERNET PL_2121 | E58: 646830 | F58: MV-116298-1570/SIK5-2013 | G58: Zadáno | H58: P1_Poptavkovy_list_2121-DATA_ETHERNET.xlsx | I58: 36M | J58: 42795 | K58: 2 | M58: 504000 | N58: Nejnižší nabídková cena | O58: 42642 | P58: 42643 | Q58: 42660 | R58: 42678 | S58: 42709 | T58: 42709 | U58: 42710 | V58: 42711 | W58: 42717 | X58: 15:00 - 15:50 | Y58: 42717 | Z58: 42723 | AA58: 42725 | AB58: 42740 | AC58: 21.12.2016/5.1.2017 | AD58: T-Mobile Czech Republic a.s. | AE58: MV- 113410-1607/SIK5-2014 | AF58: 20.01.2017/31.1.2017 | AG58: 42768 | AH58: 90 kalendářních dnů od podpisu smlouvy
B59: 2132 | C59: KŘP C;MV | D59: DATA_ETHERNET PL_2132 | E59: 646839 | F59: MV-116298-1551/SIK5-2013 | G59: Zadáno | H59: P1_Poptavkovy_list_2132-DATA_ETHERNET.xlsx | I59: 36M | J59: 42795 | K59: 8 | M59: 1144980 | N59: Nejnižší nabídková cena | O59: 42642 | P59: 42643 | Q59: 42660 | R59: 42678 | S59: 42709 | T59: 42709 | U59: 42710 | V59: 42711 | W59: 42718 | X59: 9:00 -9:50 | Y59: 42718 | Z59: 42724 | AA59: 42732 | AB59: 42747 | AC59: 28.12.2016/9.1.2017 | AD59: ha-vel internet s.r.o. | AE59: MV- 113410-1729/SIK5 2014 | AF59: 26.1.2017/1.2.2017 | AG59: 42769 | AH59: 90 kalendářních dnů od podpisu smlouvy
B60: 2122 | C60: MV | D60: DATA_ETHERNET PL_2122 | E60: 646831 | F60: MV-116298-1547/SIK5-2013 | G60: Zadáno | H60: P1_Poptavkovy_list_2122-DATA_ETHERNET.xlsx | I60: 36M | J60: 42826 | K60: 1 | M60: 130500 | N60: Nejnižší nabídková cena | O60: 42642 | P60: 42643 | Q60: 42660 | R60: 42678 | S60: 42709 | T60: 42709 | U60: 42710 | V60: 42711 | W60: 42718 | X60: 10:00 - 10:50 | Y60: 42718 | Z60: 42724 | AA60: 42732 | AB60: 42747 | AC60: 28.12.2016/9.1.2017 | AD60: ha-vel internet s.r.o. | AE60: MV- 113410-1729/SIK5 2014 | AF60: 26.1.2017/1.2.2017 | AG60: 42769 | AH60: 90 kalendářních dnů od podpisu smlouvy
B61: 2129 | C61: MV | D61: DATA_ETHERNET PL_2129 | E61: 646837 | F61: MV-116298-1549/SIK5-2013 | G61: Zadáno | H61: P1_Poptavkovy_list_2129-DATA_ETHERNET.xlsx | I61: 36M | J61: 42826 | K61: 2 | M61: 485280 | N61: Nejnižší nabídková cena | O61: 42642 | P61: 42643 | Q61: 42660 | R61: 42678 | S61: 42709 | T61: 42709 | U61: 42710 | V61: 42711 | W61: 42718 | X61: 11:00 - 11:50 | Y61: 42718 | Z61: 42724 | AA61: 42732 | AB61: 42747 | AC61: 28.12.2016/9.1.2017 | AD61: ha-vel internet s.r.o. | AE61: MV- 113410-1729/SIK5 2014 | AF61: 26.1.2017/1.2.2017 | AG61: 42769 | AH61: 90 kalendářních dnů od podpisu smlouvy
B62: 2126 | C62: KŘP U | D62: DATA_ETHERNET PL_2126 | E62: 646834 | F62: MV-116298-1572/SIK5-2013 | G62: Zadáno | H62: P1_Poptavkovy_list_2126-DATA_ETHERNET.xlsx | I62: 36M | J62: 42856 | K62: 4 | M62: 1167966 | N62: Nejnižší nabídková cena | O62: 42642 | P62: 42643 | Q62: 42660 | R62: 42678 | S62: 42709 | T62: 42709 | U62: 42710 | V62: 42711 | W62: 42718 | X62: 14:00 - 14:50 | Y62: 42718 | Z62: 42724 | AA62: 42751 | AB62: 42766 | AC62: 16.01.2017/6.2.2017 | AD62: T-Mobile Czech Republic a.s. | AE62: MV- 113410-1606/SIK5 2014 | AF62: 10.02.2017/13.02.2017 | AG62: 42780 | AH62: 90 kalendářních dnů od podpisu smlouvy
B63: 1236 | C63: KŘP C | D63: DATA_INTERNET-SYM PL_1236 | E63: 646811 | F63: MV-116298-1531/SIK5-2013 | G63: Zadáno | H63: P1_Poptavkovy_list_1236-DATA_INTERNET-SYM.xlsx | I63: 36M | J63: 42795 | K63: 1 | M63: 108000 | N63: Nejnižší nabídková cena | O63: 42642 | P63: 42643 | Q63: 42660 | R63: 42678 | S63: 42718 | T63: 42718 | U63: 42719 | V63: 42719 | W63: 42725 | X63: 10:00 -10:50 | Y63: 42725 | Z63: 42732 | AA63: 42732 | AB63: 42747 | AC63: 28.12.2016/9.1.2017 | AD63: ha-vel internet s.r.o. | AE63: MV- 113410-1729/SIK5 2014 | AF63: 26.1.2017/1.2.2017 | AG63: 42769 | AH63: 90 kalendářních dnů od podpisu smlouvy
B64: 1314 | C64: KŘP U | D64: DATA_INTERNET-ASYM PL_1314 | E64: 646812 | F64: MV-116298-1532/SIK5-2013 | G64: Zrušeno | H64: P1_Poptavkovy_list_1314-DATA_INTERNET-ASYM.xlsx | I64: 36M | J64: 42456 | K64: 4 | M64: 60098.4 | N64: Nejnižší nabídková cena | O64: 42642 | P64: 42643 | Q64: 42660 | R64: 42678 | S64: 42718 | T64: 42718 | U64: 42719 | V64: x | W64: x | X64: x | Y64: x | Z64: x | AA64: 42719 | AB64: 42734 | AC64: x | AD64: x | AE64: x | AF64: x | AG64: 42737 | AH64: 90 kalendářních dnů od podpisu smlouvy
B65: 2300 | C65: MD | D65: DATA_VPN PL_2300 | E65: 641371 | F65: MV-116298-1417/SIK5-2013 | G65: Hodnocení | H65: P1_Poptavkovy_list_2300-DATA_VPN.xlsx | I65: 36M | J65: x | K65: 9 | M65: 4383360 | N65: Nejnižší nabídková cena | O65: 42633 | P65: 42633 | Q65: 42647 | R65: 42678 | S65: 42718 | T65: 42718 | U65: 42719 | V65: 42732 | W65: 42738 | X65: 9:00 -9:50 | Y65: 42738 | Z65: 42744 | AA65: ? | AB65: ? | AC65: ? | AD65: T-Mobile Czech Republic a.s. | AE65: MV- 246-51/SIK5-2017 | AH65: 90 kalendářních dnů od podpisu smlouvy
B66: 1235 | C66: MD | D66: DATA_INTERNET-SYM PL_1235 | E66: 646797 | F66: MV-116298-1530/SIK5-2013 | G66: Hodnocení | H66: P1_Poptavkovy_list_1235-DATA_INTERNET-SYM.xlsx | I66: 36M | J66: 42736 | K66: 2 | M66: 1152000 | N66: Nejnižší nabídková cena | O66: 42642 | P66: 42643 | Q66: 42660 | R66: 42678 | S66: 42718 | T66: 42718 | U66: 42719 | V66: 42741 | W66: 42746 | X66: 9:00 -9:50 | Y66: 42746 | Z66: 42752 | AA66: 42786 | AB66: 42801 | AC66: 42786 | AD66: T-Mobile Czech Republic a.s. | AE66: MV-246-103/SIK5-2017 | AH66: 90 kalendářních dnů od podpisu smlouvy
B67: 3100 | C67: KŘP C;MV | D67: DATA_AL PL_3100 | E67: 646372 | F67: MV-116298-1473/SIK5-2013 | G67: Zadáno | H67: P1_Poptavkovy_list_3100-DATA_AL.xlsx | I67: 36M | J67: 42767 | K67: 7 | M67: 336844.8 | N67: Nejnižší nabídková cena | O67: 42636 | P67: 42636 | Q67: 42650 | R67: 42678 | S67: 42723 | T67: 42723 | U67: 42724 | V67: x | W67: x | X67: x | Y67: x | Z67: x | AA67: 42725 | AB67: 42740 | AC67: 42725 | AD67: O2 Czech Republic a.s | AE67: MV- 246-50/SIK5-2017 | AF67: 24.1.2017/x | AG67: 42768 | AH67: 90 kalendářních dnů od podpisu smlouvy
B68: 3101 | C68: KŘP P | D68: DATA_AL PL_3101 | E68: 646373 | F68: MV-116298-1474/SIK5-2013 | G68: Zadáno | H68: P1_Poptavkovy_list_3101-DATA_AL.xlsx | I68: 36M | J68: 42767 | K68: 13 | M68: 643968 | N68: Nejnižší nabídková cena | O68: 42636 | P68: 42636 | Q68: 42650 | R68: 42678 | S68: 42723 | T68: 42723 | U68: 42724 | V68: x | W68: x | X68: x | Y68: x | Z68: x | AA68: 42725 | AB68: 42740 | AC68: 42725 | AD68: O2 Czech Republic a.s | AE68: MV- 246-50/SIK5-2017 | AF68: 24.1.2017/x | AG68: 42768 | AH68: 90 kalendářních dnů od podpisu smlouvy
B69: 3102 | C69: KŘP P; MV | D69: DATA_AL PL_3102 | E69: 646374 | F69: MV-116298-1475/SIK5-2013 | G69: Zadáno | H69: P1_Poptavkovy_list_3102-DATA_AL.xlsx | I69: 36M | J69: 42767 | K69: 8 | M69: 1047686.4 | N69: Nejnižší nabídková cena | O69: 42636 | P69: 42636 | Q69: 42650 | R69: 42678 | S69: 42723 | T69: 42723 | U69: 42724 | V69: x | W69: x | X69: x | Y69: x | Z69: x | AA69: 42725 | AB69: 42740 | AC69: 42725 | AD69: O2 Czech Republic a.s | AE69: MV- 246-50/SIK5-2017 | AF69: 24.1.2017/x | AG69: 42768 | AH69: 90 kalendářních dnů od podpisu smlouvy
B70: 3104 | C70: MV | D70: DATA_AL PL_3104 | E70: 646376 | F70: MV-116298-1477/SIK5-2013 | G70: Zadáno | H70: P1_Poptavkovy_list_3104-DATA_AL.xlsx | I70: 36M | J70: 42767 | K70: 3 | M70: 1485302.4 | N70: Nejnižší nabídková cena | O70: 42636 | P70: 42636 | Q70: 42650 | R70: 42678 | S70: 42723 | T70: 42723 | U70: 42724 | V70: x | W70: x | X70: x | Y70: x | Z70: x | AA70: 42725 | AB70: 42740 | AC70: 42725 | AD70: O2 Czech Republic a.s | AE70: MV- 246-50/SIK5-2017 | AF70: 24.1.2017/x | AG70: 42768 | AH70: 90 kalendářních dnů od podpisu smlouvy
B71: 3105 | C71: KŘP K | D71: DATA_AL PL_3105 | E71: 646377 | F71: MV-116298-1478/SIK5-2013 | G71: Zadáno | H71: P1_Poptavkovy_list_3105-DATA_AL.xlsx | I71: 36M | J71: 42767 | K71: 2 | M71: 99072 | N71: Nejnižší nabídková cena | O71: 42636 | P71: 42636 | Q71: 42650 | R71: 42678 | S71: 42723 | T71: 42723 | U71: 42724 | V71: x | W71: x | X71: x | Y71: x | Z71: x | AA71: 42725 | AB71: 42740 | AC71: 42725 | AD71: O2 Czech Republic a.s | AE71: MV- 246-50/SIK5-2017 | AF71: 24.1.2017/x | AG71: 42768 | AH71: 90 kalendářních dnů od podpisu smlouvy
B72: 3106 | C72: KŘP U | D72: DATA_AL PL_3106 | E72: 646378 | F72: MV-116298-1479/SIK5-2013 | G72: Zadáno | H72: P1_Poptavkovy_list_3106-DATA_AL.xlsx | I72: 36M | J72: 42767 | K72: 4 | M72: 198144 | N72: Nejnižší nabídková cena | O72: 42636 | P72: 42636 | Q72: 42650 | R72: 42678 | S72: 42723 | T72: 42723 | U72: 42724 | V72: x | W72: x | X72: x | Y72: x | Z72: x | AA72: 42725 | AB72: 42740 | AC72: 42725 | AD72: O2 Czech Republic a.s | AE72: MV- 246-50/SIK5-2017 | AF72: 24.1.2017/x | AG72: 42768 | AH72: 90 kalendářních dnů od podpisu smlouvy
B73: 3107 | C73: KŘP L;MV | D73: DATA_AL PL_3107 | E73: 646379 | F73: MV-116298-1480/SIK5-2013 | G73: Zadáno | H73: P1_Poptavkovy_list_3107-DATA_AL.xlsx | I73: 36M | J73: 42767 | K73: 17 | M73: 939081.6 | N73: Nejnižší nabídková cena | O73: 42636 | P73: 42636 | Q73: 42650 | R73: 42678 | S73: 42723 | T73: 42723 | U73: 42724 | V73: x | W73: x | X73: x | Y73: x | Z73: x | AA73: 42725 | AB73: 42740 | AC73: 42725 | AD73: O2 Czech Republic a.s | AE73: MV- 246-50/SIK5-2017 | AF73: 24.1.2017/x | AG73: 42768 | AH73: 90 kalendářních dnů od podpisu smlouvy
B74: 3108 | C74: KŘP H;MV | D74: DATA_AL PL_3108 | E74: 646380 | F74: MV-116298-1481/SIK5-2013 | G74: Zadáno | H74: P1_Poptavkovy_list_3108-DATA_AL.xlsx | I74: 36M | J74: 42767 | K74: 6 | M74: 374371.2 | N74: Nejnižší nabídková cena | O74: 42636 | P74: 42636 | Q74: 42650 | R74: 42678 | S74: 42723 | T74: 42723 | U74: 42724 | V74: x | W74: x | X74: x | Y74: x | Z74: x | AA74: 42725 | AB74: 42740 | AC74: 42725 | AD74: O2 Czech Republic a.s | AE74: MV- 246-50/SIK5-2017 | AF74: 24.1.2017/x | AG74: 42768 | AH74: 90 kalendářních dnů od podpisu smlouvy
B75: 3109 | C75: KŘP T;MV | D75: DATA_AL PL_3109 | E75: 646382 | F75: MV-116298-1482/SIK5-2013 | G75: Zadáno | H75: P1_Poptavkovy_list_3109-DATA_AL.xlsx | I75: 36M | J75: 42767 | K75: 10 | M75: 445824 | N75: Nejnižší nabídková cena | O75: 42636 | P75: 42636 | Q75: 42650 | R75: 42678 | S75: 42723 | T75: 42723 | U75: 42724 | V75: x | W75: x | X75: x | Y75: x | Z75: x | AA75: 42725 | AB75: 42740 | AC75: 42725 | AD75: O2 Czech Republic a.s | AE75: MV- 246-50/SIK5-2017 | AF75: 24.1.2017/x | AG75: 42768 | AH75: 90 kalendářních dnů od podpisu smlouvy
B76: 3110 | C76: KŘP M | D76: DATA_AL PL_3110 | E76: 646383 | F76: MV-116298-1483/SIK5-2013 | G76: Zadáno | H76: P1_Poptavkovy_list_3110-DATA_AL.xlsx | I76: 36M | J76: 42767 | K76: 2 | M76: 99072 | N76: Nejnižší nabídková cena | O76: 42636 | P76: 42636 | Q76: 42650 | R76: 42678 | S76: 42723 | T76: 42723 | U76: 42724 | V76: x | W76: x | X76: x | Y76: x | Z76: x | AA76: 42725 | AB76: 42740 | AC76: 42725 | AD76: O2 Czech Republic a.s | AE76: MV- 246-50/SIK5-2017 | AF76: 24.1.2017/x | AG76: 42768 | AH76: 90 kalendářních dnů od podpisu smlouvy
B77: 3111 | C77: KŘP B;MV | D77: DATA_AL PL_3111 | E77: 646384 | F77: MV-116298-1484/SIK5-2013 | G77: Zadáno | H77: P1_Poptavkovy_list_3111-DATA_AL.xlsx | I77: 36M | J77: 42767 | K77: 31 | M77: 1638518.4 | N77: Nejnižší nabídková cena | O77: 42636 | P77: 42636 | Q77: 42650 | R77: 42678 | S77: 42723 | T77: 42723 | U77: 42724 | V77: x | W77: x | X77: x | Y77: x | Z77: x | AA77: 42725 | AB77: 42740 | AC77: 42725 | AD77: O2 Czech Republic a.s | AE77: MV- 246-50/SIK5-2017 | AF77: 24.1.2017/x | AG77: 42768 | AH77: 90 kalendářních dnů od podpisu smlouvy
B78: 3112 | C78: KŘP A | D78: DATA_AL PL_3112 | E78: 646386 | F78: MV-116298-1485/SIK5-2013 | G78: Zadáno | H78: P1_Poptavkovy_list_3112-DATA_AL.xlsx | I78: 36M | J78: 42767 | K78: 45 | M78: 2229120 | N78: Nejnižší nabídková cena | O78: 42636 | P78: 42636 | Q78: 42650 | R78: 42678 | S78: 42723 | T78: 42723 | U78: 42724 | V78: x | W78: x | X78: x | Y78: x | Z78: x | AA78: 42725 | AB78: 42740 | AC78: 42725 | AD78: O2 Czech Republic a.s | AE78: MV- 246-50/SIK5-2017 | AF78: 24.1.2017/x | AG78: 42768 | AH78: 90 kalendářních dnů od podpisu smlouvy
B79: 3113 | C79: KŘP A | D79: DATA_AL PL_3113 | E79: 646387 | F79: MV-116298-1486/SIK5-2013 | G79: Zadáno | H79: P1_Poptavkovy_list_3113-DATA_AL.xlsx | I79: 36M | J79: 42767 | K79: 47 | M79: 2328192 | N79: Nejnižší nabídková cena | O79: 42636 | P79: 42636 | Q79: 42650 | R79: 42678 | S79: 42723 | T79: 42723 | U79: 42724 | V79: x | W79: x | X79: x | Y79: x | Z79: x | AA79: 42725 | AB79: 42740 | AC79: 42725 | AD79: O2 Czech Republic a.s | AE79: MV- 246-50/SIK5-2017 | AF79: 24.1.2017/x | AG79: 42768 | AH79: 90 kalendářních dnů od podpisu smlouvy
A80: V. s.k. | B80: 3114 | C80: KŘP A | D80: DATA_AL PL_3114 | E80: 646475 | F80: MV-116298-1487/SIK5-2013 | G80: Zadáno | H80: P1_Poptavkovy_list_3114-DATA_AL.xlsx | I80: 36M | J80: 42767 | K80: 50 | M80: 2476800 | N80: Nejnižší nabídková cena | O80: 42640 | P80: 42640 | Q80: 42654 | R80: 42688 | S80: 42733 | T80: 42733 | U80: 42734 | V80: x | W80: x | X80: x | Y80: x | Z80: x | AA80: 42737 | AB80: 42752 | AC80: 42737 | AD80: O2 Czech Republic a.s | AE80: MV- 246-50/SIK5-2017 | AF80: 24.1.2017/x | AG80: 42768 | AH80: 90 kalendářních dnů od podpisu smlouvy
B81: 3115 | C81: KŘP A | D81: DATA_AL PL_3115 | E81: 646476 | F81: MV-116298-1488/SIK5-2013 | G81: Zadáno | H81: P1_Poptavkovy_list_3115-DATA_AL.xlsx | I81: 36M | J81: 42767 | K81: 43 | M81: 2130048 | N81: Nejnižší nabídková cena | O81: 42640 | P81: 42640 | Q81: 42654 | R81: 42688 | S81: 42733 | T81: 42733 | U81: 42734 | V81: x | W81: x | X81: x | Y81: x | Z81: x | AA81: 42737 | AB81: 42752 | AC81: 42737 | AD81: O2 Czech Republic a.s | AE81: MV- 246-50/SIK5-2017 | AF81: 24.1.2017/x | AG81: 42768 | AH81: 90 kalendářních dnů od podpisu smlouvy
B82: 3116 | C82: KŘP A | D82: DATA_AL PL_3116 | E82: 646477 | F82: MV-116298-1489/SIK5-2013 | G82: Zadáno | H82: P1_Poptavkovy_list_3116-DATA_AL.xlsx | I82: 36M | J82: 42767 | K82: 50 | M82: 2476800 | N82: Nejnižší nabídková cena | O82: 42640 | P82: 42640 | Q82: 42654 | R82: 42688 | S82: 42733 | T82: 42733 | U82: 42734 | V82: x | W82: x | X82: x | Y82: x | Z82: x | AA82: 42737 | AB82: 42752 | AC82: 42737 | AD82: O2 Czech Republic a.s | AE82: MV- 246-50/SIK5-2017 | AF82: 24.1.2017/x | AG82: 42768 | AH82: 90 kalendářních dnů od podpisu smlouvy
B83: 3117 | C83: KŘP A | D83: DATA_AL PL_3117 | E83: 646478 | F83: MV-116298-1490/SIK5-2013 | G83: Zadáno | H83: P1_Poptavkovy_list_3117-DATA_AL.xlsx | I83: 36M | J83: 42767 | K83: 50 | M83: 2476800 | N83: Nejnižší nabídková cena | O83: 42640 | P83: 42640 | Q83: 42654 | R83: 42688 | S83: 42733 | T83: 42733 | U83: 42734 | V83: x | W83: x | X83: x | Y83: x | Z83: x | AA83: 42737 | AB83: 42752 | AC83: 42737 | AD83: O2 Czech Republic a.s | AE83: MV- 246-50/SIK5-2017 | AF83: 24.1.2017/x | AG83: 42768 | AH83: 90 kalendářních dnů od podpisu smlouvy
B84: 3118 | C84: KŘP A | D84: DATA_AL PL_3118 | E84: 646479 | F84: MV-116298-1491/SIK5-2013 | G84: Zadáno | H84: P1_Poptavkovy_list_3118-DATA_AL.xlsx | I84: 36M | J84: 42767 | K84: 49 | M84: 2427264 | N84: Nejnižší nabídková cena | O84: 42640 | P84: 42640 | Q84: 42654 | R84: 42688 | S84: 42733 | T84: 42733 | U84: 42734 | V84: x | W84: x | X84: x | Y84: x | Z84: x | AA84: 42737 | AB84: 42752 | AC84: 42737 | AD84: O2 Czech Republic a.s | AE84: MV- 246-50/SIK5-2017 | AF84: 24.1.2017/x | AG84: 42768 | AH84: 90 kalendářních dnů od podpisu smlouvy
B85: 3119 | C85: KŘP A | D85: DATA_AL PL_3119 | E85: 646480 | F85: MV-116298-1492/SIK5-2013 | G85: Zadáno | H85: P1_Poptavkovy_list_3119-DATA_AL.xlsx | I85: 36M | J85: 42767 | K85: 50 | M85: 2476800 | N85: Nejnižší nabídková cena | O85: 42640 | P85: 42640 | Q85: 42654 | R85: 42688 | S85: 42733 | T85: 42733 | U85: 42734 | V85: x | W85: x | X85: x | Y85: x | Z85: x | AA85: 42737 | AB85: 42752 | AC85: 42737 | AD85: O2 Czech Republic a.s | AE85: MV- 246-50/SIK5-2017 | AF85: 24.1.2017/x | AG85: 42768 | AH85: 90 kalendářních dnů od podpisu smlouvy
B86: 3120 | C86: KŘP A;MV | D86: DATA_AL PL_3120 | E86: 646481 | F86: MV-116298-1493/SIK5-2013 | G86: Zadáno | H86: P1_Poptavkovy_list_3120-DATA_AL.xlsx | I86: 36M | J86: 42767 | K86: 47 | M86: 2021068.8 | N86: Nejnižší nabídková cena | O86: 42640 | P86: 42640 | Q86: 42654 | R86: 42688 | S86: 42733 | T86: 42733 | U86: 42734 | V86: x | W86: x | X86: x | Y86: x | Z86: x | AA86: 42737 | AB86: 42752 | AC86: 42737 | AD86: O2 Czech Republic a.s | AE86: MV- 246-50/SIK5-2017 | AF86: 24.1.2017/x | AG86: 42768 | AH86: 90 kalendářních dnů od podpisu smlouvy
B87: 3121 | C87: KŘP A;KŘP S;MV | D87: DATA_AL PL_3121 | E87: 646482 | F87: MV-116298-1494/SIK5-2013 | G87: Zadáno | H87: P1_Poptavkovy_list_3121-DATA_AL.xlsx | I87: 36M | J87: 42767 | K87: 16 | M87: 788673.6 | N87: Nejnižší nabídková cena | O87: 42640 | P87: 42640 | Q87: 42654 | R87: 42688 | S87: 42733 | T87: 42733 | U87: 42734 | V87: x | W87: x | X87: x | Y87: x | Z87: x | AA87: 42737 | AB87: 42752 | AC87: 42737 | AD87: O2 Czech Republic a.s | AE87: MV- 246-50/SIK5-2017 | AF87: 24.1.2017/x | AG87: 42768 | AH87: 90 kalendářních dnů od podpisu smlouvy
B88: 3122 | C88: KŘP A;MV | D88: DATA_AL PL_3122 | E88: 646483 | F88: MV-116298-1495/SIK5-2013 | G88: Zadáno | H88: P1_Poptavkovy_list_3122-DATA_AL.xlsx | I88: 36M | J88: 42767 | K88: 5 | M88: 1336377.6 | N88: Nejnižší nabídková cena | O88: 42640 | P88: 42640 | Q88: 42654 | R88: 42688 | S88: 42733 | T88: 42733 | U88: 42734 | V88: x | W88: x | X88: x | Y88: x | Z88: x | AA88: 42737 | AB88: 42752 | AC88: 42737 | AD88: O2 Czech Republic a.s | AE88: MV- 246-50/SIK5-2017 | AF88: 24.1.2017/x | AG88: 42768 | AH88: 90 kalendářních dnů od podpisu smlouvy
B89: 3123 | C89: KŘP S | D89: DATA_AL PL_3123 | E89: 646485 | F89: MV-116298-1496/SIK5-2013 | G89: Zadáno | H89: P1_Poptavkovy_list_3123-DATA_AL.xlsx | I89: 36M | J89: 42767 | K89: 13 | M89: 643968 | N89: Nejnižší nabídková cena | O89: 42640 | P89: 42640 | Q89: 42654 | R89: 42688 | S89: 42733 | T89: 42733 | U89: 42734 | V89: x | W89: x | X89: x | Y89: x | Z89: x | AA89: 42737 | AB89: 42752 | AC89: 42737 | AD89: O2 Czech Republic a.s | AE89: MV- 246-50/SIK5-2017 | AF89: 24.1.2017/x | AG89: 42768 | AH89: 90 kalendářních dnů od podpisu smlouvy
B90: 3124 | C90: MV | D90: DATA_AL PL_3124 | E90: 646486 | F90: MV-116298-1497/SIK5-2013 | G90: Zadáno | H90: P1_Poptavkovy_list_3124-DATA_AL.xlsx | I90: 36M | J90: 42767 | K90: 6 | M90: 1762272 | N90: Nejnižší nabídková cena | O90: 42640 | P90: 42640 | Q90: 42654 | R90: 42688 | S90: 42733 | T90: 42733 | U90: 42734 | V90: x | W90: x | X90: x | Y90: x | Z90: x | AA90: 42737 | AB90: 42752 | AC90: 42737 | AD90: O2 Czech Republic a.s | AE90: MV- 246-50/SIK5-2017 | AF90: 24.1.2017/x | AG90: 42768 | AH90: 90 kalendářních dnů od podpisu smlouvy
B91: 2550 | C91: MV | D91: DATA_LL PL_2550 | E91: 646488 | F91: MV-116298-1498/SIK5-2013 | G91: Zadáno | H91: P1_Poptavkovy_list_2550-DATA_LL.xlsx | I91: 36M | J91: 42767 | K91: 2 | M91: 1220904 | N91: Nejnižší nabídková cena | O91: 42640 | P91: 42640 | Q91: 42654 | R91: 42688 | S91: 42733 | T91: 42733 | U91: 42734 | V91: 42737 | W91: 42740 | X91: 9:00 -9:50 | Y91: 42740 | Z91: 42746 | AA91: 42758 | AB91: 42773 | AC91: 23.01.2017/6.2.2017 | AD91: T-Mobile Czech Republic a.s. | AE91: MV- 113410-1606/SIK5 2014 | AF91: 10.02.2017/13.02.2017 | AG91: 42780 | AH91: 90 kalendářních dnů od podpisu smlouvy
A92: VII. s.k. | B92: 2141 | C92: KŘP C | D92: DATA_ETHERNET PL_2141 | E92: 646849 | F92: MV-116298-1560/SIK5-2013 | G92: Příjem předběžných nabídek v DNS | H92: P1_Poptavkovy_list_2141-DATA_ETHERNET.xlsx | I92: 36M | J92: 42887 | K92: 1 | M92: 276975 | N92: Nejnižší nabídková cena | O92: 42642 | P92: 42643 | Q92: 42660 | R92: 42787 | S92: 42817 | T92: 42817 | U92: 42821 | V92: 42821 | W92: 42824 | X92: 9:00 -9:50 | Y92: 42824 | Z92: 42830 | AA92: 42832 | AB92: 42849 | AC92: 42832 | AH92: 90 kalendářních dnů od podpisu smlouvy
B93: 2603 | C93: MV | D93: DATA_DF-BACKUP PL_2603 | E93: 646850 | F93: MV-116298-1561/SIK5-2013 | G93: Příjem předběžných nabídek v DNS | H93: P1_Poptavkovy_list_2603-DATA_DF-BACKUP.xlsx | I93: 48M | J93: 42917 | K93: 1 | M93: 480000 | N93: Nejnižší nabídková cena | O93: 42642 | P93: 42643 | Q93: 42660 | R93: 42787 | S93: 42817 | T93: 42817 | U93: 42821 | V93: 42821 | W93: 42824 | X93: 10:00 - 10:50 | Y93: 42824 | Z93: 42830 | AA93: 42832 | AB93: 42849 | AC93: 42832 | AH93: 90 kalendářních dnů od podpisu smlouvy
B94: 2604 | C94: MV | D94: DATA_DF-BACKUP PL_2604 | E94: 646851 | F94: MV-116298-1562/SIK5-2013 | G94: Příjem předběžných nabídek v DNS | H94: P1_Poptavkovy_list_2604-DATA_DF-BACKUP.xlsx | I94: 48M | J94: 42917 | K94: 1 | M94: 484800 | N94: Nejnižší nabídková cena | O94: 42642 | P94: 42643 | Q94: 42660 | R94: 42787 | S94: 42817 | T94: 42817 | U94: 42821 | V94: 42821 | W94: 42824 | X94: 11:00 - 11:50 | Y94: 42824 | Z94: 42830 | AA94: 42832 | AB94: 42849 | AC94: 42832 | AH94: 90 kalendářních dnů od podpisu smlouvy
B95: 2605 | C95: MV | D95: DATA_DF-BACKUP PL_2605 | E95: 646852 | F95: MV-116298-1563/SIK5-2013 | G95: Příjem předběžných nabídek v DNS | H95: P1_Poptavkovy_list_2605-DATA_DF-BACKUP.xlsx | I95: 48M | J95: 42917 | K95: 1 | M95: 552000 | N95: Nejnižší nabídková cena | O95: 42642 | P95: 42643 | Q95: 42660 | R95: 42787 | S95: 42817 | T95: 42817 | U95: 42821 | V95: 42821 | W95: 42824 | X95: 13:00 - 13:50 | Y95: 42824 | Z95: 42830 | AA95: 42832 | AB95: 42849 | AC95: 42832 | AH95: 90 kalendářních dnů od podpisu smlouvy
B96: 2114 | C96: KŘP T | D96: DATA_ETHERNET PL_2114 | E96: 646823 | F96: MV-116298-1542/SIK5-2013 | G96: Příjem předběžných nabídek v DNS | H96: P1_Poptavkovy_list_2114-DATA_ETHERNET.xlsx | I96: 36M | J96: 42948 | K96: 1 | M96: 147600 | N96: Nejnižší nabídková cena | O96: 42642 | P96: 42643 | Q96: 42660 | R96: 42787 | S96: 42817 | T96: 42817 | U96: 42821 | V96: 42821 | W96: 42824 | X96: 14:00 - 14:50 | Y96: 42824 | Z96: 42830 | AA96: 42832 | AB96: 42849 | AC96: 42832 | AH96: 90 kalendářních dnů od podpisu smlouvy
B98: 3103 | C98: MV | D98: DATA_AL PL_3103 | E98: 646375 | F98: MV-116298-1476/SIK5-2013 | G98: Zrušeno | H98: P1_Poptavkovy_list_3103-DATA_AL.xlsx | I98: 36M | J98: 42767 | K98: 1 | M98: 371289.6 | N98: Nejnižší nabídková cena | O98: 42636 | P98: 42636 | Q98: 42650 | R98: x | S98: x | T98: x | U98: x | V98: x | W98: x | X98: x | Y98: x | Z98: x | AA98: 42681 | AB98: 42696 | AC98: x | AD98: x | AE98: x | AF98: x | AG98: 42681 | AH98: 90 kalendářních dnů od podpisu smlouvy
