Workbook

Sheet Informace
A1: Harmonogram VZ vypsaných dle zákona č. 137/2006 Sb., o veřejných zakázkách
A3: 1) | B3: Harmonogram je postaven dle kritéria „Požadované datum zřízení služby“. Termíny uvedené v harmonogramu jsou termíny předpokládané.
A4: 2) | B4: Tímto bychom Vás chtěli požádat, abyste si harmonogram prošli a zkontrolovali si předpokládané termíny, ceny. Zda Vám vyhovují v návaznosti na Vaše stávající smlouvy, předávací protokoly o převzetí služby do provozu. Tuto kontrolu prosím provádějte průběžně.
A5: 3) | B5: Pokud Vám termíny nebudou vyhovovat, pošlete nám požadavek na kivs@mvcr.cz, dalším nezbytným krokem bude doplnění služby, tj. „Požadovaného data zřízení služby“ do portálu KIVS, aby se nám toto datum vyexportovalo do Poptávkového listu.
A6: 4) | B6: V současné chvíli máte služby v harmonogramu ve stavu „Postoupení“ a jsou zabaleny v příslušných poptávkových listech, tzn., že je službu nelze editovat.
A7: 5) | B7: Úpravy můžete provádět do doby odeslání Výzvy k podání nabídek viz harmonogram.
A8: 6) | B8: Pro příp. úpravy je nezbytné požádat o odemčení služby, a to buď prostřednictvím emailu kivs@mvcr.cz nebo se můžete obrátit na paní Thomasovou vlastimila.thomasova@mvcr.cz.
A9: 7) | B9: V případě, že do doby odeslání Výzvy k podání nabídek vznikne na Vaší straně požadavek na novou službu, je příp. možné ji zabalit do již připravených poptávkových listů (typ služby, kraj atd.). Z Vaší strany potřebujeme novou službu zadat do portálu KIVS, dát do stavu „Postoupení“.
A10: 8) | B10: Po odeslání Výzvy k podání nabídek nelze s vypsanými službami již manipulovat, a to až do doby ukončení dílčí VZ.
A11: 9) | B11: V případě, že služby přesoutěžujete a změníte (povýšíte) požadované parametry, pak doporučujeme povýšit cenu, která Vašim novým požadavkům odpovídá.
B13: Pro bližší informace k návrhům termínů se můžete příp. obrátit na Petru Stehlíkovou, GSM +420 777 443 065.

Sheet Celkový_přehled
A1: Celkový harmonogram VZ vypsaných dle zákona č. 137/2006 Sb., o veřejných zakázkách
A3: Soutěžní kolo PZ | B3: Pověřující zadavatelé | C3: Služby soutěžené v PL | D3: Počet PL v kole | E3: Počet služeb | F3: Celková maximální přípustná cena pro hodnocení | G3: Datum odeslání F9 z DNS | H3: Datum uveřejnění (Věstník) | I3: Podání předběžných nabídek | J3: Zveřejnění výzev | K3: Podání nabídek | L3: Otevření a posouzení nabídek | M3: Vyhodnocení nabídek | N3: Odeslání výzvy do EA s přesnými termíny | O3: Zahájení EA | P3: Rozhodnutí o nejvhodnější nabídce | Q3: Odevzdání finálních nabídek (PL) | R3: Komise a rozhodnutí o výběru nejvhodnější nabídky | S3: Lhůta pro námitky | T3: Datum odeslání Informace k vyplnění smlouvy z DNS/ Datum odeslání Výzvy k uzavření smlouvy | U3: Podpis smlouvy | V3: Povinnosti Centrálního zadavatele
A5: I. s.k. (data) Jířa | B5: MV, GIBS, KŘP C, ZZMV, KŘP P, MPO, KŘP J | C5: DATA_ETHERNET, DATA_VPN, DATA_INTERNET-SYM, DATA_INTERNET-ASYM | D5: 28 | E5: =SUM(HARMG_PZ_DATA_IV!K2:K29) -> 235 | F5: =SUM(HARMG_PZ_DATA_IV!M2:M29) -> 63666791 | G5: 42633 | H5: 42633 | I5: 42647 | J5: 42661 | K5: 18.11.2016 /02.12.2016 | L5: 18.11.2016 /02.12.2016 | M5: 23.11., 28.11., 02.12, 05.12.2016 | N5: 23.11., 29.11., 07.12.2016 | O5: 28. - 29.11.2016 / 02., 07., 12.- 15.12.2016 | P5: 28. - 29.11.2016 / 02., 07., 12.- 15.12.2016 | Q5: 02.- 05.12., 08.12., 16.12. - 21.12.2016 | R5: 29.11., 02.12., 06. - 08.12., 13., 12., 15.12., 21.12., 28.12.2016 | S5: 14.12., 19.12., 21. - 23.12., 27.12.2016, 05.01.2017 | T5: 29.11., 02.12., 06. - 08.12., 13., 12., 15.12., 21.12., 28.12.2016 | U5: 30.12.2016, 16.01., 20.01., 26.1.2017 | V5: 02., 17., 31.01., 02., 03.02.2017
A6: II. s.k. (data) Ivet | B6: MV, KŘP U, GIBS, KŘP T, KŘP M, KŘP L | C6: DATA_ETHERNET, DATA_INTERNET-SYM | D6: 26 | E6: =SUM(HARMG_PZ_DATA_IV!K30:K55) -> 129 | F6: =SUM(HARMG_PZ_DATA_IV!M30:M55) -> 30744324 | G6: 42642 | H6: 42643 | I6: 42660 | J6: 42667 | K6: 24.11.2016 / 05.12.2016 | L6: 24.11.2016 / 05.12.2016 | M6: 25.11.2016 / 06.12.2016 | N6: 28.11., 15.12.2016/09.02.2017 | O6: 01.-07.12., 21.12.2016/15.02.2017 | P6: 01.-07.12., 21.12.2016/15.02.2017 | Q6: 07.-13.12., 28.12.2016 | R6: 06., 13., 15., 29.12.2016/12.01., 17.02.2017 | S6: 12., 21., 28., 30.12.2016/12., 13., 27.01.2017/06.03.2017 | T6: 06., 13., 15., 29.12.2016/12.01., 17.02.2017 | U6: 30.12.2016/16., 20., 26.01.2017 | V6: 17., 31.01.2017/02., 03.02.2017
A7: III. s.k. (data) Jířa | B7: KŘP C, MV, KŘP P, KŘP K, KŘP U, KŘP L, KŘP H, KŘP T, KŘP M, KŘP B, KŘP A, MD | C7: DATA_ETHERNET, DATA_INTERNET-SYM, DATA_INTERNET-ASYM, DATA_AL | D7: 24 | E7: =SUM(HARMG_PZ_DATA_IV!K56:K79) -> 235 | F7: =SUM(HARMG_PZ_DATA_IV!M56:M79) -> 23191045 | G7: 42636 | H7: 42636 | I7: 42650 | J7: 42678 | K7: 05.12., 14.12., 19.12.2016 | L7: 05.12., 14.12., 19.12.2016 | M7: 06.12., 15.12., 20.12.2016 | N7: 07.12., 15.12.2016/06.01.2017 | O7: 13. - 14., 21.12.2016 / 03., 11.01.2017 | P7: 13. - 14., 21.12.2016 / 03., 11.01.2017 | Q7: 19.-20., 28.12.2016 / 09.17.01.2017 | R7: 21., 28.12.2016 / 06, 16., 20.01./20.02.2017 | S7: 30.12.2016/05., 12., 23., 31.01./7.3.2017 | T7: 21., 28.12.2016 / 06, 16., 20.01./20.02.2017 | U7: 20., 24., 26.01.2017/10.02.2017 | V7: 02.01.2017/02., 03., 14.02.2017
A8: IV. s.k. (hlasy) Jířa | B8: GIBS; KŘP A; KŘP B; KŘP C; KŘP E; KŘP H; KŘP J; KŘP K; KŘP L; KŘP M; KŘP P; KŘP T; KŘP U; KŘP Z; MV; GŘ HZS; HZS A; HZS H; HZS K; HZS L; HZS P; HZS S; HZS U, CzechInvest | C8: HLAS_PCM PL_400; HLAS_ISDN30 PL_401, HLAS_ISDN2 PL_402; HLAS_ISDN30 PL_403, HLAS_GL | D8: 3 | E8: 264 | F8: =SUM(HARMG_PZ_HLASY_IV!L2:L4) -> 11642438 | G8: 42633 | H8: 42633 | I8: 42660 | J8: 09.11.2016/7.12.2016 | K8: 23.12.2016/23.01.2017 | L8: 23.12.2016/23.01.2017 | M8: 02., 21. 01.2017 | N8: x | O8: x | P8: x | Q8: x | R8: 42737 | S8: 42752 | T8: 42737
A9: V. s.k. (data) Ivet | B9: KŘP A, MV, KŘP S | C9: DATA_AL | D9: 12 | E9: =SUM(HARMG_PZ_DATA_IV!K80:K91) -> 381 | F9: =SUM(HARMG_PZ_DATA_IV!M80:M91) -> 22237776 | G9: 42640 | H9: 42640 | I9: 42654 | J9: 42688 | K9: 42733 | L9: 42733 | M9: 42734 | N9: 42737 | O9: 42740 | P9: 42740 | Q9: 42746 | R9: 02., 23.01.2017 | S9: 17.01.2017/07.02.2017 | T9: 02., 23.01.2017 | U9: 24.01.2017/10.02.2017 | V9: 02., 14.,02.2017
A10: VI. s.k. (hlasy) Ivet | B10: KŘP A; KŘP S; MV, GŘ HZS, KŘP C, ZZMV, KŘP B, KŘP K, KŘP J, HZS H; KŘP H; KŘP L; KŘP U; KŘP T, KŘP M, HZS P; KŘP P | C10: HLAS_HTS | D10: 25 | E10: =SUM(HARMG_PZ_HLASY_IV!J5:J29) -> 982 | F10: =SUM(HARMG_PZ_HLASY_IV!L5:L29) -> 11706483 | G10: 42633 | H10: 42633 | I10: 42647 | J10: 42723 | K10: 42783 | L10: 42783 | M10: 42786 | N10: 42786 | O10: 23.02.- 01.03.2017 | P10: 23.02.- 01.03.2017 | Q10: 01.03.-07.03.2017 | R10: 20.02.2017/09.03.2017 | S10: 07.03.2017/24.03.2017 | T10: 20.02.2017/09.03.2017
A11: VII. s.k. (data) Jířa | B11: KŘP C, MV, KŘP T | C11: DATA_ETHERNET, DATA_DF-BACKUP | D11: 5 | E11: =SUM(HARMG_PZ_DATA_IV!K92:K96) -> 5 | F11: =SUM(HARMG_PZ_DATA_IV!M92:M96) -> 1941375 | G11: 42642 | H11: 42643 | I11: 42660 | J11: 42787 | K11: 42817 | L11: 42817 | M11: 42821 | N11: 42821 | O11: 42824 | P11: 42824 | Q11: 42830 | R11: 42832 | S11: 42849 | T11: 42832
A12: VIII. s.k. (hlasy) Ivet | B12: GŘ HZS;HZS S;KŘP A;KŘP S;MV, KŘP U;ZZMV, KŘP Z; VPŠ a SPŠ MV v Holešově, GFŘ; GŘC; MF, ČTÚ, ČSSZ; ÚP ČR, ČMI MPO | C12: HLAS_HTS - probíhá verifikace PL (bude upraveno) | D12: 27 | E12: =SUM(HARMG_PZ_HLASY_IV!J30:J56) -> 504 | F12: =SUM(HARMG_PZ_HLASY_IV!L30:L56) -> 5005479.1 | G12: 42640 | H12: 42640 | I12: 42654 | J12: 42793 | K12: 42823 | L12: 42823 | M12: 42825 | N12: 42825 | O12: 05.-11.04.2017 | P12: 05.-11.04.2017 | Q12: 11.04.-18.04.2017 | R12: 42844 | S12: 42859 | T12: 42844
A13: IX. s.k.(hlasy) Ivet | B13: ČSSZ, ÚP ČR, ČMI MPO, SEI, ČTÚ, ČOI, ÚPV, MPO, NBÚ, GŘC | C13: HLAS_HTS - probíhá verifikace PL (bude upraveno) | D13: 28 | E13: =SUM(HARMG_PZ_HLASY_IV!J57:J84) -> 193 | F13: =SUM(HARMG_PZ_HLASY_IV!L57:L84) -> 2217700.6 | G13: 42640 | H13: 42642 | I13: 42655 | J13: 42803 | K13: 42835 | L13: 42835 | M13: 42837 | N13: 42837 | O13: 18. - 24.04.2017 | P13: 18. - 24.04.2017 | Q13: 24.-28.04.2017 | R13: 42857 | S13: 42872 | T13: 42857
A14: X. s.k. (hlasy) Jířa | B14: GŘ HZS; KŘP A; KŘP S; MV, KŘP K, HZS A; KŘP T; ZZMV, MPO, ČSSZ, GFŘ, GŘC, NBÚ, ÚP ČR, | C14: HTS_ADSL, HLAS_ISDN2, HLAS_ISDN30, HLAS_BL - (před verifikací PL) | D14: 29 | E14: 134 | F14: =SUM(HARMG_PZ_HLASY_IV!L85:L113) -> 3043456.6 | G14: 42640 | H14: 42642 | I14: 42655 | J14: 42815 | K14: 42850 | L14: 42850 | M14: 42851 | N14: 42851 | O14: 02. - 09.05.2017 | P14: 02. - 09.05.2017 | Q14: 09.-15.05.2017 | R14: 42870 | S14: 42885 | T14: 42870
B15: CELKEM | D15: =SUM(D5:D14) -> 207 | E15: =SUM(E5:E14) -> 3062 | F15: =SUM(F5:F14) -> 1.7539687e+08

Sheet HARMG_PZ_HLASY_IV
A1: Soutěžní kolo PZ | B1: Číslo | C1: P1_Poptavkovy_list_Pověřující zadavatelé | D1: Název výzvy (dle F9) | E1: Evidenční číslo zakázky: | F1: Vaše č. jednací (Číslo objednávky) | G1: Fáze zadávacího řízení | H1: Název Poptávkového listu | I1: Doba trvání smlouvy | J1: Počet služeb v PL | K1: Požadované datum zřízení služby | L1: Celková maximální přípustná cena pro hodnocení | M1: Hodnotící kritérium | N1: Smluvní cena bez DPH | O1: Hovorné (vízězné) | P1: Smluvní cena s DPH | Q1: Úspora v Kč | R1: Úspora % | S1: Úspora na hovorném proti nabídce vítězného uchazeče | T1: Datum odeslání F9 z DNS | U1: Datum uveřejnění (VVZ) | V1: Podání předběžných nabídek | W1: Zveřejnění výzev | X1: Podání nabídek | Y1: Otevření a posouzení nabídek | Z1: Vyhodnocení nabídek | AA1: Odeslání výzvy do EA s přesnými termíny | AB1: Zahájení EA | AC1: Čas zahájení - dokončení EA | AD1: Rozhodnutí o nejvhodnější nabídce | AE1: Odevzdání finálních nabídek (PL) | AF1: Komise a rozhodnutí o výběru nejvhodnější nabídky | AG1: Lhůta pro námitky | AH1: Datum odeslání Informace k vyplnění smlouvy z DNS/ Datum odeslání Výzvy k uzavření smlouvy | AI1: Vítěz uchazeč | AJ1: Č.j.: Smlouvy | AK1: Podpis smlouvy / Oznámení o uzavření smlouvy | AL1: Povinnosti Centrálního zadavatele | AM1: Migrace (Max. doba zavedení služby) | AN1: Námitky 16.8.2016 /Rozhodnutí o nich 24. 8. 2016 (O2)
A2: IV. s.k. | B2: 402403 | C2: GŘ HZS;HZS A;HZS H;HZS K;HZS L;HZS P;HZS S;HZS U | D2: HLAS_ISDN2 PL_402; HLAS_ISDN30 PL_403 | E2: 642241 | F2: MV- 16472-177/SIK5-2016 | G2: Hodnocení | H2: P1_Poptavkovy_list_402403-HLAS_ISDN2_ISDN30.xlsx | I2: 24M | J2: 139 | K2: x | L2: 2387352 | M2: Celková cena pro hodnocení 40%, hovorné pro hodnocení 60% | N2: 2386208 | O2: 0.58 | P2: =N2*0.21+N2 -> 2887311.7 | Q2: =L2-N2 -> 1144 | R2: =(L2-N2)/ABS(L2) -> 0.00047919201 | T2: 42633 | U2: 42633 | V2: 42647 | W2: 42683 | X2: 42727 | Y2: 42727 | Z2: 42737 | AA2: x | AB2: x | AC2: x | AD2: x | AE2: x | AF2: 42737 | AG2: 42752 | AH2: 02.01.2017/18.1.2017 opakovaná výzva | AI2: O2 Czech Republic a.s | AJ2: MV- 27887-404/SIK5-2016 | AM2: 90 kalendářních dní
B3: 400401 | C3: GIBS; KŘP A; KŘP B; KŘP C; KŘP E; KŘP H; KŘP J; KŘP K; KŘP L; KŘP M; KŘP P; KŘP T; KŘP U; KŘP Z; MV | D3: HLAS_PCM PL_400; HLAS_ISDN30 PL_401 | E3: 642244 | F3: MV- 16472-176/SIK5-2016 | G3: Hodnocení | H3: P1_Poptavkovy_list_400401-HLAS_ISDN30_PCM.xlsx | I3: 24M | J3: 124 | K3: x | L3: 9248125.7 | M3: Celková cena pro hodnocení 40%, hovorné pro hodnocení 60% | T3: 42633 | U3: 42633 | V3: 42647 | W3: 42711 | X3: 42758 | Y3: 42758 | Z3: 42757 | AA3: x | AB3: x | AC3: x | AD3: x | AE3: x | AM3: 90 kalendářních dní
B4: 1852 | C4: CzechInvest | D4: HLAS_GL PL_1852 | E4: 646706 | F4: MV- 16472-579/SIK5-2016 | G4: Zrušeno | H4: P1_Poptavkovy_list_1852-HLAS_GL.xlsx | I4: 24M | J4: 1 | K4: x | L4: 6960 | M4: Celková cena pro hodnocení 40%, hovorné pro hodnocení 60% | N4: x | O4: x | P4: x | Q4: x | R4: x | S4: x | T4: 42640 | U4: 42642 | V4: 42655 | W4: 42711 | X4: x | Y4: x | Z4: x | AA4: x | AB4: x | AC4: x | AD4: x | AE4: x | AF4: 42758 | AG4: 42773 | AH4: x | AI4: x | AJ4: x | AK4: x | AL4: 42774 | AM4: x
A5: VI. s.k. | B5: 1500 | C5: KŘP A; KŘP S; MV | D5: HLAS_HTS PL_1500 | E5: 642696 | F5: MV- 16472-323/SIK5-2016 | G5: Hodnocení | H5: P1_Poptavkovy_list_1500-HLAS_HTS.xlsx | I5: 24M | J5: 58 | K5: x | L5: 719026.56 | M5: Celková cena pro hodnocení 60%, hovorné pro hodnocení 40% | T5: 42633 | U5: 42633 | V5: 42647 | W5: 42723 | X5: 42783 | Y5: 42783 | Z5: 42786 | AA5: 42786 | AB5: 42789 | AC5: 9:00 -9:50 | AD5: 42789 | AE5: 42795 | AF5: 42803 | AG5: 42818 | AH5: 42803 | AM5: 90 kalendářních dní
B6: 1501 | C6: KŘP A | D6: HLAS_HTS PL_1501 | E6: 642697 | F6: MV- 16472-324/SIK5-2016 | G6: Hodnocení | H6: P1_Poptavkovy_list_1501-HLAS_HTS.xlsx | I6: 24M | J6: 54 | K6: x | L6: 662367.84 | M6: Celková cena pro hodnocení 60%, hovorné pro hodnocení 40% | T6: 42633 | U6: 42633 | V6: 42647 | W6: 42723 | X6: 42783 | Y6: 42783 | Z6: 42786 | AA6: 42786 | AB6: 42789 | AC6: 10:00 - 10:50 | AD6: 42789 | AE6: 42795 | AF6: 42803 | AG6: 42818 | AH6: 42803 | AM6: 90 kalendářních dní
B7: 1502 | C7: GŘ HZS; KŘP A | D7: HLAS_HTS PL_1502 | E7: 642723 | F7: MV- 16472-325/SIK5-2016 | G7: Hodnocení | H7: P1_Poptavkovy_list_1502-HLAS_HTS.xlsx | I7: 24M | J7: 48 | K7: x | L7: 571983.6 | M7: Celková cena pro hodnocení 60%, hovorné pro hodnocení 40% | T7: 42633 | U7: 42633 | V7: 42647 | W7: 42723 | X7: 42783 | Y7: 42783 | Z7: 42786 | AA7: 42786 | AB7: 42789 | AC7: 11:00 - 11:50 | AD7: 42789 | AE7: 42795 | AF7: 42803 | AG7: 42818 | AH7: 42803 | AM7: 90 kalendářních dní
B8: 1503 | C8: KŘP A | D8: HLAS_HTS PL_1503 | E8: 642698 | F8: MV- 16472-326/SIK5-2016 | G8: Hodnocení | H8: P1_Poptavkovy_list_1503-HLAS_HTS.xlsx | I8: 24M | J8: 55 | K8: x | L8: 688402.8 | M8: Celková cena pro hodnocení 60%, hovorné pro hodnocení 40% | T8: 42633 | U8: 42633 | V8: 42647 | W8: 42723 | X8: 42783 | Y8: 42783 | Z8: 42786 | AA8: 42786 | AB8: 42789 | AC8: 13:00 - 13:50 | AD8: 42789 | AE8: 42795 | AF8: 42803 | AG8: 42818 | AH8: 42803 | AM8: 90 kalendářních dní
B9: 1504 | C9: KŘP A | D9: HLAS_HTS PL_1504 | E9: 642699 | F9: MV- 16472-327/SIK5-2016 | G9: Hodnocení | H9: P1_Poptavkovy_list_1504-HLAS_HTS.xlsx | I9: 24M | J9: 56 | K9: x | L9: 698837.76 | M9: Celková cena pro hodnocení 60%, hovorné pro hodnocení 40% | T9: 42633 | U9: 42633 | V9: 42647 | W9: 42723 | X9: 42783 | Y9: 42783 | Z9: 42786 | AA9: 42786 | AB9: 42789 | AC9: 14:00 - 14:50 | AD9: 42789 | AE9: 42795 | AF9: 42803 | AG9: 42818 | AH9: 42803 | AM9: 90 kalendářních dní
B10: 1505 | C10: KŘP A | D10: HLAS_HTS PL_1505 | E10: 642701 | F10: MV- 16472-328/SIK5-2016 | G10: Hodnocení | H10: P1_Poptavkovy_list_1505-HLAS_HTS.xlsx | I10: 24M | J10: 56 | K10: x | L10: 702341.76 | M10: Celková cena pro hodnocení 60%, hovorné pro hodnocení 40% | T10: 42633 | U10: 42633 | V10: 42647 | W10: 42723 | X10: 42783 | Y10: 42783 | Z10: 42786 | AA10: 42786 | AB10: 42790 | AC10: 9:00 -9:50 | AD10: 42790 | AE10: 42796 | AF10: 42803 | AG10: 42818 | AH10: 42803 | AM10: 90 kalendářních dní
B11: 1506 | C11: KŘP A | D11: HLAS_HTS PL_1506 | E11: 642702 | F11: MV- 16472-329/SIK5-2016 | G11: Hodnocení | H11: P1_Poptavkovy_list_1506-HLAS_HTS.xlsx | I11: 24M | J11: 56 | K11: x | L11: 704357.76 | M11: Celková cena pro hodnocení 60%, hovorné pro hodnocení 40% | T11: 42633 | U11: 42633 | V11: 42647 | W11: 42723 | X11: 42783 | Y11: 42783 | Z11: 42786 | AA11: 42786 | AB11: 42790 | AC11: 10:00 - 10:50 | AD11: 42790 | AE11: 42796 | AF11: 42803 | AG11: 42818 | AH11: 42803 | AM11: 90 kalendářních dní
B12: 1507 | C12: KŘP A; KŘP S; MV | D12: HLAS_HTS PL_1507 | E12: 642703 | F12: MV- 16472-330/SIK5-2016 | G12: Hodnocení | H12: P1_Poptavkovy_list_1507-HLAS_HTS.xlsx | I12: 24M | J12: 50 | K12: x | L12: 594229.44 | M12: Celková cena pro hodnocení 60%, hovorné pro hodnocení 40% | T12: 42633 | U12: 42633 | V12: 42647 | W12: 42723 | X12: 42783 | Y12: 42783 | Z12: 42786 | AA12: 42786 | AB12: 42790 | AC12: 11:00 - 11:50 | AD12: 42790 | AE12: 42796 | AF12: 42803 | AG12: 42818 | AH12: 42803 | AM12: 90 kalendářních dní
B13: 1508 | C13: MV | D13: HLAS_HTS PL_1508 | E13: 642704 | F13: MV- 16472-331/SIK5-2016 | G13: Hodnocení | H13: P1_Poptavkovy_list_1508-HLAS_HTS.xlsx | I13: 24M | J13: 46 | K13: x | L13: 546204 | M13: Celková cena pro hodnocení 60%, hovorné pro hodnocení 40% | T13: 42633 | U13: 42633 | V13: 42647 | W13: 42723 | X13: 42783 | Y13: 42783 | Z13: 42786 | AA13: 42786 | AB13: 42790 | AC13: 13:00 - 13:50 | AD13: 42790 | AE13: 42796 | AF13: 42803 | AG13: 42818 | AH13: 42803 | AM13: 90 kalendářních dní
B14: 1509 | C14: MV | D14: HLAS_HTS PL_1509 | E14: 642705 | F14: MV- 16472-332/SIK5-2016 | G14: Hodnocení | H14: P1_Poptavkovy_list_1509-HLAS_HTS.xlsx | I14: 24M | J14: 50 | K14: x | L14: 610217.52 | M14: Celková cena pro hodnocení 60%, hovorné pro hodnocení 40% | T14: 42633 | U14: 42633 | V14: 42647 | W14: 42723 | X14: 42783 | Y14: 42783 | Z14: 42786 | AA14: 42786 | AB14: 42790 | AC14: 14:00 - 14:50 | AD14: 42790 | AE14: 42796 | AF14: 42803 | AG14: 42818 | AH14: 42803 | AM14: 90 kalendářních dní
B15: 1510 | C15: MV | D15: HLAS_HTS PL_1510 | E15: 642706 | F15: MV- 16472-333/SIK5-2016 | G15: Hodnocení | H15: P1_Poptavkovy_list_1510-HLAS_HTS.xlsx | I15: 24M | J15: 33 | K15: x | L15: 391842 | M15: Celková cena pro hodnocení 60%, hovorné pro hodnocení 40% | T15: 42633 | U15: 42633 | V15: 42647 | W15: 42723 | X15: 42783 | Y15: 42783 | Z15: 42786 | AA15: 42786 | AB15: 42793 | AC15: 9:00 -9:50 | AD15: 42793 | AE15: 42797 | AF15: 42803 | AG15: 42818 | AH15: 42803 | AM15: 90 kalendářních dní
B16: 1511 | C16: KŘP A; MV | D16: HLAS_HTS PL_1511 | E16: 642707 | F16: MV- 16472-334/SIK5-2016 | G16: Hodnocení | H16: P1_Poptavkovy_list_1511-HLAS_HTS.xlsx | I16: 24M | J16: 17 | K16: x | L16: 210519.36 | M16: Celková cena pro hodnocení 60%, hovorné pro hodnocení 40% | T16: 42633 | U16: 42633 | V16: 42647 | W16: 42723 | X16: 42783 | Y16: 42783 | Z16: 42786 | AA16: 42786 | AB16: 42793 | AC16: 10:00 - 10:50 | AD16: 42793 | AE16: 42797 | AF16: 42803 | AG16: 42818 | AH16: 42803 | AM16: 90 kalendářních dní
B17: 1512 | C17: GŘ HZS; KŘP C | D17: HLAS_HTS PL_1512 | E17: 642708 | F17: MV- 16472-335/SIK5-2016 | G17: Hodnocení | H17: P1_Poptavkovy_list_1512-HLAS_HTS.xlsx | I17: 24M | J17: 47 | K17: x | L17: 438355.2 | M17: Celková cena pro hodnocení 60%, hovorné pro hodnocení 40% | T17: 42633 | U17: 42633 | V17: 42647 | W17: 42723 | X17: 42783 | Y17: 42783 | Z17: 42786 | AA17: 42786 | AB17: 42793 | AC17: 11:00 - 11:50 | AD17: 42793 | AE17: 42797 | AF17: 42803 | AG17: 42818 | AH17: 42803 | AM17: 90 kalendářních dní
... B26: 1521 | C26: GŘ HZS; KŘP M | D26: HLAS_HTS PL_1521 | E26: 642718 | F26: MV- 16472-344/SIK5-2016 | G26: Hodnocení | H26: P1_Poptavkovy_list_1521-HLAS_HTS.xlsx | I26: 24M | J26: 64 | K26: x | L26: 762714 | M26: Celková cena pro hodnocení 60%, hovorné pro hodnocení 40% | T26: 42633 | U26: 42633 | V26: 42647 | W26: 42723 | X26: 42783 | Y26: 42783 | Z26: 42786 | AA26: 42786 | AB26: 42795 | AC26: 10:00 - 10:50 | AD26: 42795 | AE26: 42801 | AF26: 42803 | AG26: 42818 | AH26: 42803 | AM26: 90 kalendářních dní
B27: 1523 | C27: GŘ HZS, HZS P, KŘP P, MV, ZZMV | D27: HLAS_HTS PL_1523 | E27: 642720 | F27: MV- 16472-346/SIK5-2016 | G27: Hodnocení | H27: P1_Poptavkovy_list_1523-HLAS_HTS.xlsx | I27: 24M | J27: 9 | K27: x | L27: 88614 | M27: Celková cena pro hodnocení 60%, hovorné pro hodnocení 40% | N27: 88614 | O27: 3.04 | P27: =N27*0.21+N27 -> 107222.94 | Q27: =L27-N27 -> 0 | R27: =(L27-N27)/ABS(L27) -> 0 | T27: 42633 | U27: 42633 | V27: 42647 | W27: 42723 | X27: 42783 | Y27: 42783 | Z27: 42786 | AA27: x | AB27: x | AC27: x | AD27: x | AE27: x | AF27: 42786 | AG27: 42801 | AH27: 42786 | AI27: ha-vel internet s.r.o. | AJ27: MV-814-4/SIK5-2017 | AM27: 90 kalendářních dní
B28: 1524 | C28: KŘP P; MV | D28: HLAS_HTS PL_1524 | E28: 642721 | F28: MV- 16472-347/SIK5-2016 | G28: Hodnocení | H28: P1_Poptavkovy_list_1524-HLAS_HTS.xlsx | I28: 24M | J28: 2 | K28: x | L28: 17802.96 | M28: Celková cena pro hodnocení 60%, hovorné pro hodnocení 40% | N28: 17802.96 | O28: 3.04 | P28: =N28*0.21+N28 -> 21541.582 | Q28: =L28-N28 -> 0 | R28: =(L28-N28)/ABS(L28) -> 0 | T28: 42633 | U28: 42633 | V28: 42647 | W28: 42723 | X28: 42783 | Y28: 42783 | Z28: 42786 | AA28: x | AB28: x | AC28: x | AD28: x | AE28: x | AF28: 42786 | AG28: 42801 | AH28: 42803 | AI28: ha-vel internet s.r.o. | AJ28: MV-814-4/SIK5-2017 | AM28: 90 kalendářních dní
B29: 1525 | C29: KŘP P;MV | D29: HLAS_HTS PL_1525 | E29: 642722 | F29: MV- 16472-348/SIK5-2016 | G29: Hodnocení | H29: P1_Poptavkovy_list_1525-HLAS_HTS.xlsx | I29: 24M | J29: 8 | K29: x | L29: 95764.8 | M29: Celková cena pro hodnocení 60%, hovorné pro hodnocení 40% | T29: 42633 | U29: 42633 | V29: 42647 | W29: 42723 | X29: 42783 | Y29: 42783 | Z29: 42786 | AA29: 42786 | AB29: 42795 | AC29: 11:00 - 11:50 | AD29: 42795 | AE29: 42801 | AF29: 42803 | AG29: 42818 | AH29: 42803 | AM29: 90 kalendářních dní
A30: VIII.s.k. | B30: 1526 | C30: GŘ HZS;HZS S;KŘP A;KŘP S;MV | D30: HLAS_HTS PL_1526 | E30: 646489 | F30: MV- 16472-431/SIK5-2016 | G30: Příjem předběžných nabídek v DNS | H30: P1_Poptavkovy_list_1526-HLAS_HTS.xlsx | I30: 24M | J30: 62 | K30: x | L30: 756570.24 | M30: Celková cena pro hodnocení 60%, hovorné pro hodnocení 40% | T30: 42640 | U30: 42640 | V30: 42654 | W30: 42793 | X30: 42823 | Y30: 42823 | Z30: 42825 | AA30: 42825 | AB30: 42830 | AC30: 9:00 -9:50 | AD30: 42830 | AE30: 42836 | AF30: 42844 | AG30: 42859 | AH30: 42844 | AM30: 90 kalendářních dní
B31: 1527 | C31: KŘP U;MV;ZZMV | D31: HLAS_HTS PL_1527 | E31: 646490 | F31: MV- 16472-432/SIK5-2016 | G31: Příjem předběžných nabídek v DNS | H31: P1_Poptavkovy_list_1527-HLAS_HTS.xlsx | I31: 24M | J31: 19 | K31: x | L31: 219438.96 | M31: Celková cena pro hodnocení 60%, hovorné pro hodnocení 40% | T31: 42640 | U31: 42640 | V31: 42654 | W31: 42793 | X31: 42823 | Y31: 42823 | Z31: 42825 | AA31: 42825 | AB31: 42830 | AC31: 10:00 - 10:50 | AD31: 42830 | AE31: 42836 | AF31: 42844 | AG31: 42859 | AH31: 42844 | AM31: 90 kalendářních dní
B32: 1528 | C32: KŘP Z; MV; VPŠ a SPŠ MV v Holešově | D32: HLAS_HTS PL_1528 | E32: 646491 | F32: MV- 16472-433/SIK5-2016 | G32: Příjem předběžných nabídek v DNS | H32: P1_Poptavkovy_list_1528-HLAS_HTS.xlsx | I32: 24M | J32: 15 | K32: x | L32: 197803.2 | M32: Celková cena pro hodnocení 60%, hovorné pro hodnocení 40% | T32: 42640 | U32: 42640 | V32: 42654 | W32: 42793 | X32: 42823 | Y32: 42823 | Z32: 42825 | AA32: 42825 | AB32: 42830 | AC32: 11:00 - 11:50 | AD32: 42830 | AE32: 42836 | AF32: 42844 | AG32: 42859 | AH32: 42844 | AM32: 90 kalendářních dní
B33: 1529 | C33: GFŘ; GŘC; MF | D33: HLAS_HTS PL_1529 | E33: 646492 | F33: MV- 16472-434/SIK5-2016 | G33: Příjem předběžných nabídek v DNS | H33: P1_Poptavkovy_list_1529-HLAS_HTS.xlsx | I33: 24M | J33: 47 | K33: x | L33: 262800 | M33: Celková cena pro hodnocení 60%, hovorné pro hodnocení 40% | T33: 42640 | U33: 42640 | V33: 42654 | W33: 42793 | X33: 42823 | Y33: 42823 | Z33: 42825 | AA33: 42825 | AB33: 42830 | AC33: 13:00 - 13:50 | AD33: 42830 | AE33: 42836 | AF33: 42844 | AG33: 42859 | AH33: 42844 | AM33: 90 kalendářních dní
B34: 1530 | C34: GŘC | D34: HLAS_HTS PL_1530 | E34: 646495 | F34: MV- 16472-435/SIK5-2016 | G34: Příjem předběžných nabídek v DNS | H34: P1_Poptavkovy_list_1530-HLAS_HTS.xlsx | I34: 24M | J34: 5 | K34: x | L34: 24000 | M34: Celková cena pro hodnocení 60%, hovorné pro hodnocení 40% | T34: 42640 | U34: 42640 | V34: 42654 | W34: 42793 | X34: 42823 | Y34: 42823 | Z34: 42825 | AA34: 42825 | AB34: 42830 | AC34: 14:00 - 14:50 | AD34: 42830 | AE34: 42836 | AF34: 42844 | AG34: 42859 | AH34: 42844 | AM34: 90 kalendářních dní
B35: 1531 | C35: GFŘ; GŘC | D35: HLAS_HTS PL_1531 | E35: 646496 | F35: MV- 16472-436/SIK5-2016 | G35: Příjem předběžných nabídek v DNS | H35: P1_Poptavkovy_list_1531-HLAS_HTS.xlsx | I35: 24M | J35: 14 | K35: x | L35: 69600 | M35: Celková cena pro hodnocení 60%, hovorné pro hodnocení 40% | T35: 42640 | U35: 42640 | V35: 42654 | W35: 42793 | X35: 42823 | Y35: 42823 | Z35: 42825 | AA35: 42825 | AB35: 42830 | AC35: 15:00 - 15:50 | AD35: 42830 | AE35: 42836 | AF35: 42844 | AG35: 42859 | AH35: 42844 | AM35: 90 kalendářních dní
B36: 1532 | C36: GFŘ; GŘC | D36: HLAS_HTS PL_1532 | E36: 646497 | F36: MV- 16472-437/SIK5-2016 | G36: Příjem předběžných nabídek v DNS | H36: P1_Poptavkovy_list_1532-HLAS_HTS.xlsx | I36: 24M | J36: 9 | K36: x | L36: 52800 | M36: Celková cena pro hodnocení 60%, hovorné pro hodnocení 40% | T36: 42640 | U36: 42640 | V36: 42654 | W36: 42793 | X36: 42823 | Y36: 42823 | Z36: 42825 | AA36: 42825 | AB36: 42831 | AC36: 9:00 -9:50 | AD36: 42831 | AE36: 42837 | AF36: 42844 | AG36: 42859 | AH36: 42844 | AM36: 90 kalendářních dní
B37: 1533 | C37: GŘC | D37: HLAS_HTS PL_1533 | E37: 646498 | F37: MV- 16472-438/SIK5-2016 | G37: Příjem předběžných nabídek v DNS | H37: P1_Poptavkovy_list_1533-HLAS_HTS.xlsx | I37: 24M | J37: 7 | K37: x | L37: 33600 | M37: Celková cena pro hodnocení 60%, hovorné pro hodnocení 40% | T37: 42640 | U37: 42640 | V37: 42654 | W37: 42793 | X37: 42823 | Y37: 42823 | Z37: 42825 | AA37: 42825 | AB37: 42831 | AC37: 10:00 - 10:50 | AD37: 42831 | AE37: 42837 | AF37: 42844 | AG37: 42859 | AH37: 42844 | AM37: 90 kalendářních dní
B38: 1534 | C38: GFŘ; GŘC | D38: HLAS_HTS PL_1534 | E38: 646499 | F38: MV- 16472-439/SIK5-2016 | G38: Příjem předběžných nabídek v DNS | H38: P1_Poptavkovy_list_1534-HLAS_HTS.xlsx | I38: 24M | J38: 4 | K38: x | L38: 21600 | M38: Celková cena pro hodnocení 60%, hovorné pro hodnocení 40% | T38: 42640 | U38: 42640 | V38: 42654 | W38: 42793 | X38: 42823 | Y38: 42823 | Z38: 42825 | AA38: 42825 | AB38: 42831 | AC38: 11:00 - 11:50 | AD38: 42831 | AE38: 42837 | AF38: 42844 | AG38: 42859 | AH38: 42844 | AM38: 90 kalendářních dní
B39: 1535 | C39: ČTÚ | D39: HLAS_HTS PL_1535 | E39: 646500 | F39: MV- 16472-440/SIK5-2016 | G39: Příjem předběžných nabídek v DNS | H39: P1_Poptavkovy_list_1535-HLAS_HTS.xlsx | I39: 24M | J39: 3 | K39: x | L39: 32400 | M39: Celková cena pro hodnocení 60%, hovorné pro hodnocení 40% | T39: 42640 | U39: 42640 | V39: 42654 | W39: 42793 | X39: 42823 | Y39: 42823 | Z39: 42825 | AA39: 42825 | AB39: 42831 | AC39: 13:00 - 13:50 | AD39: 42831 | AE39: 42837 | AF39: 42844 | AG39: 42859 | AH39: 42844 | AM39: 90 kalendářních dní
B40: 1536 | C40: GFŘ | D40: HLAS_HTS PL_1536 | E40: 646501 | F40: MV- 16472-441/SIK5-2016 | G40: Příjem předběžných nabídek v DNS | H40: P1_Poptavkovy_list_1536-HLAS_HTS.xlsx | I40: 24M | J40: 16 | K40: x | L40: 96000 | M40: Celková cena pro hodnocení 60%, hovorné pro hodnocení 40% | T40: 42640 | U40: 42640 | V40: 42654 | W40: 42793 | X40: 42823 | Y40: 42823 | Z40: 42825 | AA40: 42825 | AB40: 42831 | AC40: 14:00 - 14:50 | AD40: 42831 | AE40: 42837 | AF40: 42844 | AG40: 42859 | AH40: 42844 | AM40: 90 kalendářních dní
B41: 1537 | C41: GFŘ; GŘC | D41: HLAS_HTS PL_1537 | E41: 646502 | F41: MV- 16472-442/SIK5-2016 | G41: Příjem předběžných nabídek v DNS | H41: P1_Poptavkovy_list_1537-HLAS_HTS.xlsx | I41: 24M | J41: 10 | K41: x | L41: 58800 | M41: Celková cena pro hodnocení 60%, hovorné pro hodnocení 40% | T41: 42640 | U41: 42640 | V41: 42654 | W41: 42793 | X41: 42823 | Y41: 42823 | Z41: 42825 | AA41: 42825 | AB41: 42831 | AC41: 15:00 - 15:50 | AD41: 42831 | AE41: 42837 | AF41: 42844 | AG41: 42859 | AH41: 42844 | AM41: 90 kalendářních dní
B42: 1538 | C42: GFŘ; GŘC | D42: HLAS_HTS PL_1538 | E42: 646503 | F42: MV- 16472-443/SIK5-2016 | G42: Příjem předběžných nabídek v DNS | H42: P1_Poptavkovy_list_1538-HLAS_HTS.xlsx | I42: 24M | J42: 4 | K42: x | L42: 22800 | M42: Celková cena pro hodnocení 60%, hovorné pro hodnocení 40% | T42: 42640 | U42: 42640 | V42: 42654 | W42: 42793 | X42: 42823 | Y42: 42823 | Z42: 42825 | AA42: 42825 | AB42: 42832 | AC42: 9:00 -9:50 | AD42: 42832 | AE42: 42838 | AF42: 42844 | AG42: 42859 | AH42: 42844 | AM42: 90 kalendářních dní
... B56: 1553 | C56: ČMI MPO; ÚP ČR | D56: HLAS_HTS PL_1553 | E56: 646523 | F56: MV- 16472-457/SIK5-2016 | G56: Příjem předběžných nabídek v DNS | H56: P1_Poptavkovy_list_1553-HLAS_HTS.xlsx | I56: 24M | J56: 8 | K56: x | L56: 95572.08 | M56: Celková cena pro hodnocení 60%, hovorné pro hodnocení 40% | T56: 42640 | U56: 42640 | V56: 42654 | W56: 42793 | X56: 42823 | Y56: 42823 | Z56: 42825 | AA56: 42825 | AB56: 42836 | AC56: 14:00 - 14:50 | AD56: 42836 | AE56: 42843 | AF56: 42844 | AG56: 42859 | AH56: 42844 | AM56: 90 kalendářních dní
A57: IX. s.k. | B57: 1554 | C57: ČSSZ;ÚP ČR | D57: HLAS_HTS PL_1554 | E57: 646632 | F57: MV- 16472-522/SIK5-2016 | G57: Příjem předběžných nabídek v DNS | H57: P1_Poptavkovy_list_1554-HLAS_HTS.xlsx | I57: 24M | J57: 20 | K57: x | L57: 237775.46 | M57: Celková cena pro hodnocení 60%, hovorné pro hodnocení 40% | T57: 42640 | U57: 42642 | V57: 42655 | W57: 42803 | X57: 42835 | Y57: 42835 | Z57: 42837 | AA57: 42837 | AB57: 42843 | AC57: 9:00 -9:50 | AD57: 42843 | AE57: 42849 | AF57: 42857 | AG57: 42872 | AH57: 42857 | AM57: 90 kalendářních dní
B58: 1555 | C58: ČSSZ;ÚP ČR | D58: HLAS_HTS PL_1555 | E58: 646633 | F58: MV- 16472-523/SIK5-2016 | G58: Příjem předběžných nabídek v DNS | H58: P1_Poptavkovy_list_1555-HLAS_HTS.xlsx | I58: 24M | J58: 44 | K58: x | L58: 524079.94 | M58: Celková cena pro hodnocení 60%, hovorné pro hodnocení 40% | T58: 42640 | U58: 42642 | V58: 42655 | W58: 42803 | X58: 42835 | Y58: 42835 | Z58: 42837 | AA58: 42837 | AB58: 42843 | AC58: 10:00 - 10:50 | AD58: 42843 | AE58: 42849 | AF58: 42857 | AG58: 42872 | AH58: 42857 | AM58: 90 kalendářních dní
B59: 1556 | C59: ČSSZ;ÚP ČR | D59: HLAS_HTS PL_1556 | E59: 646634 | F59: MV- 16472-524/SIK5-2016 | G59: Příjem předběžných nabídek v DNS | H59: P1_Poptavkovy_list_1556-HLAS_HTS.xlsx | I59: 24M | J59: 15 | K59: x | L59: 180313.51 | M59: Celková cena pro hodnocení 60%, hovorné pro hodnocení 40% | T59: 42640 | U59: 42642 | V59: 42655 | W59: 42803 | X59: 42835 | Y59: 42835 | Z59: 42837 | AA59: 42837 | AB59: 42843 | AC59: 11:00 - 11:50 | AD59: 42843 | AE59: 42849 | AF59: 42857 | AG59: 42872 | AH59: 42857 | AM59: 90 kalendářních dní
B60: 1557 | C60: ČSSZ;ÚP ČR | D60: HLAS_HTS PL_1557 | E60: 646635 | F60: MV- 16472-525/SIK5-2016 | G60: Příjem předběžných nabídek v DNS | H60: P1_Poptavkovy_list_1557-HLAS_HTS.xlsx | I60: 24M | J60: 12 | K60: x | L60: 142924.18 | M60: Celková cena pro hodnocení 60%, hovorné pro hodnocení 40% | T60: 42640 | U60: 42642 | V60: 42655 | W60: 42803 | X60: 42835 | Y60: 42835 | Z60: 42837 | AA60: 42837 | AB60: 42843 | AC60: 13:00 - 13:50 | AD60: 42843 | AE60: 42849 | AF60: 42857 | AG60: 42872 | AH60: 42857 | AM60: 90 kalendářních dní
B61: 1558 | C61: ČMI MPO;SEI | D61: HLAS_HTS PL_1558 | E61: 646636 | F61: MV- 16472-526/SIK5-2016 | G61: Příjem předběžných nabídek v DNS | H61: P1_Poptavkovy_list_1558-HLAS_HTS.xlsx | I61: 24M | J61: 4 | K61: x | L61: 47795.04 | M61: Celková cena pro hodnocení 60%, hovorné pro hodnocení 40% | T61: 42640 | U61: 42642 | V61: 42655 | W61: 42803 | X61: 42835 | Y61: 42835 | Z61: 42837 | AA61: 42837 | AB61: 42843 | AC61: 14:00 - 14:50 | AD61: 42843 | AE61: 42849 | AF61: 42857 | AG61: 42872 | AH61: 42857 | AM61: 90 kalendářních dní
...

Sheet HARMG_PZ_DATA_IV
A1: Soutěžní kolo PZ | B1: Číslo | C1: P1_Poptavkovy_list_Pověřující zadavatelé | D1: Název výzvy (dle F9) | E1: Evidenční číslo zakázky: | F1: Vaše č. jednací (Číslo objednávky) | G1: Fáze zadávacího řízení | H1: Název Poptávkového listu | I1: Doba trvání smlouvy | J1: Požadované datum zřízení služby | K1: Počet služeb v PL | L1: PL zadán dne | M1: Celková maximální přípustná cena pro hodnocení | N1: Hodnotící kritérium | O1: Datum odeslání F9 z DNS | P1: Datum uveřejnění (VVZ) | Q1: Podání předběžných nabídek | R1: Zveřejnění výzev | S1: Podání nabídek | T1: Otevření a posouzení nabídek | U1: Vyhodnocení nabídek | V1: Odeslání výzvy do EA s přesnými termíny | W1: Zahájení EA | X1: Čas zahájení - dokončení EA | Y1: Rozhodnutí o nejvhodnější nabídce | Z1: Odevzdání finálních nabídek (PL) | AA1: Komise a rozhodnutí o výběru nejvhodnější nabídky | AB1: Lhůta pro námitky | AC1: Datum odeslání Informace k vyplnění smlouvy z DNS/ Datum odeslání Výzvy k uzavření smlouvy | AD1: Vítěz uchazeč | AE1: Č.j.: Smlouvy | AF1: Podpis smlouvy / Oznámení o uzavření smlouvy | AG1: Povinnosti Centrálního zadavatele | AH1: Migrace (Max. doba zavedení služby)
A2: I. s.k. | B2: 2142 | C2: MV | D2: DATA_ETHERNET PL_2142 | E2: 641388 | F2: MV-116298-1428/SIK5-2013 | G2: Zrušeno | H2: P1_Poptavkovy_list_2142-DATA_ETHERNET.xlsx | I2: 36M | J2: 42856 | K2: 1 | M2: 427500 | N2: Nejnižší nabídková cena | O2: 42633 | P2: 42633 | Q2: 42647 | R2: 42661 | S2: 42692 | T2: 42692 | U2: x | V2: x | W2: x | X2: x | Y2: x | Z2: x | AA2: 42712 | AB2: 42727 | AC2: x | AD2: x | AE2: x | AF2: x | AG2: 42737 | AH2: x
B3: 2143 | C3: GIBS | D3: DATA_ETHERNET PL_2143 | E3: 641390 | F3: MV-116298-1429/SIK5-2013 | G3: Zadáno | H3: P1_Poptavkovy_list_2143-DATA_ETHERNET.xlsx | I3: 36M | J3: 42736 | K3: 1 | M3: 288000 | N3: Nejnižší nabídková cena | O3: 42633 | P3: 42633 | Q3: 42647 | R3: 42661 | S3: 42692 | T3: 42692 | U3: 42702 | V3: 42703 | W3: 42706 | X3: 9:00 -9:50 | Y3: 42706 | Z3: 42712 | AA3: 42710 | AB3: 42725 | AC3: 06.12.2016/13.12.2016 | AD3: T-Mobile Czech Republic a.s. | AE3: MV 113410-1601/SIK5 2014 | AF3: 30.12.2016/2.1.2017 | AG3: 42737 | AH3: 90 kalendářních dnů od podpisu smlouvy
B4: 2144 | C4: MV | D4: DATA_ETHERNET PL_2144 | E4: 646146 | F4: MV-116298-1468/SIK5-2013 | G4: Zadáno | H4: P1_Poptavkovy_list_2144-DATA_ETHERNET.xlsx | I4: 36M | J4: 42767 | K4: 1 | M4: 324000 | N4: Nejnižší nabídková cena | O4: 42633 | P4: 42633 | Q4: 42647 | R4: 42661 | S4: 42692 | T4: 42692 | U4: 42702 | V4: 42703 | W4: 42706 | X4: 10:00 - 10:50 | Y4: 42706 | Z4: 42712 | AA4: 42710 | AB4: 42725 | AC4: 06.12.2016/16.12.2016 | AD4: ha-vel internet s.r.o. | AE4: MV 113410-1604/SIK5 2014 | AF4: 30.12.2016/12.1.2017 | AG4: 42752 | AH4: 90 kalendářních dnů od podpisu smlouvy
B5: 2145 | C5: MV | D5: DATA_ETHERNET PL_2145 | E5: 646147 | F5: MV-116298-1469/SIK5-2013 | G5: Zadáno | H5: P1_Poptavkovy_list_2145-DATA_ETHERNET.xlsx | I5: 36M | J5: 42767 | K5: 3 | M5: 813600 | N5: Nejnižší nabídková cena | O5: 42633 | P5: 42633 | Q5: 42647 | R5: 42661 | S5: 42692 | T5: 42692 | U5: 42702 | V5: 42703 | W5: 42706 | X5: 11:00 - 11:50 | Y5: 42706 | Z5: 42712 | AA5: 43082 | AB5: 42731 | AC5: 13.12.2016/5.1.2017 | AD5: T-Mobile Czech Republic a.s. | AE5: MV- 113410-1607/SIK5-2014 | AF5: 20.01.2017/31.1.2017 | AG5: 42768 | AH5: 90 kalendářních dnů od podpisu smlouvy
B6: 2146 | C6: MV | D6: DATA_ETHERNET PL_2146 | E6: 646148 | F6: MV-116298-1470/SIK5-2013 | G6: Zadáno | H6: P1_Poptavkovy_list_2146-DATA_ETHERNET.xlsx | I6: 36M | J6: 42767 | K6: 2 | M6: 2025000 | N6: Nejnižší nabídková cena | O6: 42633 | P6: 42633 | Q6: 42647 | R6: 42661 | S6: 42692 | T6: 42692 | U6: 42697 | V6: 42697 | W6: 42702 | X6: 9:00 -9:50 | Y6: 42702 | Z6: 42706 | AA6: 29.11.2016 /7.12.2016 | AB6: 42726 | AC6: 29.11.2016/13.12.2016 | AD6: O2 Czech Republic a.s | AE6: MV 113410-1602/SIK5 2014 | AF6: 16.1.2017/31.1.2017 | AG6: 42766 | AH6: 90 kalendářních dnů od podpisu smlouvy
B7: 2147 | C7: KŘP C; ZZMV | D7: DATA_ETHERNET PL_2147 | E7: 646149 | F7: MV-116298-1471/SIK5-2013 | G7: Zadáno | H7: P1_Poptavkovy_list_2147-DATA_ETHERNET.xlsx | I7: 36M | J7: 42767 | K7: 2 | M7: 620325 | N7: Nejnižší nabídková cena | O7: 42633 | P7: 42633 | Q7: 42647 | R7: 42661 | S7: 42692 | T7: 42692 | U7: 42702 | V7: 42703 | W7: 42706 | X7: 13:00 - 13:50 | Y7: 42706 | Z7: 42712 | AA7: 42710 | AB7: 42725 | AC7: 06.12.2016/13.12.2016 | AD7: T-Mobile Czech Republic a.s. | AE7: MV 113410-1601/SIK5 2014 | AF7: 30.12.2016/2.1.2017 | AG7: 42737 | AH7: 90 kalendářních dnů od podpisu smlouvy
B8: 2148 | C8: MV | D8: DATA_ETHERNET PL_2148 | E8: 646150 | F8: MV-116298-1472/SIK5-2013 | G8: Zadáno | H8: P1_Poptavkovy_list_2148-DATA_ETHERNET.xlsx | I8: 36M | J8: 42767 | K8: 1 | M8: 450000 | N8: Nejnižší nabídková cena | O8: 42633 | P8: 42633 | Q8: 42647 | R8: 42661 | S8: 42692 | T8: 42692 | U8: 42697 | V8: 42697 | W8: 42702 | X8: 10:00 - 10:50 | Y8: 42702 | Z8: 42706 | AA8: 42706 | AB8: 42723 | AC8: 02.12.2016/16.12.2016 | AD8: ha-vel internet s.r.o. | AE8: MV 113410-1603/SIK5 2014 | AF8: 30.12.2016/12.1.2017 | AG8: 42752 | AH8: 90 kalendářních dnů od podpisu smlouvy
B9: 2149 | C9: MV | D9: DATA_ETHERNET PL_2149 | E9: 641391 | F9: MV-116298-1431/SIK5-2013 | G9: Zadáno | H9: P1_Poptavkovy_list_2149-DATA_ETHERNET.xlsx | I9: 36M | J9: 42736 | K9: 1 | M9: 459360 | N9: Nejnižší nabídková cena | O9: 42633 | P9: 42633 | Q9: 42647 | R9: 42661 | S9: 42692 | T9: 42692 | U9: 42697 | V9: 42697 | W9: 42702 | X9: 11:00 - 11:50 | Y9: 42702 | Z9: 42706 | AA9: 42703 | AB9: 42718 | AC9: 29.11.2016/13.12.2016 | AD9: O2 Czech Republic a.s | AE9: MV 113410-1602/SIK5 2014 | AF9: 16.1.2017/31.1.2017 | AG9: 42766 | AH9: 90 kalendářních dnů od podpisu smlouvy
B10: 2150 | C10: MV | D10: DATA_ETHERNET PL_2150 | E10: 641395 | F10: MV-116298-1432/SIK5-2013 | G10: Zadáno | H10: P1_Poptavkovy_list_2150-DATA_ETHERNET.xlsx | I10: 36M | J10: 42736 | K10: 1 | M10: 396000 | N10: Nejnižší nabídková cena | O10: 42633 | P10: 42633 | Q10: 42647 | R10: 42661 | S10: 42692 | T10: 42692 | U10: 42697 | V10: 42697 | W10: 42702 | X10: 13:00 - 13:50 | Y10: 42702 | Z10: 42706 | AA10: 42703 | AB10: 42718 | AC10: 29.11.2016/13.12.2016 | AD10: O2 Czech Republic a.s | AE10: MV 113410-1602/SIK5 2014 | AF10: 16.1.2017/31.1.2017 | AG10: 42766 | AH10: 90 kalendářních dnů od podpisu smlouvy
B11: 2151 | C11: MV | D11: DATA_ETHERNET PL_2151 | E11: 641392 | F11: MV-116298-1433/SIK5-2013 | G11: Zadáno | H11: P1_Poptavkovy_list_2151-DATA_ETHERNET.xlsx | I11: 36M | J11: 42736 | K11: 1 | M11: 610596 | N11: Nejnižší nabídková cena | O11: 42633 | P11: 42633 | Q11: 42647 | R11: 42661 | S11: 42692 | T11: 42692 | U11: 42697 | V11: 42697 | W11: 42702 | X11: 14:00 - 14:50 | Y11: 42702 | Z11: 42706 | AA11: 42703 | AB11: 42718 | AC11: 29.11.2016/13.12.2016 | AD11: O2 Czech Republic a.s | AE11: MV 113410-1602/SIK5 2014 | AF11: 16.1.2017/31.1.2017 | AG11: 42766 | AH11: 90 kalendářních dnů od podpisu smlouvy
B12: 2152 | C12: MV | D12: DATA_ETHERNET PL_2152 | E12: 641393 | F12: MV-116298-1434/SIK5-2013 | G12: Zadáno | H12: P1_Poptavkovy_list_2152-DATA_ETHERNET.xlsx | I12: 36M | J12: 42736 | K12: 1 | M12: 352440 | N12: Nejnižší nabídková cena | O12: 42633 | P12: 42633 | Q12: 42647 | R12: 42661 | S12: 42692 | T12: 42692 | U12: 42697 | V12: 42697 | W12: 42703 | X12: 9:00 -9:50 | Y12: 42703 | Z12: 42709 | AA12: 42706 | AB12: 42723 | AC12: 02.12.2016/16.12.2016 | AD12: ha-vel internet s.r.o. | AE12: MV 113410-1603/SIK5 2014 | AF12: 30.12.2016/12.1.2017 | AG12: 42752 | AH12: 90 kalendářních dnů od podpisu smlouvy
B13: 2153 | C13: MV | D13: DATA_ETHERNET PL_2153 | E13: 641394 | F13: MV-116298-1435/SIK5-2013 | G13: Zrušeno | H13: P1_Poptavkovy_list_2153-DATA_ETHERNET.xlsx | I13: 36M | J13: 42736 | K13: 1 | M13: 333000 | N13: Nejnižší nabídková cena | O13: 42633 | P13: 42633 | Q13: 42647 | R13: 42661 | S13: 42692 | T13: 42692 | U13: 42697 | V13: 42697 | W13: 42703 | X13: 10:00 - 10:50 | Y13: 42703 | Z13: 42709 | AA13: 42703 | AB13: 42718 | AC13: 29.11.2016/7.12.2016 | AD13: x | AE13: x | AF13: Oznámení o zrušení 15.12.2016/T:30.12.2016 | AG13: 42737 | AH13: x
B14: 56 | C14: MV | D14: DATA_ETHERNET PL_56 | E14: 641386 | F14: MV-116298-1426/SIK5-2013 | G14: Zadáno | H14: P1_Poptavkovy_list_56-DATA_ETHERNET.xlsx | I14: 36M | J14: 42767 | K14: 2 | M14: 770436 | N14: Nejnižší nabídková cena | O14: 42633 | P14: 42633 | Q14: 42647 | R14: 42661 | S14: 42706 | T14: 42706 | U14: 42709 | V14: 42711 | W14: 42716 | X14: 9:00 -9:50 | Y14: 42716 | Z14: 42720 | AA14: 42725 | AB14: 42740 | AC14: 21.12.2016/9.1.2017 | AD14: ha-vel internet s.r.o. | AE14: MV- 113410-1605/SIK5-2014 | AF14: 26.1.2017/1.2.2017 | AG14: 42769 | AH14: 90 kalendářních dnů od podpisu smlouvy
B15: 73 | C15: KŘP P | D15: DATA_ETHERNET PL_73 | E15: 641387 | F15: MV-116298-1427/SIK5-2013 | G15: Zadáno | H15: P1_Poptavkovy_list_73-DATA_ETHERNET.xlsx | I15: 36M | J15: 42767 | K15: 5 | M15: 1137600 | N15: Nejnižší nabídková cena | O15: 42633 | P15: 42633 | Q15: 42647 | R15: 42661 | S15: 42706 | T15: 42706 | U15: 42709 | V15: 42711 | W15: 42716 | X15: 10:00 - 10:50 | Y15: 42716 | Z15: 42720 | AA15: 42725 | AB15: 42740 | AC15: 21.12.2016/5.1.2017 | AD15: T-Mobile Czech Republic a.s. | AE15: MV- 113410-1607/SIK5-2014 | AF15: 20.01.2017/31.1.2017 | AG15: 42768 | AH15: 90 kalendářních dnů od podpisu smlouvy
B16: 1 | C16: MV | D16: DATA_VPN PL_1 | E16: 641359 | F16: MV-116298-1406/SIK5-2013 | G16: Hodnocení | H16: P1_Poptavkovy_list_1-DATA_VPN.xlsx | I16: 36M | J16: 42767 | K16: 29 | M16: 8446091.9 | N16: Nejnižší nabídková cena | O16: 42633 | P16: 42633 | Q16: 42647 | R16: 42661 | S16: 42706 | T16: 42706 | U16: 42709 | V16: 42711 | W16: 42718 | X16: 13:00 - 13:50 | Y16: 42718 | Z16: 42724 | AA16: 42732 | AB16: 42747 | AC16: 28.12.2016/9.1.2017 | AD16: ha-vel internet s.r.o. | AE16: MV-246-102/SIK5-2017 | AH16: 90 pracovních dnů od podpisu smlouvy
B17: 11 | C17: MV | D17: DATA_VPN PL_11 | E17: 641360 | F17: MV-116298-1407/SIK5-2013 | G17: Zadáno | H17: P1_Poptavkovy_list_11-DATA_VPN.xlsx | I17: 36M | J17: 42767 | K17: 8 | M17: 2012546.9 | N17: Nejnižší nabídková cena | O17: 42633 | P17: 42633 | Q17: 42647 | R17: 42661 | S17: 42706 | T17: 42706 | U17: 42709 | V17: 42711 | W17: 42716 | X17: 11:00 - 11:50 | Y17: 42716 | Z17: 42720 | AA17: 42725 | AB17: 42740 | AC17: 21.12.2016/9.1.2017 | AD17: ha-vel internet s.r.o. | AE17: MV-113410-1720/SIK5-2014 | AF17: 26.1.2017/1.2.2017 | AG17: 42769 | AH17: 90 pracovních dnů od podpisu smlouvy
B18: 13 | C18: MV | D18: DATA_VPN PL_13 | E18: 641362 | F18: MV-116298-1408/SIK5-2013 | G18: Zadáno | H18: P1_Poptavkovy_list_13-DATA_VPN.xlsx | I18: 36M | J18: 42767 | K18: 9 | M18: 2264112 | N18: Nejnižší nabídková cena | O18: 42633 | P18: 42633 | Q18: 42647 | R18: 42661 | S18: 42706 | T18: 42706 | U18: 42709 | V18: 42711 | W18: 42716 | X18: 13:00 - 13:50 | Y18: 42716 | Z18: 42720 | AA18: 42725 | AB18: 42740 | AC18: 21.12.2016/9.1.2017 | AD18: ha-vel internet s.r.o. | AE18: MV-113410-1720/SIK5-2014 | AF18: 26.1.2017/1.2.2017 | AG18: 42769 | AH18: 90 pracovních dnů od podpisu smlouvy
B19: 16 | C19: MV | D19: DATA_VPN PL_16 | E19: 641363 | F19: MV-116298-1409/SIK5-2013 | G19: Zadáno | H19: P1_Poptavkovy_list_16-DATA_VPN.xlsx | I19: 36M | J19: 42767 | K19: 20 | M19: 4869792 | N19: Nejnižší nabídková cena | O19: 42633 | P19: 42633 | Q19: 42647 | R19: 42661 | S19: 42706 | T19: 42706 | U19: 42709 | V19: 42711 | W19: 42718 | X19: 15:00 - 15:50 | Y19: 42718 | Z19: 42724 | AA19: 42732 | AB19: 42747 | AC19: 28.12.2016/9.1.2017 | AD19: ha-vel internet s.r.o. | AE19: MV-113410-1720/SIK5-2014 | AF19: 26.1.2017/1.2.2017 | AG19: 42769 | AH19: 90 pracovních dnů od podpisu smlouvy
B20: 19 | C20: MV | D20: DATA_VPN PL_19 | E20: 641364 | F20: MV-116298-1410/SIK5-2013 | G20: Zadáno | H20: P1_Poptavkovy_list_19-DATA_VPN.xlsx | I20: 36M | J20: 42767 | K20: 9 | M20: 2264114.9 | N20: Nejnižší nabídková cena | O20: 42633 | P20: 42633 | Q20: 42647 | R20: 42661 | S20: 42706 | T20: 42706 | U20: 42709 | V20: 42711 | W20: 42719 | X20: 9:00 -9:50 | Y20: 42719 | Z20: 42725 | AA20: 42725 | AB20: 42740 | AC20: 21.12.2016/9.1.2017 | AD20: ha-vel internet s.r.o. | AE20: MV-113410-1720/SIK5-2014 | AF20: 26.1.2017/1.2.2017 | AG20: 42769 | AH20: 90 pracovních dnů od podpisu smlouvy
B21: 22 | C21: MV | D21: DATA_VPN PL_22 | E21: 641365 | F21: MV-116298-1411/SIK5-2013 | G21: Zadáno | H21: P1_Poptavkovy_list_22-DATA_VPN.xlsx | I21: 36M | J21: 42767 | K21: 27 | M21: 7102542 | N21: Nejnižší nabídková cena | O21: 42633 | P21: 42633 | Q21: 42647 | R21: 42661 | S21: 42706 | T21: 42706 | U21: 42709 | V21: 42711 | W21: 42716 | X21: 14:00 - 14:50 | Y21: 42716 | Z21: 42720 | AA21: 42725 | AB21: 42740 | AC21: 21.12.2016/9.1.2017 | AD21: ha-vel internet s.r.o. | AE21: MV-113410-1720/SIK5-2014 | AF21: 26.1.2017/1.2.2017 | AG21: 42769 | AH21: 90 pracovních dnů od podpisu smlouvy
B22: 25 | C22: MV | D22: DATA_VPN PL_25 | E22: 641367 | F22: MV-116298-1412/SIK5-2013 | G22: Zadáno | H22: P1_Poptavkovy_list_25-DATA_VPN.xlsx | I22: 36M | J22: 42767 | K22: 16 | M22: 4128496.7 | N22: Nejnižší nabídková cena | O22: 42633 | P22: 42633 | Q22: 42647 | R22: 42661 | S22: 42706 | T22: 42706 | U22: 42709 | V22: 42711 | W22: 42719 | X22: 10:00 - 10:50 | Y22: 42719 | Z22: 42725 | AA22: 42725 | AB22: 42740 | AC22: 21.12.2016/9.1.2017 | AD22: ha-vel internet s.r.o. | AE22: MV-113410-1720/SIK5-2014 | AF22: 26.1.2017/1.2.2017 | AG22: 42769 | AH22: 90 pracovních dnů od podpisu smlouvy
B23: 27 | C23: MV | D23: DATA_VPN PL_27 | E23: 641378 | F23: MV-116298-1413/SIK5-2013 | G23: Zadáno | H23: P1_Poptavkovy_list_27-DATA_VPN.xlsx | I23: 36M | J23: 42767 | K23: 19 | M23: 4600229.8 | N23: Nejnižší nabídková cena | O23: 42633 | P23: 42633 | Q23: 42647 | R23: 42661 | S23: 42706 | T23: 42706 | U23: 42709 | V23: 42711 | W23: 42719 | X23: 11:00 - 11:50 | Y23: 42719 | Z23: 42725 | AA23: 42725 | AB23: 42740 | AC23: 21.12.2016/9.1.2017 | AD23: ha-vel internet s.r.o. | AE23: MV-113410-1720/SIK5-2014 | AF23: 26.1.2017/1.2.2017 | AG23: 42769 | AH23: 90 pracovních dnů od podpisu smlouvy
B24: 29 | C24: MV | D24: DATA_VPN PL_29 | E24: 641368 | F24: MV-116298-1414/SIK5-2013 | G24: Zadáno | H24: P1_Poptavkovy_list_29-DATA_VPN.xlsx | I24: 36M | J24: 42767 | K24: 16 | M24: 4149627.8 | N24: Nejnižší nabídková cena | O24: 42633 | P24: 42633 | Q24: 42647 | R24: 42661 | S24: 42706 | T24: 42706 | U24: 42709 | V24: 42711 | W24: 42716 | X24: 15:00 - 15:50 | Y24: 42716 | Z24: 42720 | AA24: 42725 | AB24: 42740 | AC24: 21.12.2016/9.1.2017 | AD24: ha-vel internet s.r.o. | AE24: MV-113410-1720/SIK5-2014 | AF24: 26.1.2017/1.2.2017 | AG24: 42769 | AH24: 90 pracovních dnů od podpisu smlouvy
B25: 33 | C25: MV | D25: DATA_VPN PL_33 | E25: 641379 | F25: MV-116298-1415/SIK5-2013 | G25: Zadáno | H25: P1_Poptavkovy_list_33-DATA_VPN.xlsx | I25: 36M | J25: 42767 | K25: 26 | M25: 6828160.9 | N25: Nejnižší nabídková cena | O25: 42633 | P25: 42633 | Q25: 42647 | R25: 42661 | S25: 42706 | T25: 42706 | U25: 42709 | V25: 42711 | W25: 42717 | X25: 9:00 -9:50 | Y25: 42717 | Z25: 42723 | AA25: 42725 | AB25: 42740 | AC25: 21.12.2016/9.1.2017 | AD25: ha-vel internet s.r.o. | AE25: MV-113410-1720/SIK5-2014 | AF25: 26.1.2017/1.2.2017 | AG25: 42769 | AH25: 90 pracovních dnů od podpisu smlouvy
B26: 36 | C26: MV | D26: DATA_VPN PL_36 | E26: 641369 | F26: MV-116298-1416/SIK5-2013 | G26: Zadáno | H26: P1_Poptavkovy_list_36-DATA_VPN.xlsx | I26: 36M | J26: 42767 | K26: 17 | M26: 4380058.9 | N26: Nejnižší nabídková cena | O26: 42633 | P26: 42633 | Q26: 42647 | R26: 42661 | S26: 42706 | T26: 42706 | U26: 42709 | V26: 42711 | W26: 42717 | X26: 10:00 - 10:50 | Y26: 42717 | Z26: 42723 | AA26: 42725 | AB26: 42740 | AC26: 21.12.2016/9.1.2017 | AD26: ha-vel internet s.r.o. | AE26: MV-113410-1720/SIK5-2014 | AF26: 26.1.2017/1.2.2017 | AG26: 42769 | AH26: 90 pracovních dnů od podpisu smlouvy
B27: 39 | C27: MV | D27: DATA_VPN PL_39 | E27: 641370 | F27: MV-116298-1357/SIK5-2013 | G27: Zadáno | H27: P1_Poptavkovy_list_39-DATA_VPN.xlsx | I27: 36M | J27: 42767 | K27: 14 | M27: 3521960.6 | N27: Nejnižší nabídková cena | O27: 42633 | P27: 42633 | Q27: 42647 | R27: 42661 | S27: 42706 | T27: 42706 | U27: 42709 | V27: 42711 | W27: 42717 | X27: 11:00 - 11:50 | Y27: 42717 | Z27: 42723 | AA27: 42725 | AB27: 42740 | AC27: 21.12.2016/9.1.2017 | AD27: ha-vel internet s.r.o. | AE27: MV-113410-1720/SIK5-2014 | AF27: 26.1.2017/1.2.2017 | AG27: 42769 | AH27: 90 pracovních dnů od podpisu smlouvy
B28: 1223 | C28: MPO | D28: DATA_INTERNET-SYM PL_1223 | E28: 646144 | F28: MV-116298-1466/SIK5-2013 | G28: Zrušeno | H28: P1_Poptavkovy_list_1223-DATA_INTERNET-SYM.xlsx | I28: 36M | J28: x | K28: 1 | M28: 79200 | N28: Nejnižší nabídková cena | O28: 42633 | P28: 42633 | Q28: 42647 | R28: 42661 | S28: 42706 | T28: 42706 | U28: 42706 | V28: x | W28: x | X28: x | Y28: x | Z28: x | AA28: 42712 | AB28: 42727 | AC28: x | AD28: x | AE28: x | AF28: x | AG28: 42737 | AH28: x
B29: 1321 | C29: KŘP J | D29: DATA_INTERNET-ASYM PL_1321 | E29: 646145 | F29: MV-116298-1467/SIK5-2013 | G29: Zrušeno | H29: P1_Poptavkovy_list_1321-DATA_INTERNET-ASYM.xlsx | I29: 24M | J29: x | K29: 1 | M29: 12000 | N29: Nejnižší nabídková cena | O29: 42633 | P29: 42633 | Q29: 42647 | R29: 42661 | S29: 42706 | T29: 42706 | U29: 42709 | V29: x | W29: x | X29: x | Y29: x | Z29: x | AA29: 42712 | AB29: 42727 | AC29: x | AD29: x | AE29: x | AF29: x | AG29: 42737 | AH29: x
A30: II. s.k. | B30: 2102 | C30: MV | D30: DATA_ETHERNET PL_2102 | E30: 646813 | F30: MV-116298-1537/SIK5-2013 | G30: Hodnocení | H30: P1_Poptavkovy_list_2102-DATA_ETHERNET.xlsx | I30: 36M | J30: 42887 | K30: 1 | M30: 450000 | N30: Nejnižší nabídková cena | O30: 42642 | P30: 42643 | Q30: 42660 | R30: 42667 | S30: 42698 | T30: 42698 | U30: 42699 | V30: 42775 | W30: 42781 | X30: 9:00 -9:50 | Y30: 42781 | Z30: 42787 | AA30: 42783 | AB30: 42800 | AC30: 42783 | AD30: Dial Telecom, a.s. | AE30: MV-246-135/SIK5-2017 | AH30: 90 kalendářních dnů od podpisu smlouvy
B31: 2106 | C31: MV | D31: DATA_ETHERNET PL_2106 | E31: 680072 | F31: MV-116298-1538/SIK5-2013 | G31: Zadáno | H31: P1_Poptavkovy_list_2106-DATA_ETHERNET.xlsx | I31: 36M | J31: 42736 | K31: 3 | M31: 961200 | N31: Nejnižší nabídková cena | O31: 42642 | P31: 42643 | Q31: 42660 | R31: 42667 | S31: 42698 | T31: 42698 | U31: 42699 | V31: 42702 | W31: 42705 | X31: 9:00 -9:50 | Y31: 42705 | Z31: 42711 | AA31: 42710 | AB31: 42725 | AC31: 06.12.2016/16.12.2016 | AD31: ha-vel internet s.r.o. | AE31: MV 113410-1604/SIK5 2014 | AF31: 30.12.2016/12.1.2017 | AG31: 42752 | AH31: 90 kalendářních dnů od podpisu smlouvy
B32: 2112 | C32: MV | D32: DATA_ETHERNET PL_2112 | E32: 646821 | F32: MV-116298-1541/SIK5-2013 | G32: Zadáno | H32: P1_Poptavkovy_list_2112-DATA_ETHERNET.xlsx | I32: 36M | J32: 42736 | K32: 25 | M32: 6114960 | N32: Nejnižší nabídková cena | O32: 42642 | P32: 42643 | Q32: 42660 | R32: 42667 | S32: 42698 | T32: 42698 | U32: 42699 | V32: 42702 | W32: 42705 | X32: 10:00 - 10:50 | Y32: 42705 | Z32: 42711 | AA32: 42710 | AB32: 42725 | AC32: 06.12.2016/16.12.2016 | AD32: ha-vel internet s.r.o. | AE32: MV 113410-1604/SIK5 2014 | AF32: 30.12.2016/12.1.2017 | AG32: 42752 | AH32: 90 kalendářních dnů od podpisu smlouvy
B33: 2115 | C33: MV | D33: DATA_ETHERNET PL_2115 | E33: 646824 | F33: MV-116298-1568/SIK5-2013 | G33: Zadáno | H33: P1_Poptavkovy_list_2115-DATA_ETHERNET.xlsx | I33: 36M | J33: 42736 | K33: 12 | M33: 3369600 | N33: Nejnižší nabídková cena | O33: 42642 | P33: 42643 | Q33: 42660 | R33: 42667 | S33: 42698 | T33: 42698 | U33: 42699 | V33: 42702 | W33: 42705 | X33: 11:00 - 11:50 | Y33: 42705 | Z33: 42711 | AA33: 42710 | AB33: 42725 | AC33: 06.12.2016/16.12.2016 | AD33: ha-vel internet s.r.o. | AE33: MV 113410-1604/SIK5 2014 | AF33: 30.12.2016/12.1.2017 | AG33: 42752 | AH33: 90 kalendářních dnů od podpisu smlouvy
B34: 2117 | C34: MV | D34: DATA_ETHERNET PL_2117 | E34: 646826 | F34: MV-116298-1544/SIK5-2013 | G34: Zadáno | H34: P1_Poptavkovy_list_2117-DATA_ETHERNET.xlsx | I34: 36M | J34: 42736 | K34: 1 | M34: 165600 | N34: Nejnižší nabídková cena | O34: 42642 | P34: 42643 | Q34: 42660 | R34: 42667 | S34: 42698 | T34: 42698 | U34: 42699 | V34: 42702 | W34: 42705 | X34: 13:00 - 13:50 | Y34: 42705 | Z34: 42711 | AA34: 42710 | AB34: 42725 | AC34: 06.12.2016/16.12.2016 | AD34: ha-vel internet s.r.o. | AE34: MV 113410-1604/SIK5 2014 | AF34: 30.12.2016/12.1.2017 | AG34: 42752 | AH34: 90 kalendářních dnů od podpisu smlouvy
B35: 2119 | C35: MV | D35: DATA_ETHERNET PL_2119 | E35: 646828 | F35: MV-116298-1569/SIK5-2013 | G35: Zadáno | H35: P1_Poptavkovy_list_2119-DATA_ETHERNET.xlsx | I35: 36M | J35: 42736 | K35: 1 | M35: 252000 | N35: Nejnižší nabídková cena | O35: 42642 | P35: 42643 | Q35: 42660 | R35: 42667 | S35: 42698 | T35: 42698 | U35: 42699 | V35: 42702 | W35: 42705 | X35: 14:00 - 14:50 | Y35: 42705 | Z35: 42711 | AA35: 42710 | AB35: 42725 | AC35: 06.12.2016/13.12.2016 | AD35: T-Mobile Czech Republic a.s. | AE35: MV 113410-1601/SIK5 2014 | AF35: 30.12.2016/2.1.2017 | AG35: 42737 | AH35: 90 kalendářních dnů od podpisu smlouvy
B36: 2123 | C36: KŘP U; MV | D36: DATA_ETHERNET PL_2123 | E36: 646832 | F36: MV-116298-1548/SIK5-2013 | G36: Zadáno | H36: P1_Poptavkovy_list_2123-DATA_ETHERNET.xlsx | I36: 36M | J36: 42736 | K36: 4 | M36: 867600 | N36: Nejnižší nabídková cena | O36: 42642 | P36: 42643 | Q36: 42660 | R36: 42667 | S36: 42698 | T36: 42698 | U36: 42699 | V36: 42702 | W36: 42705 | X36: 15:00 - 15:50 | Y36: 42705 | Z36: 42711 | AA36: 42710 | AB36: 42725 | AC36: 06.12.2016/13.12.2016 | AD36: T-Mobile Czech Republic a.s. | AE36: MV 113410-1601/SIK5 2014 | AF36: 30.12.2016/2.1.2017 | AG36: 42737 | AH36: 90 kalendářních dnů od podpisu smlouvy
B37: 2127 | C37: MV | D37: DATA_ETHERNET PL_2127 | E37: 646835 | F37: MV-116298-1573/SIK5-2013 | G37: Zadáno | H37: P1_Poptavkovy_list_2127-DATA_ETHERNET.xlsx | I37: 36M | J37: 42736 | K37: 2 | M37: 476784 | N37: Nejnižší nabídková cena | O37: 42642 | P37: 42643 | Q37: 42660 | R37: 42667 | S37: 42698 | T37: 42698 | U37: 42699 | V37: 42702 | W37: 42706 | X37: 14:00 - 14:50 | Y37: 42706 | Z37: 42712 | AA37: 42710 | AB37: 42725 | AC37: 06.12.2016/13.12.2016 | AD37: T-Mobile Czech Republic a.s. | AE37: MV 113410-1601/SIK5 2014 | AF37: 30.12.2016/2.1.2017 | AG37: 42737 | AH37: 90 kalendářních dnů od podpisu smlouvy
B38: 2133 | C38: MV | D38: DATA_ETHERNET PL_2133 | E38: 646840 | F38: MV-116298-1552/SIK5-2013 | G38: Zadáno | H38: P1_Poptavkovy_list_2133-DATA_ETHERNET.xlsx | I38: 36M | J38: 42736 | K38: 10 | M38: 2244240 | N38: Nejnižší nabídková cena | O38: 42642 | P38: 42643 | Q38: 42660 | R38: 42667 | S38: 42698 | T38: 42698 | U38: 42699 | V38: 42702 | W38: 42706 | X38: 15:00 - 15:50 | Y38: 42706 | Z38: 42712 | AA38: 42710 | AB38: 42725 | AC38: 06.12.2016/16.12.2016 | AD38: ha-vel internet s.r.o. | AE38: MV 113410-1604/SIK5 2014 | AF38: 30.12.2016/12.1.2017 | AG38: 42752 | AH38: 90 kalendářních dnů od podpisu smlouvy
B39: 2136 | C39: GIBS | D39: DATA_ETHERNET PL_2136 | E39: 646843 | F39: MV-116298-1555/SIK5-2013 | G39: Zadáno | H39: P1_Poptavkovy_list_2136-DATA_ETHERNET.xlsx | I39: 36M | J39: 42736 | K39: 1 | M39: 288000 | N39: Nejnižší nabídková cena | O39: 42642 | P39: 42643 | Q39: 42660 | R39: 42667 | S39: 42698 | T39: 42698 | U39: 42699 | V39: 42702 | W39: 42709 | X39: 9:00 -9:50 | Y39: 42709 | Z39: 42713 | AA39: 42717 | AB39: 42732 | AC39: 13.12.2016/9.1.2017 | AD39: ha-vel internet s.r.o. | AE39: MV- 113410-1605/SIK5-2014 | AF39: 26.1.2017/1.2.2017 | AG39: 42769 | AH39: 90 kalendářních dnů od podpisu smlouvy
B40: 2137 | C40: GIBS | D40: DATA_ETHERNET PL_2137 | E40: 646845 | F40: MV-116298-1556/SIK5-2013 | G40: Zadáno | H40: P1_Poptavkovy_list_2137-DATA_ETHERNET.xlsx | I40: 36M | J40: 42736 | K40: 1 | M40: 288000 | N40: Nejnižší nabídková cena | O40: 42642 | P40: 42643 | Q40: 42660 | R40: 42667 | S40: 42698 | T40: 42698 | U40: 42699 | V40: 42702 | W40: 42709 | X40: 10:00 - 10:50 | Y40: 42709 | Z40: 42713 | AA40: 42717 | AB40: 42732 | AC40: 13.12.2016/9.1.2017 | AD40: ha-vel internet s.r.o. | AE40: MV- 113410-1605/SIK5-2014 | AF40: 26.1.2017/1.2.2017 | AG40: 42769 | AH40: 90 kalendářních dnů od podpisu smlouvy
...
