Workbook

Sheet Celkové
B2: Distribuce podle odběratelů
B3: Odběratel | C3: Respirátor | D3: Roušky | E3: Brýle | F3: Obleky | G3: Rukavice | H3: Štíty | I3: Návleky | J3: Masky | K3: Filtry | L3: Rychlotesty | M3: Odb. sady
B4: Kraje | C4: 4688000 | D4: 38310000 | E4: =769000+[1]rozdělovník!$E$8 -> 869000 | F4: 752500 | G4: =27295000+[2]rozdělovník!$G$8 -> 29295000 | H4: 210340 | I4: =1515000+[3]rozdělovník!$G$8 -> 1595000 | J4: 4950 | K4: 47650 | L4: 1097530 | M4: 91400
B5: MV | C5: 259000 | D5: =960000+[4]rozdělovník!$E$8+3000000 -> 4160000 | E5: 87000 | F5: =23000+[5]rozdělovník!$E$8 -> 25000 | G5: =695000+[2]rozdělovník!$E$8 -> 795000 | H5: 580 | I5: =21000+[3]rozdělovník!$E$8 -> 31000 | J5: 0 | K5: 0 | L5: 0 | M5: 0
B6: MPO | C6: 1385000 | D6: 7691000 | E6: 80000 | F6: 30000 | G6: 3300000 | H6: 20000 | I6: 0 | J6: 0 | K6: 0 | L6: 0 | M6: 0
B7: MZdr | C7: 350000 | D7: 1000000 | E7: 59100 | F7: 76500 | G7: 0 | H7: 0 | I7: 275000 | J7: 0 | K7: 0 | L7: 0 | M7: 0
B8: HZS | C8: 874800 | D8: =4550000+[4]rozdělovník!$C$8 -> 5050000 | E8: 74000 | F8: 146500 | G8: =2755000+[2]rozdělovník!$C$8 -> 3155000 | H8: 3000 | I8: =105000+[3]rozdělovník!$C$8 -> 135000 | J8: 0 | K8: 0 | L8: 0 | M8: 0
B9: PČR | C9: 1317000 | D9: =5450000+[4]rozdělovník!$F$8 -> 6250000 | E9: 80000 | F9: =124000+[5]rozdělovník!$F$8 -> 138000 | G9: =3416000+[2]rozdělovník!$F$8 -> 3916000 | H9: 4000 | I9: =135000+[3]rozdělovník!$F$8 -> 165000 | J9: 0 | K9: 0 | L9: 0 | M9: 0
B10: MF | C10: 26000 | D10: 1370000 | E10: 10000 | F10: 4000 | G10: 450000 | H10: 0 | I10: 1000 | J10: 0 | K10: 0 | L10: 0 | M10: 0
B11: MMR | C11: 0 | D11: 10000 | E11: 0 | F11: 0 | G11: 0 | H11: 0 | I11: 0 | J11: 0 | K11: 0 | L11: 0 | M11: 0
B12: MO | C12: 50000 | D12: 1930000 | E12: 28000 | F12: 24500 | G12: 590000 | H12: 5000 | I12: 22000 | J12: 0 | K12: 0 | L12: 0 | M12: 0
B13: MŠMT | C13: 0 | D13: 250000 | E13: 0 | F13: 0 | G13: 0 | H13: 0 | I13: 0 | J13: 0 | K13: 0 | L13: 0 | M13: 0
B14: MPSV | C14: 12000 | D14: 1250000 | E14: 0 | F14: 10000 | G14: 180000 | H14: 0 | I14: 0 | J14: 0 | K14: 0 | L14: 0 | M14: 0
B15: MSP | C15: 34000 | D15: 1050000 | E15: 12000 | F15: 12000 | G15: 485000 | H15: 2080 | I15: 16000 | J15: 0 | K15: 0 | L15: 0 | M15: 0
B16: Resorty | C16: 0 | D16: 1000000 | E16: 0 | F16: 0 | G16: 0 | H16: 0 | I16: 0 | J16: 0 | K16: 0 | L16: 0 | M16: 0
B17: Celkem | C17: =SUM(C4:C16) -> 8995800 | D17: =SUM(D4:D16) -> 69321000 | E17: =SUM(E4:E16) -> 1299100 | F17: =SUM(F4:F15) -> 1219000 | G17: =SUM(G4:G15) -> 42166000 | H17: =SUM(H4:H15) -> 245000 | I17: =SUM(I4:I15) -> 2240000 | J17: =SUM(J4:J15) -> 4950 | K17: =SUM(K4:K15) -> 47650 | L17: =SUM(L4:L15) -> 1097530 | M17: =SUM(M4:M15) -> 91400
